{"text_format":"1","workbook":"xlsx","n_sheets":5,"sheets":["calculations","calculations2","time evolution","cardioid","nephroid"],"not_rendered":{"charts":10,"images":0,"macros":1,"external_links":0,"defined_names":80,"comments":0,"pivot_tables":0},"unopened":[{"sheet":"cardioid","index":3,"reason":"not_a_worksheet"},{"sheet":"nephroid","index":4,"reason":"not_a_worksheet"}],"bounds":{"document_bytes":16777216,"sheet_cells":100000,"rows_first":2000,"rows_last":500,"rows_between":2000,"halvings":0,"cell_chars":16384,"cell_head_chars":4096},"cells_cut":0,"cells_raw":0,"read":"whole","date_system":"1900"}

{"sheet":"calculations","index":0,"n_rows":245,"n_cols":60,"rows_kept":245,"cut":false,"hidden":false,"merged":[]}
["currentfa",{"$f":"VLOOKUP(1,A7:X237,18,FALSE)","v":2.4190263432641403},"dt",{"$f":"PI()/100","v":3.1415926535897934E-2},null,"ax","TIME",null,null,null,"TANG. ACCELERATION","deltat",{"$f":"0.05","v":0.05},"j",3,345,"current r",{"$f":"(alpha-beta*COS(S6))","v":5.5047594737495045},"r","(alpha-beta*COS(φ))",null,null,"dr/dφ","beta*sin(a7)",null,"d²r/dφ²=beta*cos(φ)",null,64,null,null,"alpha",{"$f":"alpha","v":4},"d²y/dx²=(d²y/dφ² dx/dφ-d²x/dφ² * dy/dφ)/[dx/dφ]^3",null,null,null,null,"currentxn",{"$f":"alpha*(3*COS(currentF)-COS(3*currentF))","v":-11.242656700433574},{"$f":"4*alpha*(SIN(currentF))^3","v":-4.5734252778338425},"curentyn",null,"dx/df",{"$f":"alpha*(-3*SIN(currentF)+3*SIN(3*currentF))","v":-2.0892353976276814},"d²x/dφ²=alpha*(-3*cos(currentf)+9*cos(3*currentf)",{"$f":"alpha*(-3*COS(currentF)+9*COS(3*currentF))","v":28.95545556392597},"current RN",{"$f":"(1+(AR2/AR1)^2)^1.5/d2yd2x","v":-7.9047556155646017},"n",{"$f":"-AR1/AR2","v":-0.13331979708866956},{"$f":"1/SQRT(1+AX1^2)","v":0.9912296583496194},{"$f":"AY1*AX1","v":-0.13215053691944251},null,"currentvxn",{"$f":"v0/SQRT(1+dydxn^2)*BE1","v":-0.39645161075832752},"xprin-currentx",{"$f":"IF(xprinn>currentxn,-1,1)","v":-1},{"$f":"v0^2/ABS(currentrn)","v":1.1385551227262287},{"$f":"BF1*ABS(nxn)*SIGN(rxn-currentxn)","v":1.1285696053121286},{"$f":"BF1*ABS(nyn)*SIGN(ryn-currentyn)","v":-0.15046067078065289}]
["xcurrenta","ycurrenta","alpha",4,null,"ay",null,null,null,null,null,"t",{"$f":"deltat*P1","v":17.25},"F",{"$f":"P1*dt","v":10.838494654884787},null,"current x",{"$f":"beta*R1*COS(pol*S6)","v":1.4549138401367698},"x","beta*r*COS(pol*φ)",null,null,"dx/dφ","beta*(dr/dφ cos(pol*φ)-r*pol*sin(pol*φ))",null,null,null,null,null,null,"beta",{"$f":"beta","v":2},null,"po;",{"$f":"pol","v":2},null,null,null,{"$f":"AM1","v":-11.242656700433574},{"$f":"AN1","v":-4.5734252778338425},null,null,"dy/df",{"$f":"12*alpha*(SIN(currentF))^2*COS(currentF)","v":-15.670856416306675},"d²y/df²=12*alpha*(2*(cos(currentf))^3-(sin(currentf))^2)*sin(currentf))",{"$f":"12*alpha*SIN(currentF)*(2*(COS(currentF))^2-(SIN(currentF))^2)","v":-22.07721742401225},"d2ydx2",{"$f":"((AT2*AR1-AT1*AR2))/AR1^3","v":-54.81567372536707},null,"nn","nxn","nyn",null,"currentvyn",{"$f":"v0*ABS(dydxn)/SQRT(1+dydxn^2)*BE2","v":-2.9736889750488582},"yprin-ypmeta",{"$f":"IF(yprinn>currentyn,-1,1)","v":-1},null,"axn","ayn"]
[{"$f":"VLOOKUP(1,A7:W239,6,FALSE)","v":1.3787212520710816},{"$f":"VLOOKUP(1,A7:X239,7,FALSE)","v":7.2747243252181724},"beta",2,"pol",2,{"$f":"R_current","v":-38.486754029360675},"=R",null,"REMAIN_S",{"$f":"MOD(currentsa,TOTAL_LENGTH)","v":24.88158707669777},"scurrent",{"$f":"v0*M2","v":51.75},null,"currents",{"$f":"v0*t","v":51.75},"currenty",{"$f":"gama*R1*SIN(pol_2*S6)","v":-7.2522963937423084},"y","gama*r*SIN(pol_2*φ)",null,null,"dy/dφ","gama*(dr/dφ*sin(pol_2*φ)+r*pol_2*cos(pol_2*φ))",null,null,null,null,null,null,"gama",{"$f":"gama","v":2},null,"pol_2",{"$f":"pol_2","v":1},null,null,"xprinn",{"$f":"alpha*(3*COS(ftmiondt)-COS(3*ftmiondt))","v":-11.173173609716304},{"$f":"4*alpha*(SIN(ftmiondt))^3","v":-4.1438611568086952},"yprinn",null,"dy/dx",{"$f":"AR2/AR1","v":7.5007614910703078},"d²x/dφ²=alpha*(-3*cos(currentf)+9*cos(3*currentf)",null,null,null,null,"rxn",{"$f":"IF(rrn>rcrn,AZ3,currentxn-nxn*currentrn)","v":-3.4072284922802387},{"$f":"currentxn+currentrn*nxn","v":-19.078084908586909},{"$f":"SQRT(AZ3^2+AZ4^2)","v":19.401695975068794},null,{"$f":"currentvxn","v":-0.39645161075832752},{"$f":"currentvyn","v":-2.9736889750488582},null,null,{"$f":"currentxn","v":-11.242656700433574},{"$f":"currentyn","v":-4.5734252778338425}]
[{"$f":"xcurrenta","v":1.3787212520710816},{"$f":"ycurrenta","v":7.2747243252181724},"gama",2,"pol2",1,{"$f":"AF10/AF9","v":0.29528284747059369},"dy/dx",null,{"$f":"INT(K4)","v":-1},{"$f":"currentsa/TOTAL_LENGTH","v":-0.67802688604228234},null,"currentsa",{"$f":"v0*t+1/2*epitaxynsh*t^2","v":-52.396874999999994},"currentdy/dx",{"$f":"U5","v":0.29532830975652635},"d²r/dt²","beta*cos(φ)",null,"d²x/dφ²=beta*(d²r/dφ²cos(pol*φ)-2*pol*dr/dφ*sin(pol*φ)-pol²*r*cos(pol*φ))",null,null,null,null,null,null,null,null,"d²y/dx²=(d²y/dφ² dx/dφ-d²x/dφ²*dy/dφ)/[dx/dφ]^3",null,null,null,null,null,null,"d²x/dφ²=alpha*(-3*cos(currentf)+9*cos(3*currentf)",null,null,null,null,null,null,null,"dx/df=alpha*(-3*SIN(currentF)+3*SIN(3*currentF))",null,null,null,null,null,"ryn",{"$f":"IF(rrn>rcrn,AZ4,currentyn-currentrn*nyn)","v":-5.6180429766476827},{"$f":"currentyn+currentrn*nyn","v":-3.5288075790200022},{"$f":"SQRT(currentxn^2+currentyn^2)","v":12.137279285562045},"r","vx","vy",null,null,{"$f":"BG3+BG1","v":-10.114087095121446},-4.7238859486144955]
["rfa",{"$f":"VLOOKUP(1,A8:X241,5,FALSE)","v":5.5002221392609183},"v0",3,null,2,{"$f":"AF14","v":-2.9454256451476646E-2},"=d²y/dx²",null,null,null,null,"C_S_PRIN",{"$f":"v0*(t-deltat)+(1)/2*epitaxynsh*(t-deltat)^2","v":-51.943999999999988},{"$f":"IF((currentsa)>(C_S_PRIN),1,-1)","v":-1},"SIGN OF DS",null,null,"find φ=",null,{"$f":"SUM(U7:U232)","v":0.29532830975652635},{"$f":"SUM(V8:V232)","v":3.8327430373795393},null,null,"epitaxynsh",{"$f":"(O1-10)/10","v":-0.7},null,null,"dy/dx=dy/dφ/dx/dφ",null,null,"d²y/dφ²=gama*(d²r/dφ²sin(pol_2*φ)+2*pol_2*dr/dφ*cos(pol_2*φ)-pol_2²*r*sin(pol_2*φ))",null,null,null,"d²y/df²=12*alpha*(2*(cos(currentf))^3-(sin(currentf))^2)*sin(currentf))",null,null,null,null,null,null,null,"dy/df=12*alpha*(SIN(currentF))^2*COS(currentF)",null,null,null,null,null,null,null,null,null,null,{"$f":"currentxn","v":-11.242656700433574},{"$f":"currentyn","v":-4.5734252778338425},null,null,{"$f":"-1/20*BH1+18/20*BG1+BG3","v":-10.219421022113625},{"$f":"1/20*BG1+18/20*BH1+BH3","v":-4.6524114012708235}]
[{"$f":"VLOOKUP(1,A7:W239,2,FALSE)","v":77},{"$f":"A6+7","v":84},"φ","x","r","x","y","dr/dφ","dx/dφ","dy/dφ","ds/dφ=sqrt(dx/dφ²+dy/dφ²)","d²r/dφ²","d²x/dφ²","d²y/dφ²","d²y/dx²","R","s","φ",{"$f":"MAX(S7:S232)","v":3.8607217007525509},"dy/dx","dy/dx current","φ(t-dt)","=v²/R","currentvx",{"$f":"v0/SQRT(1+currentdy_dx^2)*AI6","v":-2.8771517983620352},null,null,null,null,null,"rprin",{"$f":"alpha-beta*COS(V5)","v":5.5410264855515896},"xpin ",{"$f":"beta*AF6*COS(pol*V5)","v":2.0765696540341341},{"$f":"IF(xpin>current_x,-1,1)","v":-1},null,null,"x","y",null,null,null,null,"d²y/df²=12*alpha*sin(currentf)*(2*(cos(currentf))^2-sin(currentf))^2)",null,null,null,null,null,null,null,null,null,null,{"$f":"BC5+BC3","v":-11.639108311191903},-7.5471142528827002,null,null,{"$f":"1/20*BH1+18/20*BG1+BG3","v":-10.234467089191691},{"$f":"-1/20*BG1+18/20*BH1+BH3","v":-4.7652683618020362}]
[null,{"$f":"0","v":0},0,{"$f":"alpha*(gama*COS(C7)-COS(beta*C7))","v":4},{"$f":"(alpha-beta*COS(C7))","v":2},{"$f":"beta*E7*COS(pol*C7)","v":4},{"$f":"gama*E7*SIN(pol_2*C7)","v":0},{"$f":"beta*SIN(C7)","v":0},{"$f":"beta*H7*COS(pol*C7)-beta*E7*pol*SIN(pol*C7)","v":0},{"$f":"gama*H7*SIN(pol_2*C7)+gama*E7*pol_2*COS(pol_2*C7)","v":4},{"$f":"SQRT(I7^2+J7^2)","v":4},{"$f":"beta*COS(C7)","v":2},{"$f":"beta*(L7*COS(pol*C7)-2*pol*H7*SIN(pol*C7)-pol^2*E7*COS(pol*C7))","v":-12},{"$f":"gama*(L7*SIN(pol_2*C7)+2*pol_2*H7*COS(pol_2*C7)-pol_2^2*E7*SIN(pol_2*C7))","v":0},{"$f":"(N7*I7-M7*J7)/I7^2","v":{"$error":"#DIV/0!"}},{"$f":"IF(I7<>0,(1+(J7/I7)^2)^1.5/ABS(O7),\"\")","v":""},0,{"$f":"C7","v":0},null,{"$f":"-J7/I7","v":{"$error":"#DIV/0!"}},{"$f":"IF(S7<>\"\",T6+(scurrent-Q6)*(T7-T6)/(Q7-Q6),\"\")","v":""},{"$f":"IF(v0*($M$2-deltat)<Q7,IF(v0*($M$2-deltat)>Q6,R6,\"\"),\"\")","v":""},{"$f":"v0^2/P7","v":{"$error":"#VALUE!"}},"currnentvy",{"$f":"v0*ABS(currentdy_dx)/SQRT(1+currentdy_dx^2)*AI7","v":-0.84970437752320993},{"$f":"vxacurrent","v":-8.7078480589051139},{"$f":"vyacurrent","v":2.5551922007986856},{"$f":"currentvx","v":-2.8771517983620352},{"$f":"currnentvy","v":-0.84970437752320993},null,null,null,"YPRIN",{"$f":"gama*AF6*SIN(pol_2*V5)","v":-7.063966419446837},{"$f":"IF(YPRIN>currenty,-1,1)","v":-1},null,null,{"$f":"alpha*(3*COS($C7)-COS(3*$C7))","v":8},{"$f":"4*alpha*(SIN($C7))^3","v":0},null,{"$f":"alpha*(3*COS(currentF)-COS(3*currentF))","v":-11.242656700433574},{"$f":"4*alpha*(SIN(currentF))^3","v":-4.5734252778338425},null,"d²y/dx²=d/dx(dy/dx))=d/dx(dy/df/dx/df)=d/df(dy/df/dx/df)*1/dx/df=((d²y/df²*dx/df-dy/df*d²x/df²)/(dx/df)^3",null,null,null,null,null,null,null,null,null,null,{"$f":"-1/20*BD3+18/20*BC3+BC5","v":-11.450778701363626},{"$f":"1/20*BC3+18/20*BD3+BD5","v":-7.269567935915731},null,null,{"$f":"BG4","v":-10.114087095121446},-4.7238859486144955]
[{"$f":"IF(AND(REMAIN_S>Q8,REMAIN_S<Q9),1,0)","v":0},{"$f":"B7+1","v":1},{"$f":"C7+dt","v":3.1415926535897934E-2},4.0039455692127666,2.0009868792685368,3.9940767774885493,0.12570503356639959,6.2821518156256584E-2,-0.37717691440167145,4.0039455692127657,{"$f":"SQRT(I8^2+J8^2)","v":4.0216716109070996},1.9990131207314632,-12.017726826117787,0.25103808360948066,{"$f":"(N8*I8-M8*J8)/I8^3","v":-894.99322851332613},{"$f":"IF(I8<>0,(1+(J8/I8)^2)^1.5/ABS(O8),\"\")","v":1.354455549363156},{"$f":"Q7+dt*K7","v":0.12566370614359174},{"$f":"C8","v":3.1415926535897934E-2},{"$f":"IF(scurrent>Q7,(IF(scurrent<Q8,(scurrent-Q7)*(R8-R7)/(Q8-Q7)+R7,\"\")))","v":""},{"$f":"J8/I8","v":-10.61556372177327},"","",6.6447363327882263,"currentva",{"$f":"(v0+epitaxynsh*t)*SIIGN_OF_DS","v":9.0749999999999993},"vxa","vya","vx","vy",null,"dr/dφ current",{"$f":"beta*SIN(S6)","v":-1.3174592692607674},"row prina",{"$f":"row_cura-SIIGN_DS*1","v":85},"ROW_CURA",{"$f":"row_cura","v":84},null,8.0118308659764583,4.9585566348225212E-4,null,null,null,null,null,null,null,null,null,null,"nephroid curvature",null,null,null,null,{"$f":"1/20*BD3+18/20*BC3+BC5","v":-11.748147598868512},{"$f":"-1/20*BC3+18/20*BD3+BD5","v":-7.2299227748398991}]
[0,{"$f":"B8+1","v":2},6.2831853071795868E-2,4.0157550221682605,2.0039465431434569,3.9762896522019022,0.25165768910589853,0.12558103905862675,-0.75546281045589359,4.0157550221682614,{"$f":"SQRT(I9^2+J9^2)","v":4.0861977994281595},1.9960534568565431,-12.070446472090351,0.50034171227992674,{"$f":"(N9*I9-M9*J9)/I9^3","v":-111.54531300273293},1.418624840970296,0.25200824602335548,{"$f":"C9","v":6.2831853071795868E-2},{"$f":"IF(scurrent>Q8,(IF(scurrent<Q9,(scurrent-Q8)*(R9-R8)/(Q9-Q8)+R8,\"\")))","v":""},-5.3156223795383166,"","",6.3441720038148182,"vxacurrent",{"$f":"SIGN(xcurrenta-xprina)*ABS(currentva)/SQRT(1+dydxa^2)","v":-8.7078480589051139},{"$f":"xcurrenta","v":1.3787212520710816},{"$f":"ycurrenta","v":7.2747243252181724},{"$f":"current_x","v":1.4549138401367698},{"$f":"currenty","v":-7.2522963937423084},null,"dx/dφ current",{"$f":"beta*(AF8*COS(pol*S6)-R1*pol*SIN(pol*S6))","v":-22.174129309450819},null,{"$f":"INDEX(A1:Y239,row_prin_a,3)","v":2.4504422698000381},{"$f":"INDEX(A1:Y239,row_prin_a,6)","v":2.0765696540339311},"beta*r*COS(pol*φ)",null,8.0471717382245025,3.9609760088619907E-3,null,null,null,null,"d²x/dφ²=alpha*(-3*cos(currentf)+9*cos(3*currentf)",null,null,null,null,null,{"$f":"0","v":0},{"$f":"rxn+currentrn*COS(AX9)","v":-11.31198410784484},{"$f":"ryn+currentrn*SIN(AX9)","v":-5.6180429766476827},null,null,{"$f":"BC6","v":-11.639108311191903},-7.5471142528827002]
[0,3,9.4247779607693802E-2,4.0353467139098846,2.00887607079384,3.9465867052694636,0.37810387737666534,0.18821662663702865,-1.13593777049919,4.0353467139098855,4.1921805447654545,1.99112392920616,-12.156781751926903,0.74618401013768243,{"$f":"(N10*I10-M10*J10)/I10^3","v":-32.890191351309589},{"$f":"IF(I10<>0,(1+(J10/I10)^2)^1.5/ABS(O10),\"\")","v":1.5282341964105144},0.38037993590133834,{"$f":"C10","v":9.4247779607693802E-2},{"$f":"IF(scurrent>Q9,(IF(scurrent<Q10,(scurrent-Q9)*(R10-R9)/(Q10-Q9)+R9,\"\")),\"\")","v":""},-3.5524364262811199,"","",5.8891497266184842,"vyacurrent",{"$f":"ABS(Y9*dydxa)*SIGN(ycurrenta-yprina)","v":2.5551922007986856},{"$f":"Z9+Z7","v":-7.3291268068340321},9.8299165260168575,{"$f":"AB9+AB7","v":-1.4222379582252653},-8.1020007712655175,null,"dy/dφ current",{"$f":"gama*(AF8*SIN(pol_2*S6)+current_r*pol_2*COS(pol_2*S6))","v":-6.5476400426757877},null,{"$f":"currentfa","v":2.4190263432641403},{"$f":"xcurrenta","v":1.3787212520710816},null,null,8.1055688325291868,1.3335335665254817E-2,null,null,null,null,"d²y/df²=12*alpha*(2*(cos(currentf))^3-(sin(currentf))^2)*sin(currentf))",null,null,null,null,null,{"$f":"AX9+2*PI()/80","v":7.8539816339744828E-2},-11.287616384360872,-6.2382429541944857]
[0,4,0.12566370614359174,4.0625849660012987,2.015770597371044,3.9048829146235895,0.50528609418472437,0.25066646712860852,-1.5196244114010002,4.0625849660012978,4.3374940873395555,1.9842294026289558,-12.274455007498711,0.98685322880440451,-13.782712925620027,1.6872257403782598,0.51208117192091041,0.12566370614359174,"",-2.6734138616895766,"","",5.3342002700730999,"drdfa",{"$f":"beta*SIN(currentfa)","v":1.3226237306473043},{"$f":"-1/20*AA7+18/20*Z7+Z9","v":-6.5861016109834551},{"$f":"1/20*Z7+18/20*AA7+AA9","v":9.1390049029917328},{"$f":"-1/20*AC7+18/20*AB7+AB9","v":-1.0920375595129013},{"$f":"1/20*AB7+18/20*AC7+AC9","v":-8.1608879234313001},null,"d²r/dφ²current",{"$f":"beta*COS(S6)","v":-1.5047594737495043},null,"yprin",{"$f":"INDEX(A1:W239,row_prin_a,7)","v":7.0639664194469001},null,null,8.1862704722207287,3.1500592032939118E-2,null,null,null,null,null,null,null,null,null,null,{"$f":"AX10+2*PI()/80","v":0.15707963267948966},-11.214663449027338,-6.8546191926422919]
[0,5,0.15707963267948966,4.0972806595804876,2.0246233188097245,3.8510624007942171,0.63344173157195205,0.31286893008046174,-1.9074599814814162,4.0972806595804876,4.5195256813437181,1.9753766811902755,-12.420314404864016,1.2206602346777327,-6.9971742315487866,1.9010326760299858,0.64834756751866152,0.15707963267948966,"",-2.1480296831173158,"","",4.7342689652211103,"dxdfa",{"$f":"INDEX(A1:W239,row_cura,9)","v":22.158942397326317},{"$f":"1/20*AA7+18/20*Z7+Z9","v":-6.3305823909035865},{"$f":"-1/20*Z7+18/20*AA7+AA9","v":10.009789708882245},{"$f":"1/20*AC7+18/20*AB7+AB9","v":-1.1770079972652221},{"$f":"-1/20*AB7+18/20*AC7+AC9","v":-7.8731727435950951},null,"d²x/dφ² current =",{"$f":"beta*(AF11*COS(pol*S6)-2*pol*AF8*SIN(pol*S6)-pol^2*current_r*COS(pol*S6))","v":4.2298727055428085},null,"ycurrenta",{"$f":"ycurrenta","v":7.2747243252181724},null,null,8.2882339903881821,6.1251581524583258E-2,null,null,null,null,null,null,null,null,null,null,0.23561944901923448,-11.093575080949877,-7.4633715275151724]
[0,6,0.18849555921538758,4.1391920622765035,2.0354254985426223,3.7849815346446034,0.76280141131644086,0.3747626291714492,-2.3002694439094178,4.1391920622765035,4.7354144953737842,1.9645745014573774,-12.590370387930395,1.4459459047916265,-4.0084452674011377,2.1765162219585497,0.79033265430085986,0.18849555921538758,"",-1.799437919429886,"","",4.1350484362121147,"dydfa",{"$f":"INDEX(A1:P239,row_cura,10)","v":-6.5022214913008867},{"$f":"Z10","v":-7.3291268068340321},9.8299165260168575,{"$f":"AB10","v":-1.4222379582252653},-8.1020007712655175,null,"d²y/dφ²current",{"$f":"gama*(d2rdfa2*SIN(pol_2*currentfa)+2*pol_2*drdfa*COS(pol_2*currentfa)-pol_2^2*current_r*SIN(pol_2*currentfa))","v":-13.233413719373528},null,null,null,null,null,8.410135306736203,0.10526859511270904,null,null,null,null,null,null,null,null,null,null,0.31415926535897931,-10.92509783018366,-8.0607467982379433]
[0,7,0.2199114857512855,4.1880258856459012,2.0481664761225051,3.7064728710992809,0.89358734804219486,0.43628648279308502,-2.698739860330218,4.1880258856459012,4.9822442385510666,1.9518335238774949,-12.779841932272703,1.6610884013482408,-2.4949545469670529,2.5219085377316239,0.93910008820454882,0.2199114857512855,"",-1.5518449729843373,"","",3.5687257746846015,"dydxa",{"$f":"dydfa/dxdfa","v":-0.29343555187387643},null,"V²/r",null,null,null,"d²y/dx²current",{"$f":"(AF13*AF9-AF12*AF10)/AF9^3","v":-2.9454256451476646E-2},null,{"$f":"SQRT(R_current^2-(rx-current_x)^2)+ry","v":-1.4992555239723657},{"$f":"currenty","v":-7.2522963937423084},{"$f":"AI14-AH14","v":-5.7530408697699427},null,8.5503810937622085,0.16609068214660455,null,null,null,null,null,null,null,null,null,null,0.39269908169872414,-10.710270415004032,-8.6430619876191628]
[0,8,0.25132741228718342,4.2434385688535947,2.0628336777427378,3.6153498632508234,1.0260117491154075,0.49737977432970948,-3.1033963757256022,4.2434385688535947,5.2571703370255225,1.9371663222572622,-12.983212145560964,1.8645102954948833,-1.6496740510116377,2.9467701193329372,1.0956219071867699,0.25132741228718342,"",-1.3673530722808298,"","",3.0541914148489253,"d2rdfa2",{"$f":"beta*COS(currentfa)","v":-1.5002221392609185},null,null,null,null,null,"R current",{"$f":"(1+(AF10/AF9)^2)^1.5/AF14","v":-38.486754029360675},null,null,null,null,null,8.7071234238579258,0.24609022226350261,null,null,null,null,null,null,null,null,null,null,0.47123889803846897,-10.450417317862936,-9.2067269288768436]
[0,9,0.28274333882308134,4.3050377834074833,2.0794126286461139,3.5114123020149313,1.1602752583558407,0.55798221207845844,-3.5145800898027293,4.3050377834074842,5.5574835604078743,1.9205873713538861,-13.194292668884863,2.0546855115181386,-1.142065984804818,3.4619678472611684,1.2607807842814656,0.28274333882308134,"",-1.2249081464662603,"","",2.5996775236142295,"d2xdfa2",{"$f":"beta*(d2rdfa2*COS(pol*currentfa)-2*pol*drdfa*SIN(pol*currentfa)-pol^2*rfa*COS(pol*currentfa))","v":4.6066151880197443},"dydta",null,null,null,null,"inclination of R",{"$f":"-1/currentdy_dx","v":-3.3860621110939784},null,null,null,null,null,8.8782767668287086,0.34744899394891277,null,null,null,null,null,null,null,null,null,null,0.5497787143782138,-10.147140619514174,-9.7482664402105232]
[0,10,0.31415926535897926,4.3723841528614393,2.0978869674096927,3.3944524178243261,1.2965654504146327,0.61803398874989468,-3.9324280816799897,4.3723841528614384,5.8806235891935135,1.9021130325903073,-13.406296246143492,2.2301460633402055,-0.81971292811551599,4.0796790109211898,1.4353742795396998,0.31415926535897926,"",-1.1118789872422774,"","",2.2060559117291447,"d2ydfa2",{"$f":"gama*(d2rdfa2*SIN(pol_2*currentfa)+2*pol_2*drdfa*COS(pol_2*currentfa)-pol_2^2*rfa*SIN(pol_2*currentfa))","v":-13.227412533105039},null,null,null,"synima",{"$f":"1/SQRT(1+dydxa^2)","v":0.95954248582976465},"synim = 1 / Sqr(1 + paragogos ^ 2)",null,null,{"$f":"1/SQRT(1+currentdy_dx^2)","v":0.95905059945401172},null,null,null,9.0615371863719503,0.472135954999579,null,null,null,null,null,null,null,null,null,null,0.62831853071795862,-9.8023101216528001,-10.264341750452665]
[0,11,0.34557519189487718,4.4449931805306466,2.1182384620915489,3.2642615727971207,1.4350553824649512,0.67747584049058263,-4.35685583346479,4.4449931805306457,6.2241591503238505,1.8817615379084509,-13.61191674741012,2.3894885560271861,-0.60571461093420675,4.8134276501415494,1.6201195182030717,0.34557519189487718,"",-1.0202295761977886,"","",1.8697694562284186,"d2ydxa2",{"$f":"INDEX(A1:W239,row_cura,15)","v":-2.4185773743184088E-2},null,null,null,"hmitona",{"$f":"dydxa*AD17","v":-0.28156387887588824},"hmiton = paragogos * synim",null,null,{"$f":"currentdy_dx*AH17","v":0.28323479250773664},null,null,null,9.2544035644492197,0.62188693492772162,null,null,null,null,null,null,null,null,null,null,0.70685834705770345,-9.4180518189659068,-10.751771083703172]
[0,12,0.3769911184307751,4.5223373774203655,2.1404470282234973,3.1206374644646449,1.5759022096200459,0.73624910536935573,-4.7875422746935445,4.5223373774203655,6.585749493200538,1.8595529717765029,-13.803415857537358,2.5313804259520856,-0.4584267417787426,5.6781624320867641,1.8156572448173827,0.3769911184307751,"",-0.94460521034455924,"","",1.5850198206979502,"inclinea",{"$f":"1/dydxa","v":-3.4079033491818227},null,"a_centripta","ata",null,{"$f":"IF(ABS(current_r-(alpha-beta))<0.1,-ABS(AD20),IF(ABS(current_r-(alpha+beta))<0.1,-ABS(AD20),AD20))","v":6.6233518436628072E-2},"ax",13,"rx","ry",null,null,null,9.4542006643987264,0.79818642235205672,null,null,null,null,null,null,null,null,null,null,0.78539816339744828,-8.9967347916684108,-11.207549276035854]
[0,13,0.40840704496667302,4.6038485817570933,2.1644907486320379,2.9633917555709655,1.7192458702354216,0.79429578126956102,-5.2239176437476686,4.6038485817570942,6.9630982552600109,1.8355092513679623,-13.972715573934831,2.6545658942930466,-0.35397058495635308,6.6903899623236187,2.0225546670795977,0.40840704496667302,"",-0.88130190705959655,"","",1.3452130669038367,"Rcurrenta",{"$f":"(1+dydxa^2)^1.5/D2YDXA2","v":-46.800165379613397},null,{"$f":"ABS(currentva^2/Rcurrenta)","v":1.7597293584751923},null,null,{"$f":"-(v0^2/$AF$15*hmiton)","v":6.6233518436628072E-2},{"$f":"AD19","v":6.6233518436628072E-2},{"$f":"v0^2/AF15*SYNIM","v":-0.22427080726271079},{"$f":"xcurrenta-(Rcurrenta)*hmitona","v":-11.798514844245924},{"$f":"ycurrenta+Rcurrenta*synima","v":-37.632022700380155},null,null,null,9.6581038272266078,1.0022516118004647,null,null,null,null,null,null,null,null,null,null,0.86393797973719311,-8.540956599335729,-11.62886630333335]
[0,14,0.43982297150257094,4.6889204607333976,2.1903458950679608,2.7923580387277696,1.8652078469690021,0.8515585831301451,-5.6651543345106941,4.6889204607333967,7.3539070378207532,1.8096541049320392,-14.111495598058644,2.7578716096857327,-0.27799284385645701,7.8683841175686799,2.2413068503290852,0.43982297150257094,"",-0.82767744422595402,"","",1.1438180782131144,null,null,{"$f":"epitaxynsh","v":-0.7},"atotala",null,null,"centripetal","ax","ay",null,null,null,null,null,9.8631650809328146,1.2350188542663465,null,null,null,null,null,null,null,null,null,null,0.94247779607693793,-8.0535272660852222,-12.013124606020245]
[0,15,0.47123889803846886,4.7769111843370498,2.2179869516232644,2.6074000398825889,2.0138900091664791,0.90798099947909339,{"$f":"L4=beta*H22*COS(pol*C22)-beta*E22*pol*SIN(pol*C22)","v":false},4.7769111843370506,4.7769111843370506,1.7820130483767358,-14.21129465425825,2.8402119570832038,{"$error":"#DIV/0!"},{"$error":"#DIV/0!"},2.4723366535810847,0.47123889803846886,"",{"$error":"#DIV/0!"},"","",{"$error":"#DIV/0!"},null,{"$f":"IF(ABS(current_r-(alpha-beta))<0.1,-ABS(AA22),IF(ABS(current_r-(alpha+beta))<0.1,-ABS(AA22),AA22))","v":1.8938446121790224},null,{"$f":"SQRT(a_centa^2+epitaxynsh^2)","v":1.8938446121790224},null,null,null,{"$f":"current_x","v":1.4549138401367698},{"$f":"currenty","v":-7.2522963937423084},"FI","X","Y",null,null,10.066340430099491,1.4971326344940097,null,null,null,null,null,null,null,null,null,null,1.0210176124166828,-7.5374519558430801,-12.357955103881618]
[0,16,0.50265482457436683,4.8671462604349216,2.2473866399122731,2.4084199606856198,2.165373541809692,0.96350734820343042,-6.5575790892591801,4.8671462604349225,8.1664530998686882,1.7526133600877272,-14.263614727712525,2.900594011202398,-0.17873890473624329,10.805645429777401,2.6224077444167264,0.50265482457436683,"",-0.74221693618715801,"","",0.83289795676604961,"A_CENTAX","A_CENTAY",null,null,null,null,null,{"$f":"AE22+AE20","v":1.5211473585733979},-7.476567201005019,0,{"$f":"rx+ABS(Rcurrenta)*COS(AG23)","v":35.001650535367475},{"$f":"IF(ABS(Rcurrenta)<500,ry+ABS(Rcurrenta)*SIN(AG23),currenty+currentdy_dx*(AH23-current_x))","v":-37.632022700380155},{"$f":"currenty+currentdy_dx*(AH23-current_x)","v":2.6550046523074142},null,10.26451808240911,1.7889371755074965,null,null,null,null,null,null,null,null,null,null,1.0995574287564276,-6.9959124445094005,-12.661231802230379]
[0,17,0.53407075111026481,4.9589215196246883,2.2785159459921127,2.1953668569620919,2.3197179659152432,1.0180828315007426,-7.0057846870066847,4.9589215196246883,8.5832349215487618,1.7214840540078873,-14.260027180653312,2.9381221143479386,-0.14579133744850958,12.613944633511805,2.8789644350610573,0.53407075111026481,"",-0.70783241866136393,"","",0.71349607608784482,{"$f":"IF(AND(ycurrenta<0,D2YDXA2>0,SIGN(xcurrenta-xprina)>0),-SIGN(xcurrenta-xprina)*ABS(a_centa)*(hmitona),IF(AND(ycurrenta>0,D2YDXA2<0,SIGN(xcurrenta-xprina)<0),SIGN(xcurrenta-xprina)*ABS(a_centa*hmitona),SIGN(xcurrenta-xprina)*ABS(a_centa)*(hmitona)))","v":-0.49547622394405355},{"$f":"IF(AND(ycurrenta<0,D2YDXA2>0),ABS(a_centa*synima),IF(AND(ycurrenta>0,D2YDXA2>0),ABS(a_centa*synima),-ABS(a_centa*synima)))","v":-1.688535083018903},null,{"$f":"X24+epitaxynsh*ABS(synima)*SIGN(xcurrenta-xprina)*SIIGN_DS","v":-1.1671559640248887},{"$f":"Y24+epitaxynsh*ABS(hmitona)*SIGN(ycurrenta-yprina)*SIIGN_DS","v":-1.4914403678057813},null,null,{"$f":"-1/20*AF20+18/20*AE20+AE22","v":1.5257375470928707},{"$f":"1/20*AE20+18/20*AF20+AF22","v":-7.450828444356917},{"$f":"AG23+2*PI()/150","v":4.1887902047863905E-2},34.960598838928028,-35.672235180474189,null,null,10.454547360359836,2.1104707475415299,null,null,null,null,null,null,null,null,null,null,1.1780972450961724,-6.4322475032517197,-12.921084899371476]
[0,18,0.56548667764616278,5.05150623775583,2.3113441489959698,1.9682449486451596,2.4769602548999341,1.0716535899579933,-7.4528910416114522,5.05150623775583,9.0035159881136604,1.6886558510040302,-14.192279683235773,2.9520020598961834,-0.12003482481169572,14.68773543711454,3.1486147127967867,0.56548667764616278,"",-0.67779150527653509,"","",0.61275613511241755,"A_CENTAX","A_CENTAY",null,"axa","aya",null,null,{"$f":"1/20*AF20+18/20*AE20+AE22","v":1.5033104663665995},{"$f":"-1/20*AE20+18/20*AF20+AF22","v":-7.4574517962005791},{"$f":"AG24+2*PI()/150","v":8.377580409572781E-2},34.837515768234695,-33.715885793818408,null,null,10.633268040281397,2.4614627344900488,null,null,null,null,null,null,null,null,null,null,1.2566370614359172,-5.8499323138705002,-13.135912314551105]
[0,19,0.59690260418206076,5.144146383457783,2.3458388514508766,1.7271217557213849,2.637114051040542,1.1241667557042612,-7.8967564468752789,5.144146383457783,9.4244896092949286,1.6541611485491237,-14.052402882498338,2.9415448642889661,-9.9625853306265902E-2,17.062993870101874,3.431468509644148,0.59690260418206076,"",-0.65142522984779472,"","",0.52745726034456264,{"$f":"xcurrenta","v":1.3787212520710816},{"$f":"ycurrenta","v":7.2747243252181724},null,{"$f":"xcurrenta","v":1.3787212520710816},{"$f":"ycurrenta","v":7.2747243252181724},null,null,{"$f":"AE23","v":1.5211473585733979},-7.476567201005019,0.12566370614359171,34.63261725281739,-31.766406642009002,null,null,10.797539856880913,2.8413334864705773,null,null,null,null,null,null,null,null,null,null,1.3351768777756621,-5.2525570431477293,-13.304389565317322]
[0,20,0.62831853071795873,5.2360679774997898,2.3819660112501051,1.4721359549995787,2.8001689857494783,1.1755705045849465,-8.3349946583665897,5.2360679774997898,9.8431978452126181,1.6180339887498947,-13.832815729997478,2.9061701120214436,-8.3251292528506701E-2,19.783434101893686,3.7275475828480911,0.62831853071795873,"",-0.62820291939166073,"","",0.45492607368598925,{"$f":"X26+X24","v":0.8832450281270281},5.5861892421992696,null,{"$f":"AA26+AA24","v":0.2115652880461929},5.7832839574123911,null,null,null,null,0.16755160819145562,34.346262754297129,-29.827217773915713,null,null,10.944271909999159,3.2491969623290653,null,null,null,null,null,null,null,null,null,null,1.4137166941154069,-4.6438047082748488,-13.425477933394781]
[0,21,0.65973445725385671,5.3264805503461039,2.4196899752486196,1.2035048538370179,2.9660901069665506,1.2258141073059532,-8.7649887166482596,5.3264805503461048,10.256530712486882,1.5803100247513806,-13.526428395950024,2.8454088598052367,-6.9958932645217492E-2,22.903623478890964,4.0367807632315991,0.65973445725385671,"",-0.60769964714603264,"","",0.39295092360799661,{"$f":"-1/20*Y24+18/20*X24+X26","v":1.0172194046723786},{"$f":"1/20*X24+18/20*Y24+Y26","v":5.730268939303957},null,{"$f":"-1/20*AB24+18/20*AA24+AA26","v":0.40285290283897079},{"$f":"1/20*AA24+18/20*AB24+AB26","v":5.8740701959917248},null,null,null,null,0.20943951023931953,33.97895463576824,-27.901721185753971,null,null,11.070451711047408,3.6838661410997955,null,null,null,null,null,null,null,null,null,null,1.4922565104551517,-4.0274284698270417,-13.498430868728317]
[0,22,0.69115038378975469,5.4145806838634156,2.4589735144484219,0.92153137933764762,3.1348174165321416,1.2748479794973797,-9.1839079518984619,5.4145806838634165,10.661231132050867,1.5410264855515783,-13.126741715022483,2.7589060878399914,-5.9046899293383158E-2,26.493687726161514,4.3589991786082676,0.69115038378975469,"",-0.58957262117856213,"","",0.33970355856171885,{"$f":"1/20*Y24+18/20*X24+X26","v":0.84836589637048831},{"$f":"-1/20*X24+18/20*Y24+Y26","v":5.7798165616983628},null,{"$f":"1/20*AB24+18/20*AA24+AA26","v":0.2537088660583926},{"$f":"-1/20*AA24+18/20*AB24+AB26","v":5.9907857923942132},null,null,null,null,0.25132741228718342,33.531337280482745,-25.99329485282756,null,null,11.173173609716333,4.1438611568088248,null,null,null,null,null,null,null,null,null,null,1.5707963267948966,-3.4072284922802392,-13.522798592212284]
[0,23,0.72256631032565266,5.4995556227864597,2.4997778607390813,0.62661048495777405,3.3062655199602609,1.3226237306473041,-9.5887280447369729,5.4995556227864597,11.053905082098701,1.5002221392609187,-12.627942136135164,2.6464226879266062,-4.9989886101056986E-2,30.646581786813833,4.6939316326350058,0.72256631032565266,"",-0.57354381072524385,"","",0.29367059800034173,{"$f":"X27","v":0.8832450281270281},5.5861892421992696,null,{"$f":"AA27","v":0.2115652880461929},5.7832839574123911,null,null,null,null,0.29321531433504733,33.004195961383225,-24.105286803412049,null,null,11.249666346974038,4.6274200867855786,null,null,null,null,null,null,null,null,null,null,1.6493361431346414,-2.7870285147334362,-13.498430868728317]
[0,24,0.75398223686155064,5.5805869412540394,2.5420627451571773,0.31923488088906082,3.4803233905729676,1.3690942118573777,-9.976253986340236,5.5805869412540394,11.431036445085134,1.4579372548428227,-12.024991185571615,2.5078369799966613,-4.238894415210466E-2,35.489651694395889,5.0412003026290071,0.75398223686155064,"",-0.55938701529603541,"","",0.25359505011488109,null,null,null,null,null,null,null,null,null,0.33510321638291124,32.398455463467208,-22.241009245175562,null,null,11.297319488051698,5.1325123000411113,null,null,null,null,null,null,null,null,null,null,1.7278759594743862,-2.1706522762856295,-13.425477933394781]
[0,25,0.78539816339744861,5.6568542494923815,2.5857864376269051,-3.1281623419019948E-15,3.656854249492381,1.4142135623730954,-10.343145750507622,5.6568542494923806,11.789006065663207,1.4142135623730947,-11.313708498984752,2.343145750507619,-3.5936651988070792E-2,41.203681907028042,5.4003169038169734,0.78539816339744861,"",-0.54691816067802712,"","",0.21842708183961795,null,null,null,null,null,null,null,null,null,0.37699111843077515,31.715178461400029,-20.403732754441023,null,null,11.313708498984759,5.6568542494923841,null,null,null,null,null,null,null,null,null,null,1.806415775814131,-1.5618999414127492,-13.304389565317322]
[0,26,0.81681408993334659,5.7275389255467637,2.6309057881426234,-0.33039188254030966,3.8356955625147515,1.4579372548428235,-10.685946461517387,5.7275389255467637,12.124114562394622,1.3690942118573768,-10.490847533168791,2.1524648080548774,-3.039250457645452E-2,48.055668338813668,5.7706794523071041,0.81681408993334659,"",-0.53598798629330413,"","",0.18728279745369533,null,null,null,null,null,null,null,null,null,0.41887902047863906,30.955563655222406,-18.596680538483923,null,null,11.296618242247421,6.1979275700621859,null,null,null,null,null,null,null,null,null,null,1.8849555921538759,-0.9645246706899786,-13.135912314551106]
[0,27,0.84823001646924456,5.7918278568464325,2.6773762693526968,-0.67112845061261828,4.0166591544147225,1.5002221392609196,-11.001112814657947,5.7918278568464334,12.432608458572709,1.3226237306473032,-9.554163132237063,1.9360290534721445,-2.5565188581326986E-2,56.458315216196958,6.1515697447121038,0.84823001646924456,"",-0.5264765441846363,"","",0.15940964524952825,null,null,null,null,null,null,null,null,null,0.46076692252650298,30.120943667423226,-16.823022780931513,null,null,11.244064680982069,6.7529993241569999,null,null,null,null,null,null,null,null,null,null,1.9634954084936207,-0.38220948130875909,-12.921084899371476]
[0,28,0.87964594300514254,5.8489171763324173,2.7251520205026214,-1.0212851360954542,4.199531440748939,1.541026485551579,-11.285047481497154,5.8489171763324173,12.710709216847093,1.2748479794973788,-8.5024701945489607,1.6941920636231922,-2.1299542198723851E-2,67.08553835190699,6.5421516586962074,0.87964594300514254,"",-0.5182891065298787,"","",0.13415708096116313,null,null,null,null,null,null,null,null,null,0.50265482457436683,29.212782705066857,-15.085871080183509,null,null,11.154314597159731,7.3191442169026173,null,null,null,null,null,null,null,null,null,null,2.0420352248333655,0.18145545994892265,-12.661231802230381]
[0,29,0.91106186954104051,5.8980159778832322,2.7741858926940477,-1.3798239532568344,4.3840737767482629,1.5803100247513813,-11.534133209498037,5.8980159778832313,12.954644779761866,1.2258141073059523,-7.3356927657303359,1.4274251900235226,-1.7466706868641938E-2,81.116762068065199,6.9414703656718366,0.91106186954104051,"",-0.51135320450663602,"","",0.11095117421536237,null,null,null,null,null,null,null,null,null,0.54454272662223069,28.232673991076453,-13.388272990611128,null,null,11.02590314657164,7.8932685859691709,null,null,null,null,null,null,null,null,null,null,2.1205750411731104,0.72299497128260182,-12.357955103881618]
[0,30,0.94247779607693849,5.9383499958395749,2.8244294954150546,-1.7455934269942246,4.570022922409275,1.6180339887498953,-11.74476830572288,5.9383499958395749,13.16068323561511,1.1755705045849454,-6.0549029687294764,1.1363161753616442,-1.39564244922932E-2,100.81560886656683,7.3484525343714893,0.94247779607693849,"",-0.50561661509712297,"","",8.9271890545360208E-2,null,null,null,null,null,null,null,null,null,0.58643062867009454,27.182336969179516,-11.733206676111191,null,null,10.857649092690288,8.4721359549995885,null,null,null,null,null,null,null,null,null,null,2.1991148575128552,1.2390702815247439,-12.013124606020245]
[0,31,0.97389372261283647,5.9691652335557572,2.8758332442957397,-2.1173296533041968,4.7570916224199955,1.6541611485491243,-11.913403177283646,5.9691652335557572,13.325168248468866,1.1241667557042603,-4.662349273283473,0.8215672929095108,-1.0670709733112464E-2,131.13459487454742,7.761907592063797,0.97389372261283647,"",-0.5010461867804239,"","",6.8631774922628411E-2,null,null,null,null,null,null,null,null,null,0.6283185307179584,26.063614287419384,-10.123575685394638,null,null,10.648667581980552,9.0523939257085821,null,null,null,null,null,null,null,null,null,null,2.2776546738526,1.7264996147752507,-11.628866303333352]
[0,32,1.0053096491487343,5.9897315260922639,2.9283464100420078,-2.4936585198496251,4.944969299084085,1.6886558510040306,-12.036577587066461,5.9897315260922639,13.444555915467577,1.0716535899579924,-3.1614737036202563,0.48399301571202891,-7.5182849692808622E-3,185.35808897767893,8.180530098836174,1.0053096491487343,"",-0.49762745953038579,"","",4.855466545667609E-2,null,null,null,null,null,null,null,null,null,0.67020643276582226,24.878468565524379,-8.5622038581754794,null,null,10.398380345005867,9.6306021717669719,null,null,null,null,null,null,null,null,null,null,2.3561944901923448,2.1822778071079325,-11.207549276035856]
[0,33,1.0367255756846323,5.9993460224098314,2.9819171684992583,-2.8730991035830082,5.1333228559438249,1.7214840540078877,-12.11095827222516,5.9993460224098314,13.51545274743631,1.0180828315007417,-1.5569176838275069,0.12451722431935419,-4.4092318901885284E-3,315.20517007315976,8.6029032797842753,1.0367255756846323,"",-0.4953650972581185,"","",2.8552831154105379E-2,null,null,null,null,null,null,null,null,null,0.71209433481368611,23.628978951805934,-7.0518303711963597,null,null,10.106523230467378,10.203261287734819,null,null,null,null,null,null,null,null,null,null,2.4347343065320897,2.6035948344054294,-10.751771083703174]
[0,34,1.0681415022205303,5.9973365727297079,3.0364926517965705,-3.2540682511788672,5.3217975893468825,1.7526133600877278,-12.133376565120393,5.9973365727297097,13.534654514896717,0.96350734820342954,0.14548367582246513,-0.25583003633479517,-1.2492950460339951E-3,1111.0445580924418,9.027503750397134,1.0681415022205303,"",-0.49428422010490869,"","",8.1004852005685055E-3,null,null,null,null,null,null,null,null,null,0.75398223686154997,22.317337475625934,-5.5951049327818083,null,null,9.7731510029336626,10.76684223864363,null,null,null,null,null,null,null,null,null,null,2.5132741228718345,{"$f":"rxn+currentrn*COS(AX41)","v":2.9878531370923218},{"$f":"ryn+currentrn*SIN(AX41)","v":-10.264341750452667}]
[0,35,1.0995574287564283,5.9830650070862665,3.0920190005209074,-3.6348863366286106,5.510018204757051,1.7820130483767362,-12.100865651863806,5.9830650070862657,13.499185768166813,0.9079809994790925,1.9387189421257904,-0.65591623850737069,2.0668445894484657E-3,671.6848944913952,9.452707462325888,1.0995574287564283,"",-0.49443280995064504,"","",1.3399140093532796E-2,null,null,null,null,null,null,null,null,null,0.79587013890941383,20.945845201832356,-4.1945831343494362,null,null,9.398639359255105,11.317816150421347,null,null,null,null,null,null,null,null,null,null,2.5918139392115793,3.3326836349536961,-9.748266440210525]
[0,36,1.1309733552923262,5.9559302915153394,3.148441416869856,-4.0137841788624087,5.6975899341765821,1.8096541049320396,-12.010697102469713,5.9559302915153394,13.406339937681141,0.8515585831301441,3.8146293547728973,-1.0745104775218515,5.6642638325867011E-3,245.51756279719169,9.8767968907130559,1.1309733552923262,"",-0.49588547947734396,"","",3.6657255381092213E-2,null,null,null,null,null,null,null,null,null,0.83775804095727768,19.51690819390965,-2.852721967034185,null,null,8.9836841432953882,11.852684178251664,null,null,null,null,null,null,null,null,null,null,2.6703537555513241,3.6359603333024584,-9.2067269288768454]
[0,37,1.1623892818282242,5.915371548792999,3.2057042187304399,-4.3889110907906277,5.88409975062903,1.8355092513679629,-11.860416308846366,5.915371548792999,13.253720065680373,0.79429578126955991,5.7639493298115827,-1.5102879861005665,9.6998752197493352E-3,143.86244370179853,10.29796948131052,1.1623892818282242,"",-0.49874906535792357,"","",6.2559760340616846E-2,null,null,null,null,null,null,null,null,null,0.87964594300514154,18.033033292925772,-1.5718755112910259,null,null,8.5292977634342577,12.368007189188953,null,null,null,null,null,null,null,null,null,null,2.748893571891069,3.8958134304435541,-8.6430619876191628]
[0,38,1.1938052083641222,5.8608709311630687,3.2637508946306455,-4.758344019808618,6.0691176752486387,1.8595529717765034,-11.647876472472946,5.8608709311630687,13.039280439876315,0.73624910536935451,7.7763582384662211,-1.9618350396765125,1.4380169350080721E-2,97.55658931497716,10.714347377221291,1.1938052083641222,"",-0.50317076636362668,"","",9.2254147702335615E-2,null,null,null,null,null,null,null,null,null,0.9215338450530054,16.496823719681117,-0.35429080703788429,null,null,8.0368028420802009,12.86043499691932,null,null,null,null,null,null,null,null,null,null,2.8274333882308138,4.1106408456231831,-8.0607467982379433]
[0,39,1.2252211349000202,5.7919563330654862,3.3225241595094186,-5.1200977286890179,6.2521981721364286,1.8817615379084516,-11.371270792572805,5.7919563330654862,12.761369738478574,0.67747584049058129,9.8405431232449025,-2.4276542336442972,1.9988477177380351E-2,70.710704009826159,11.123988453601417,1.2252211349000202,"",-0.50934996085472939,"","",0.12727917400948707,null,null,null,null,null,null,null,null,null,0.96342174710086925,14.910974507774691,0.79789608841592496,null,null,7.5078231509592577,13.326734890452204,null,null,null,null,null,null,null,null,null,null,2.9059732045705586,4.2791180963894,-7.4633715275151733]
[0,40,1.2566370614359181,5.7082039324993668,3.3819660112501069,-5.4721359549995894,6.4328816257762877,1.9021130325903077,-11.029162517844092,5.7082039324993676,12.418776831073917,0.61803398874989324,11.944271909999218,-2.9061701120214569,2.6928546633635683E-2,53.014655664644103,11.52489870780289,1.2566370614359181,"",-0.51755551913067377,"","",0.16976437717395515,null,null,null,null,null,null,null,null,null,1.0053096491487332,13.278267775599341,1.8826638477400337,null,null,6.9442719099991432,13.763819204711748,null,null,null,null,null,null,null,null,null,null,2.9845130209103035,4.4002064644668586,-6.8546191926422928]
[0,41,1.2880529879718161,5.609240550321891,3.442017787921543,-5.8123834768336691,6.6106958954575559,1.9205873713538866,-10.620512540251958,5.609240550321891,12.010781247238855,0.55798221207845677,14.074476574794728,-3.3957351255835855,3.5796903676264431E-2,40.404699424479212,11.91504608839362,1.2880529879718161,"",-0.52815158675843143,"","",0.22274636683839169,null,null,null,null,null,null,null,null,null,1.0471975511965972,11.601567845560796,2.898109419678029,null,null,6.3483375509925715,14.168771689417934,null,null,null,null,null,null,null,null,null,null,3.0630528372500483,4.4731593998003945,-6.2382429541944866]
[0,42,1.3194689145077141,5.4947458174942891,3.5026202256702921,-6.1387390028232502,6.7851579408256226,1.9371663222572626,-10.144704227898636,5.4947458174942891,11.537211771932396,0.49737977432970776,16.217345629017011,-3.8946358962153411,4.7507897311533716E-2,30.961259221739265,12.292375909695616,1.3194689145077141,"",-0.54163686728129135,"","",0.29068585148761339,null,null,null,null,null,null,null,null,null,1.0890854532444612,9.8838162190828012,3.8424513676460066,null,null,5.7224670696929927,14.538872443229229,null,null,null,null,null,null,null,null,null,null,3.1415926535897931,4.497527123284363,-5.6180429766476836]
[0,43,1.3508848410436121,5.3644541410364139,3.5637135172069168,-6.4490887952152978,6.955775512379839,1.9518335238774953,-9.6015652154177928,5.3644541410364148,10.998519119281635,0.43628648279308319,18.358425195952201,-4.4010997629894142,6.351950307920598E-2,23.662980303383009,12.654828107151742,1.3508848410436121,"",-0.55870621306851076,"","",0.38034093274012926,null,null,null,null,null,null,null,null,null,1.1309733552923251,8.1280264162141247,4.7140329949776785,null,null,5.0693471113703961,14.871621192767741,null,null,null,null,null,null,null,null,null,null,3.2201324699295379,4.4731593998003945,-4.9978429991008806]
[0,44,1.38230076757951,5.2181564602387978,3.6252373708285526,-6.7413209263194762,7.1220489004601584,1.9645745014573777,-8.9913858945095395,5.2181564602387969,10.395873082503316,0.37476262917144726,20.482727867973622,-4.9133015843521024,8.6262114759983702E-2,17.91772611608797,13.000356775806763,1.38230076757951,"",-0.5803506290865782,"","",0.50229587960489464,null,null,null,null,null,null,null,null,null,1.1728612573401891,6.3372786888903843,5.5113252513332753,null,null,4.3918829549446601,15.164758710752331,null,null,null,null,null,null,null,null,null,null,3.2986722862692828,4.4002064644668595,-4.3814667606530744]
[0,45,1.413716694115408,5.0557017855024551,3.6871310699195403,-7.0133400609626051,7.2834727360112126,1.9753766811902758,-8.3149343739390655,5.0557017855024551,9.7313028000800674,0.31286893008045963,22.574848456213601,-5.4293707697615403,0.1200023565442086,13.358162021365315,13.326952760843206,1.413716694115408,"",-0.60802666120230586,"","",0.67374538395366201,{"$f":"v0*($M$2-deltat)","v":51.599999999999994},null,null,null,null,null,null,null,null,1.2147491593880531,4.5147146171254686,6.2329294151734231,null,null,3.6931755794409327,15.416286183895132,null,null,null,null,null,null,null,null,null,null,3.3772121026090276,4.2791180963894009,-3.7727144257801939]
[0,46,1.445132620651306,4.8769985130289513,3.7493335328713937,-7.2630826507883093,7.4395378361861182,1.984229402628956,-7.5734677073382022,4.8769985130289522,9.0079147204101115,0.2506664671286063,24.619085674920669,-5.947398513197002,0.17271123571696664,9.7424429783515709,13.632670654709099,1.445132620651306,"",-0.64395844829488802,"","",0.92379293571424193,null,null,null,null,null,null,null,null,null,1.256637061435917,2.6635315976126908,6.8775795475920134,null,null,2.9764970135103357,15.624482359326747,null,null,null,null,null,null,null,null,null,null,3.4557519189487724,4.110640845623184,-3.175339155057423]
[0,47,1.476548547187204,4.6820155094628619,3.8117833733629736,-7.4885324203880872,7.5897330876531957,1.9911239292061602,-6.7687392182270614,4.6820155094628619,8.2302551500676984,0.18821662663702637,26.599568741249008,-6.4654452001388609,0.26047296730986969,6.9016652893338204,13.915662641807137,1.476548547187204,"",-0.69171161105675216,"","",1.3040331025483156,null,null,null,null,null,null,null,null,null,1.298524963483781,0.78697723440448897,7.4441447132031797,null,null,2.2452641839790628,15.787918317944737,null,null,null,null,null,null,null,null,null,null,3.5342917352885173,3.895813430443555,-2.5930239656762035]
[0,48,1.5079644737231019,4.4707829614924099,3.8744189609413757,-7.6877360204030074,7.7335473602975702,1.9960534568565433,-5.9030017845444238,4.4707829614924099,7.4049530962123926,0.12558103905862439,28.500387818578943,-6.9815479589117588,0.41910570997110819,4.7100402091156681,14.17422373297336,1.5079644737231019,"",-0.75737448922988115,"","",1.9108117129407249,null,null,null,null,null,null,null,null,null,1.340412865531645,{"$f":"rx+ABS(Rcurrenta)*COS(AG55)","v":-1.1116563584886112},{"$f":"IF(ABS(Rcurrenta)<500,ry+ABS(Rcurrenta)*SIN(AG55),currenty+currentdy_dx*(AH55-current_x))","v":7.9316309641863114},null,null,1.5030114926946307,15.905469744054018,null,null,null,null,null,null,null,null,null,null,3.6128315516282621,3.6359603333024593,-2.0293590244185213]
[0,49,1.5393804002589999,4.2433929863381028,3.9371784818437461,-7.8588187189454066,7.8704714438672312,1.9990131207314632,-4.9790069793559937,4.2433929863381037,6.5419335472763027,6.2821518156254127E-2,30.305727188127758,-7.4937283266913655,0.739578814682056,3.066943090496538,14.406857195445738,1.5393804002589999,"",-0.85225688655029008,"","",2.9345180965007409,null,null,null,null,null,null,null,null,null,1.3823007675795089,-3.0290383325846424,8.3391830840082406,null,null,0.75336236221156638,15.976326582801102,null,null,null,null,null,null,null,null,null,null,3.6913713679680069,3.332683634953697,-1.4878195130848431]
[0,50,1.5707963267948979,3.9999999999999898,4.0000000000000027,-8.0000000000000053,8.0000000000000053,2,-3.9999999999999591,3.9999999999999898,5.6568542494923442,-2.5420204136095137E-15,32.000000000000064,-8.0000000000000213,1.5000000000000486,1.8856180831640867,14.612378099169696,1.5707963267948979,"",-1.0000000000000075,"","",4.7729707730092974,null,null,null,null,null,null,null,null,null,1.4241886696273729,-4.9618049483702711,8.6660860877636665,null,null,-2.8727888123913914E-14,16,null,null,null,null,null,null,null,null,null,null,3.7699111843077517,2.9878531370923236,-0.97174420284270013]
[0,51,1.6022122533307959,3.7408208410880488,4.0628215181562588,-8.1096089359069481,8.1216335219844833,1.999013120731463,-2.9697103544179591,3.7408208410880488,4.7762872771909288,-6.2821518156259221E-2,33.567983431281753,-8.4983766391603801,3.8309480057783554,1.0859823909702344,14.790093416696029,1.6022122533307959,"",-1.2596584833678912,"","",8.2874271947994043,null,null,null,null,null,null,null,null,null,1.4660765716752369,-6.9065654764428981,8.9117664765016045,null,null,-0.75336236221162745,15.976326582801097,null,null,null,null,null,null,null,null,null,null,3.8484510006474966,2.6035948344054303,-0.48431486959219328]
[0,52,1.6336281798666938,3.4661346490233922,4.1255810390586296,-8.1860992006286484,8.2348802945547863,1.9960534568565429,-1.8923383104866733,3.4661346490233917,3.9490547839319814,-0.12558103905862947,34.994953065547769,-8.9868796959406279,15.390420906291123,0.59051731057756718,14.940144906910604,1.6336281798666938,"",-1.8316675352474199,"","",15.240874126445796,null,null,null,null,null,null,null,null,null,1.5079644737231008,-8.8599081460022155,9.0757932433374577,null,null,-1.5030114926946911,15.905469744054008,null,null,null,null,null,null,null,null,null,null,3.9269908169872414,2.1822778071079343,-2.8536677259511478E-2]
[0,53,1.6650441064025918,3.176282496366627,4.1882166266370318,-8.2280635912709403,8.3392583459960949,1.9911239292061598,-0.77253715148385327,3.176282496366627,3.2688811766639359,-0.18821662663703143,36.26681530538719,-9.4635462335104599,233.98807470871611,0.32377667384064812,15.064208121888846,1.6650441064025918,"",-4.1114948197193781,"","",27.796937602828962,null,null,null,null,null,null,null,null,null,1.5498523757709648,-10.81840613025552,9.1578786295855323,null,null,-2.2452641839791223,15.787918317944726,null,null,null,null,null,null,null,null,null,null,4.0055306333269858,1.7264996147752552,0.39278035003798273]
[0,54,1.6964600329384898,2.871666776000076,4.2506664671286112,-8.234247927269795,8.4342973848455358,1.9842294026289553,0.3846086819371779,2.871666776000076,2.8973080455146851,-0.25066646712861135,37.370236637311834,-9.9264367078346822,-1953.3697666138514,0.21884786039463947,15.1669030527895,1.6964600329384898,"",7.4664637353899748,"","",41.124459630405639,null,null,null,null,null,null,null,null,null,1.5917402778188288,-12.778623558236342,9.1578786295855323,null,null,-2.9764970135103974,15.624482359326731,null,null,null,null,null,null,null,null,null,null,4.0840704496667311,1.2390702815247456,0.77703865272487782]
[0,55,1.7278759594743878,2.5527503448587519,4.312868930080465,-8.2035641997598585,8.5195407135110024,1.9753766811902751,1.573609446059284,2.5527503448587527,2.9987965939528958,-0.31286893008046468,38.292768586676338,-10.373642679760703,-29.275424128210172,0.23639972628372616,15.257924669499255,1.7278759594743878,"",1.6222261192263971,"","",38.071110070568487,null,null,null,null,null,null,null,null,null,1.6336281798666927,-14.737121542489646,9.0757932433374577,null,null,-3.6931755794409904,15.416286183895117,null,null,null,null,null,null,null,null,null,null,4.1626102660064763,0.72299497128260004,1.1218691505862539]
[0,56,1.7592918860102857,2.2200554268671917,4.3747626291714523,-8.1351028478925507,8.5945471111988692,1.9645745014573768,2.7885997914001939,2.2200554268671917,3.5643982514527854,-0.37476262917145226,39.022967228874563,-10.803294427306954,-5.3843414609297584,0.38785330836033272,15.352134642990981,1.7592918860102857,"",0.79611833641874863,"","",23.204649299107192,null,null,null,null,null,null,null,null,null,1.6755160819145567,-16.690464212048965,8.9117664765016045,null,null,-4.391882954944716,15.164758710752311,null,null,null,null,null,null,null,null,null,null,4.2411500823462216,0.18145545994891865,1.4251458489350179]
[0,57,1.7907078125461837,1.8741622786917198,4.4362864827930881,-8.0281440442410172,8.658892678640127,1.9518335238774942,4.0233721146645767,1.8741622786917207,4.43846904010059,-0.43628648279308818,39.550506161873138,-11.21356842803058,-1.830850620525776,0.73329051640346876,15.464113516603305,1.7907078125461837,"",0.4658187772044961,"","",12.273443878889672,null,null,null,null,null,null,null,null,null,1.7174039839624207,-18.635224740121593,8.6660860877636665,null,null,-5.0693471113704511,14.871621192767718,null,null,null,null,null,null,null,null,null,null,4.3196898986859669,-0.38220948130876753,1.6849989460761137]
[0,58,1.8221237390820817,1.5157076228565973,4.4973797743297128,-7.882167877878568,8.7121726372324826,1.9371663222572615,5.2714133433563006,1.5157076228565973,5.4849948253850203,-0.4973797743297127,39.86628189379033,-11.602694681842792,-0.83006157617948439,1.3571790317111603,15.603552133898964,1.8221237390820817,"",0.28753344200694925,"","",6.6314021877074003,null,null,null,null,null,null,null,null,null,1.7592918860102846,-20.567991355907218,8.3391830840082406,null,null,-5.7224670696930433,14.538872443229202,null,null,null,null,null,null,null,null,null,null,4.3982297150257121,-0.96452467068999015,1.8998263612557436]
[0,59,1.8535396656179797,1.1453828536942066,4.5579822120784614,-7.6968633311985704,8.7540030753735394,1.9205873713538852,6.5259448990759861,1.1453828536942066,6.6256968469220325,-0.55798221207846166,39.962510657334292,-11.968963845247536,-0.44573332124660259,2.3479528668860401,15.775868328383039,1.8535396656179797,"",0.17551218580720507,"","",3.8331263488845932,null,null,null,null,null,null,null,null,null,1.8011797880581486,-22.485373330003252,7.9316309641863114,null,null,-6.3483375509926212,14.168771689417904,null,null,null,null,null,null,null,null,null,null,4.4767695313654574,-1.5618999414127646,2.0683036120219604]
[0,60,1.8849555921538776,0.76393202250018932,4.6180339887498985,-7.4721359549995672,8.7840226349461776,1.9021130325903062,7.7799655555151075,0.76393202250018932,7.817381670355025,-0.61803398874989812,39.832815729997471,-12.310734148701034,-0.26800890246841763,3.7853122093112774,15.984020733775072,1.8849555921538776,"",9.8192211398500179E-2,"","",2.3776110139241364,null,null,null,null,null,null,null,null,null,1.8430676901060126,-24.384006922896351,7.4441447132031726,null,null,-6.9442719099991912,13.763819204711716,null,null,null,null,null,null,null,null,null,null,4.5553093477052027,-2.1706522762856486,2.1893919800994182]
[0,61,1.9163715186897756,0.37214960914080386,4.6774758404905858,-7.2081141557236021,8.8018941311311831,1.8817615379084498,9.0262968793853258,0.37214960914080386,9.0339653910331599,-0.67747584049058607,39.472304414405627,-12.626438069623337,-0.17494973648522807,5.7305081424052959,16.229611022034021,1.9163715186897756,"",4.1229489137537274E-2,"","",1.5705413510192454,null,null,null,null,null,null,null,null,null,1.8849555921538765,-26.260561286104554,6.8775795475920063,null,null,-7.5078231509593021,13.326734890452165,null,null,null,null,null,null,null,null,null,null,4.633849164044948,-2.7870285147334588,2.2623449154329522]
[0,62,1.9477874452256736,-2.9121911791800681E-2,4.7362491053693594,-6.9051540189339571,8.8073060989633891,1.8595529717765016,10.257630917245155,-2.9121911791800237E-2,10.257672256422024,-0.73624910536935928,38.877633916504124,-12.914588734535538,-0.12169108445391165,8.2176282248333408,16.513421415086562,1.9477874452256736,"",-2.8390485119561483E-3,"","",1.0952065186889768,null,null,null,null,null,null,null,null,null,1.9268434942017405,-28.111744305617336,6.2329294151734231,null,null,-8.0368028420802435,12.860434996919283,null,null,null,null,null,null,null,null,null,null,4.7123889803846932,-3.4072284922802654,2.286712638916919]
[0,63,1.9792033717615716,-0.43899470136351448,4.7942957812695646,-6.5638426040683777,8.79997426031467,1.8355092513679607,11.466579768638869,-0.43899470136351448,11.474980084443871,-0.79429578126956457,38.047065449624476,-13.173786024843153,-8.9115809363811277E-2,11.246033574906029,16.835675693123633,1.9792033717615716,"",-3.8284711764197232E-2,"","",0.8002821563757605,null,null,null,null,null,null,null,null,null,1.9687313962496045,-29.934308377382244,5.5113252513332753,null,null,-8.5292977634342968,12.368007189188909,null,null,null,null,null,null,null,null,null,null,4.7909287967244385,-4.0274284698270719,2.2623449154329478]
[0,64,2.0106192982974695,{"$f":"alpha*(gama*COS(C71)-COS(beta*C71))","v":-0.85653837352584716},{"$f":"(alpha-beta*COS(C71))","v":4.8515585831301484},{"$f":"beta*E71*COS(pol*C71)","v":-6.1849996571166113},{"$f":"gama*E71*SIN(pol_2*C71)","v":8.7796429052797329},{"$f":"beta*SIN(C71)","v":1.8096541049320374},{"$f":"beta*H71*COS(pol*C71)-beta*E71*pol*SIN(pol*C71)","v":12.645726666355605},{"$f":"gama*H71*SIN(pol_2*C71)+gama*E71*pol_2*COS(pol_2*C71)","v":-0.85653837352584716},12.674701610116886,{"$f":"beta*COS(C71)","v":-0.85155858313014865},{"$f":"beta*(L71*COS(pol*C71)-2*pol*H71*SIN(pol*C71)-pol^2*E71*COS(pol*C71))","v":36.980505989143218},{"$f":"gama*(L71*SIN(pol_2*C71)+2*pol_2*H71*COS(pol_2*C71)-pol_2^2*E71*SIN(pol_2*C71))","v":-13.402722361934483},-6.814837093631855E-2,14.774962312002852,17.196172824457413,2.0106192982974695,"",-6.7733424588774113E-2,{"$f":"IF(S71<>\"\",T70+(scurrent-Q70)*(T71-T70)/(Q71-Q70),\"\")","v":""},{"$f":"IF(v0*($M$2-deltat)<Q71,IF(v0*($M$2-deltat)>Q70,R70,\"\"),\"\")","v":""},{"$f":"v0^2/P71","v":0.6091386096253254},null,null,null,null,null,null,null,null,null,2.0106192982974682,-31.725056104705978,4.7140329949776714,null,null,{"$f":"alpha*(3*COS($C71)-COS(3*$C71))","v":-8.983684143295422},{"$f":"4*alpha*(SIN($C71))^3","v":11.85268417825162},null,null,null,null,null,null,null,null,null,null,4.8694686130641838,-4.6438047082748817,2.1893919800994102]
[{"$f":"IF(AND(REMAIN_S>Q72,REMAIN_S<Q73),1,0)","v":0},65,{"$f":"C71+dt","v":2.0420352248333673},-1.280782988746505,4.9079809994790971,-5.769677700050944,8.7460861822568372,1.7820130483767342,13.787678168134571,-1.280782988746505,13.847038467929419,-0.90798099947909661,35.679537204592449,-13.600188148506534,-5.410728185489723E-2,18.721539832753958,{"$f":"Q71+dt*K71","v":17.594360319105274},2.0420352248333673,"",{"$f":"J72/I72","v":-9.2893304668699772E-2},"","",0.48072968785688236,null,null,null,null,null,null,null,null,null,2.0525072003453322,-33.480845907574654,3.8424513676459995,null,null,-9.3986393592551334,11.31781615042131,null,null,null,null,null,null,null,null,null,null,4.948008429403929,-5.2525570431477648,2.068303612021948]
[0,{"$f":"B72+1","v":66},2.0734511513692651,-1.7107222128977564,4.9635073482034331,-5.3191604684850633,8.6991092913549348,1.7526133600877256,14.885117050944141,-1.7107222128977568,{"$f":"SQRT(I73^2+J73^2)","v":14.983099816460204},-0.9635073482034332,34.147431202833275,-13.765076844367034,{"$f":"(N73*I73-M73*J73)/I73^3","v":-4.4413568786584444E-2},22.963209301537614,18.029377862353495,2.0734511513692651,"",-0.11492836818433001,"","",0.39193127937031697,null,null,null,null,null,null,null,null,null,2.0943951023931962,-35.198597534052645,2.8981094196780219,null,null,-9.7731510029336874,10.766842238643587,null,null,null,null,null,null,null,null,null,null,5.0265482457436743,{"$f":"rxn+currentrn*COS(AX73)","v":-5.8499323138705375},{"$f":"ryn+currentrn*SIN(AX73)","v":1.8998263612557267}]
[0,67,2.1048670779051628,-2.1453166295961275,5.0180828315007453,-4.8349596820444223,8.6385495761192743,1.721484054007886,15.930855489178519,-2.1453166295961283,16.074655208069348,-1.0180828315007449,32.389152826337238,-13.896389656382464,-3.7569044551832777E-2,{"$f":"IF(I74<>0,(1+(J74/I74)^2)^1.5/ABS(O74),\"\")","v":27.34497649353483},18.500085825467433,{"$f":"C74","v":2.1048670779051628},{"$f":"IF(scurrent>Q73,(IF(scurrent<Q74,(scurrent-Q73)*(R74-R73)/(Q74-Q73)+R73,\"\")),\"\")","v":""},-0.13466424518466036,"","",0.3291280942270281,null,null,null,null,null,null,null,null,null,{"$f":"AG73+2*PI()/150","v":2.1362830044410601},-36.875297464091197,1.8826638477400337,null,null,-10.106523230467396,10.203261287734787,null,null,null,null,null,null,null,null,null,null,5.1050880620834196,-6.4322475032517596,1.6849989460760932]
[0,68,2.1362830044410606,-2.5834971935716982,5.0716535899579949,-4.3188101451915237,8.5642775089481553,1.6886558510040288,16.917888091846201,-2.5834971935716982,17.114011664055404,-1.0716535899579951,30.411348363784853,-13.993239823744277,-3.2664902505636424E-2,31.690979392686877,19.005086012574029,2.1362830044410606,"",-0.15270802002862571,"","",0.28399248532144994,null,null,null,null,null,null,null,null,null,2.1781709064889241,-38.50800419626654,0.79789608841591786,null,null,-10.398380345005881,9.6306021717669417,null,null,null,null,null,null,null,null,null,null,{"$f":"AX74+2*PI()/80","v":5.1836278784231649},-6.9959124445094432,1.425145848934994]
[0,69,2.1676989309769583,-3.0241688120783463,5.1241667557042625,-3.7726631896506397,8.4761975659729938,1.6541611485491226,17.839444371140427,-3.0241688120783454,18.093959557680048,-1.1241667557042627,28.222320645102815,-14.054856481302506,-2.9130213022759973E-2,35.818979981043846,19.542738545746495,2.1676989309769583,"",-0.16952146878356047,"","",0.25126343644523069,null,null,null,null,null,null,null,null,null,2.2200588085367881,-40.093853408172976,-0.3542908070378914,null,null,-10.648667581980565,9.0523939257085537,null,null,null,null,null,null,null,null,null,null,5.2621676947629101,-7.5374519558431237,1.1218691505862264]
[0,70,2.1991148575128561,-3.4662140408400068,5.1755705045849476,-3.1986784830049255,8.3742489875898851,1.618033988749894,18.689040215722059,-3.4662140408400068,19.007757994087385,-1.1755705045849476,25.831990608726073,-14.080588085360811,-2.6596373167081088E-2,39.55571765542058,20.11117704995408,2.1991148575128561,"",-0.18546773942538108,"","",0.22752715747445607,null,null,null,null,null,null,null,null,null,2.261946710584652,-41.63006298141763,-1.5718755112910401,null,null,-10.857649092690297,8.4721359549995672,null,null,null,null,null,null,null,null,null,null,5.3407075111026554,-8.0535272660852648,0.77703865272484673]
[0,71,2.2305307840487538,-3.9084968805644023,5.2258141073059541,-2.5992142413808352,8.2584064212627819,1.5803100247513799,19.460527946618175,-3.9084968805644027,19.849143453219554,-1.2258141073059541,23.251845544281007,-14.06990538803457,-2.4820834695715003E-2,42.750881575546522,20.708323378708457,2.2305307840487538,"",-0.20084228399587772,"","",0.21052197447895424,null,null,null,null,null,null,null,null,null,2.303834612632516,-43.113937882401515,-2.8527219670341992,null,null,-11.025903146571647,7.8932685859691496,null,null,null,null,null,null,null,null,null,null,5.4192473274424007,-8.5409565993357717,0.3927803500379472]
[0,72,2.2619467105846516,-4.3498666596466258,5.2748479794973804,-1.976815897276136,8.1286804436636899,1.5410264855515778,20.148144541820901,-4.3498666596466258,20.612352326573809,-1.2748479794973802,20.494874328035316,-14.022403948035823,-2.3642650717214719E-2,45.287811272521388,21.3319026112353,2.2619467105846516,"",-0.21589415594164205,"","",0.19872896806255674,null,null,null,null,null,null,null,null,null,2.34572251468038,-44.542874890324214,-4.1945831343494504,null,null,-11.154314597159733,7.3191442169026013,null,null,null,null,null,null,null,null,null,null,5.4977871437821459,-8.9967347916684535,-2.8536677259554999E-2]
[0,73,2.2933626371205493,-4.7891619883320011,5.3226237306473045,-1.3342032864162485,7.9851179596726309,1.5002221392609187,20.746557627405352,-4.789161988332002,21.29215174513218,-1.3226237306473041,17.57549008035252,-13.937806167559497,-2.2955869704605648E-2,47.089791414938347,21.979458757658989,2.2933626371205493,"",-0.23084128337540274,"","",0.1911242273446325,null,null,null,null,null,null,null,null,null,2.3876104167282439,-45.914367164117792,-5.5951049327818296,null,null,-11.244064680982071,6.7529993241569883,null,null,null,null,null,null,null,null,null,null,5.5763269601218912,-9.4180518189659495,-0.48431486959224213]
[0,74,2.3247785636564471,-5.2252147693122568,5.3690942118573775,-0.67425642992870627,7.8278024762278342,1.4579372548428229,21.250908848187308,-5.2252147693122577,21.883875256896449,-1.3690942118573775,14.509440783044848,-13.815962846797463,-2.2693374169611674E-2,48.121714518037379,22.648371432675251,2.3247785636564471,"",-0.24588194352722784,"","",0.18702575521548687,null,null,null,null,null,null,null,null,null,2.4294983187761079,-47.226008640297806,-7.0518303711963881,null,null,-11.296618242247421,6.197927570062177,null,null,null,null,null,null,null,null,null,null,5.6548667764616365,-9.802310121652841,-0.9717442028427552]
[0,75,2.3561944901923448,-5.6568542494923788,5.4142135623730949,-1.9899646141460076E-15,7.6568542494923806,1.4142135623730951,21.65685424949238,-5.6568542494923797,22.383461215454506,-1.4142135623730949,11.313708498984768,-13.65685424949238,-2.2817118460374049E-2,48.387681370526195,23.335873650066663,2.3561944901923448,"",-0.26120387496374142,"","",0.18599775283884673,null,null,null,null,null,null,null,null,null,2.4713862208239719,-48.475498254016252,-8.5622038581755113,null,null,-11.313708498984759,5.6568542494923815,null,null,null,null,null,null,null,null,null,null,5.7334065928013818,-10.147140619514211,-1.4878195130849026]
[0,76,2.3876104167282426,-6.0829110974885419,5.4579372548428227,0.68541343157994461,7.4724303042860534,1.3690942118573777,21.960601323364454,-6.0829110974885428,22.787492576053776,-1.4579372548428227,8.0063979356955919,-13.460590674855682,-2.3312519542658599E-2,47.925618246033139,24.039070823230503,2.3876104167282426,"",-0.27699200982337291,"","",0.18779100467305793,null,null,null,null,null,null,null,null,null,2.5132741228718358,-49.660643975911256,-10.123575685394673,null,null,-11.297319488051697,5.1325123000411113,null,null,null,null,null,null,null,null,null,null,5.811946409141127,-10.450417317862971,-2.0293590244185875]
[1,77,2.4190263432641403,-6.5022214913008876,5.5002221392609183,1.3787212520710816,7.2747243252181724,1.3226237306473043,22.158942397326317,-6.5022214913008867,23.093237375689899,-1.5002221392609185,4.6066151880197443,-13.227412533105039,-2.4185773743184088E-2,46.800165379613397,24.754961015937127,2.4190263432641403,"",-0.29343555187387643,"","",0.19230701274232007,null,null,null,null,null,null,null,null,null,2.5551620249196998,-50.779366657671389,-11.733206676111234,null,null,-11.249666346974038,4.6274200867855813,null,null,null,null,null,null,null,null,null,null,5.8904862254808723,-10.710270415004063,-2.5930239656762755]
[0,78,2.4504422698000381,-6.9136312005492044,5.5410264855515781,2.0765696540339311,7.0639664194469001,1.2748479794973804,22.249284071419581,-6.9136312005492053,23.298689621262664,-1.5410264855515776,1.1343375815361778,-12.957689923819032,-2.5463497565972326E-2,45.094991378780009,25.480456464807855,2.4504422698000381,"",-0.31073499616242223,"","",0.1995787054132814,null,null,null,null,null,null,null,null,null,2.5970499269675638,-51.829703679568325,-13.388272990611174,null,null,-11.173173609716333,4.1438611568088319,null,null,null,null,null,null,null,null,null,null,5.9690260418206176,-10.925097830183686,-3.1753391550575003]
[0,79,2.4818581963359359,-7.315999647664932,5.5803100247513795,2.7755333408006395,6.8404227514810803,1.2258141073059543,22.229672439467937,-7.3159996476649312,23.402610700746056,-1.5803100247513797,-2.3897243826005905,-12.651921718252868,-2.7194528688899277E-2,42.905424033945387,26.21240638633213,2.4818581963359359,"",-0.32910964691839778,"","",0.20976368845299118,null,null,null,null,null,null,null,null,null,2.6389378290154277,-52.80981239355873,-15.085871080183562,null,null,-11.07045171104741,3.6838661410998053,null,null,null,null,null,null,null,null,null,null,{"$f":"AX85+2*PI()/80","v":6.0475658581603629},-11.093575080949897,-3.7727144257802765]
[0,80,2.5132741228718336,-7.708203932499357,5.618033988749894,3.4721359549995578,6.6043950509301004,1.1755705045849478,22.09881386307833,-7.7082039324993588,23.4045718187704,-1.6180339887498938,-5.9442719099990473,-12.310734148701027,-2.9454100806404981E-2,40.331970433168159,26.947621084854987,2.5132741228718336,"",-0.34880622916046489,"","",0.22314803624368895,null,null,null,null,null,null,null,null,null,2.6808257310632917,{"$f":"rx+ABS(Rcurrenta)*COS(AG87)","v":-53.717973355915092},{"$f":"IF(ABS(Rcurrenta)<500,ry+ABS(Rcurrenta)*SIN(AG87),currenty+currentdy_dx*(AH87-current_x))","v":-16.823022780931574},null,null,-10.944271909999163,3.2491969623290764,null,null,null,null,null,null,null,null,null,null,6.1261056745001081,-11.214663449027352,-4.3814667606531614]
[0,81,2.5446900494077314,-8.089142804935193,5.6541611485491226,4.1628710872334374,6.3562199945935571,1.1241667557042632,21.856091101548781,-8.089142804935193,23.304998381416691,-1.6541611485491223,-9.5075684893209225,-11.934878909923071,-3.235102261520053E-2,37.475008610134189,27.682897393717624,2.5446900494077314,"",-0.37010931036803624,"","",0.2401600515594324,null,null,null,null,null,null,null,null,null,2.7227136331111557,-54.552593343714278,-18.596680538483984,null,null,-10.797539856880917,2.8413334864705928,null,null,null,null,null,null,null,null,null,null,6.2046454908398534,-11.287616384360879,-4.9978429991009721]
[0,82,2.5761059759436291,-8.4577405702763961,5.6886558510040288,4.844223716395974,6.096268464764024,1.0716535899579955,21.501574637301189,-8.4577405702763961,23.105217753519078,-1.6886558510040288,-13.057594976928726,-11.525230779560149,-3.6039056580040044E-2,34.430710589579235,28.415045510787433,2.5761059759436291,"",-0.3933544734720873,"","",0.26139454707402787,null,null,null,null,null,null,null,null,null,2.7646015351590196,-55.312208149891894,-20.403732754441091,null,null,-10.633268040281406,2.4614627344900639,null,null,null,null,null,null,null,null,null,null,6.2831853071795987,-11.31198410784484,-5.6180429766477786]
[0,83,2.6075219024795269,-8.812950912438394,5.7214840540078855,5.5126919286653209,5.8249446860907108,1.0180828315007453,21.036029074396971,-8.8129509124383922,22.807512424723644,-1.7214840540078857,-16.5722079618563,-11.082784766353901,-4.0734567736610001E-2,31.288112257482407,29.140917334327913,2.6075219024795269,"",-0.41894555675266049,"","",0.28764918528594485,null,null,null,null,null,null,null,null,null,2.8064894372068836,-55.995485151959066,-22.241009245175636,null,null,-10.454547360359847,2.1104707475415463]
[0,84,2.6389378290154246,-9.153760620266878,5.7526133600877252,6.1648087589782916,5.5426852438177674,0.96350734820343353,20.460914526805333,-9.153760620266878,22.415181390441216,-1.7526133600877256,-20.029300150943072,-10.608652796829869,-4.6743973122049164E-2,28.127169213736597,29.85743646912961,2.6389378290154246,"",-0.44737788275664636,"","",0.319975321071579,null,null,null,null,null,null,null,null,null,2.8483773392547476,-56.601225649875097,-24.10528680341212,null,null,-10.264518082409122,1.7889371755075136]
[0,85,2.6703537555513224,-9.4791932026768162,5.7820130483767338,6.7971639967969457,5.2499579866662867,0.90798099947909694,19.778382953049121,-9.4791932026768162,21.932613524410137,-1.782013048376734,-23.406961492459835,-10.104059952915986,-5.4507085738058236E-2,25.017611873326363,30.561630160980538,2.6703537555513224,"",-0.47927038449902515,"","",0.35974656756090095,null,null,null,null,null,null,null,null,null,2.8902652413026115,-57.128366968974603,-25.993294852827635,null,null,-10.066340430099499,1.4971326344940272]
[0,86,2.7017696820872201,-9.7883123787228961,5.8096541049320374,7.4064257972512273,4.9472608180721798,0.85155858313014898,18.991269434314614,-9.7883123787228961,21.36537792668766,-1.8096541049320374,-26.683639745857285,-9.5703402747269308,-6.4667133971232749E-2,22.018419342908576,31.25066353620365,2.7017696820872201,"",-0.51541116893622507,"","",0.40874868717125284,null,null,null,null,null,null,null,null,null,2.9321531433504755,-57.575984324260098,-27.901721185754052,null,null,-9.8631650809328324,1.2350188542663634]
[0,87,2.7331856086231179,-10.080225429186584,5.8355092513679603,7.9893619392880133,4.6351203799210907,0.79429578126956535,18.103078433737565,-10.080225429186584,20.720337677781075,-1.8355092513679605,-29.838299205501023,-9.0089321444495774,-7.8187156256856863E-2,19.177755150445844,31.921876679560164,2.7331856086231179,"",-0.5568238278413854,"","",0.46929371709028045,null,null,null,null,null,null,null,null,null,2.9740410453983395,-57.943292442788987,-29.827217773915798,null,null,-9.6581038272266202,1.0022516118004812]
[0,88,2.7646015351590156,-10.354086396791637,5.8595529717765009,8.5428605742778991,4.3140906333348257,0.73624910536936039,17.117965115024568,-10.354086396791637,20.00579503022621,-1.8595529717765009,-32.850576297432752,-8.4213732689069793,-9.6550184301440134E-2,16.533238346731761,32.572825285844331,2.7646015351590156,"",-0.60486666068175221,"","",0.54435796613184928,null,null,null,null,null,null,null,null,null,3.0159289474462034,-58.229646941309248,-31.766406642009095,null,null,-9.4542006643987442,0.79818642235207193]
[0,89,2.7960174616949134,-10.609099122736939,5.8817615379084494,9.063950311615466,3.984751341459738,0.67747584049058762,16.040711838493372,-10.609099122736941,19.231677526457204,-1.8817615379084491,-35.700930790240164,-7.8092952799518995,-0.12211753752570144,14.112454515087936,33.201325872806152,2.7960174616949134,"",-0.66138580566468197,"","",0.63773456207620738,null,null,null,null,null,null,null,null,null,3.0578168494940674,-58.434545456726546,-33.715885793818501,null,null,-9.254403564449234,0.62188693492773539]
[0,90,2.8274333882308111,-10.844520107860998,5.9021130325903055,9.549819492174791,3.6477064595845556,0.61803398874990012,14.876699991679256,-10.844520107860998,18.409775094015437,-1.9021130325903055,-38.370791393852912,-7.1744179733394216,-0.15880081043726171,11.933639638962179,33.805506841139412,2.8274333882308111,"",-0.72896005928240049,"","",0.7541705860310941,null,null,null,null,null,null,null,null,null,3.0997047515419314,-58.557628527419872,-35.672235180474281,null,null,-9.0615371863719698,0.47213595499959143]
[0,91,2.8588493147667089,-11.059661187423586,5.9205873713538848,9.9978345060172717,3.3035824382718602,0.55798221207846421,13.631877349525285,-11.059661187423586,17.554036164173304,-1.9205873713538846,-40.842694563243889,-6.5185432081458696,-0.21339389671685646,10.006494531420874,34.383866983035404,2.8588493147667089,"",-0.81130873641617141,"","",0.89941587153618763,null,null,null,null,null,null,null,null,null,3.1415926535897953,-58.598680223859319,-37.632022700380254,null,null,-8.8782767668287228,0.34744899394892353]
[0,92,2.8902652413026066,-11.253892009204485,5.9371663222572604,10.405557017450954,2.9530264455223039,0.49737977432971564,12.31272119552942,-11.253892009204485,16.680922893943126,-1.9371663222572606,-43.100415377246087,-5.843548490132628,-0.29839465114646202,8.3331088336639603,34.935343293577567,2.8902652413026066,"",-0.91400526581326458,"","",1.0800290959409942,null,null,null,null,null,null,null,null,null,3.1834805556376593,-58.557628527419865,-39.59181022028622,null,null,-8.7071234238579471,0.24609022226351177]
[0,93,2.9216811678385044,-11.42664230537404,5.9518335238774931,10.770759968356995,2.5967045143025236,0.43628648279309157,10.926197469752255,-11.426642305374038,15.809805360060077,-1.9518335238774933,-45.129089425552344,-5.151380263692996,-0.4384880198677979,6.9089921861950421,35.459389941764663,2.9216811678385044,"",-1.045802287301433,"","",1.3026501923077916,null,null,null,null,null,null,null,null,null,3.2253684576855233,-58.434545456726532,-41.548159606942001,null,null,-8.5503810937622209,0.16609068214661205]
[0,94,2.9530970943744022,-11.5774039493825,5.9645745014573759,11.091442239567385,2.2352996220551935,0.37476262917145614,9.4797162420004391,-11.5774039493825,14.963331922938302,-1.9645745014573761,-46.91532470891751,-4.4440469381633001,-0.68704012245256363,5.7242265795847276,35.956069625503154,2.9530970943744022,"",-1.2212816980837604,"","",1.5722648072838721,null,null,null,null,null,null,null,null,null,3.2672563597333872,-58.22964694130922,-43.497638758751414,null,null,-8.4101353067362208,0.1052685951127149]
[0,95,2.9845130209102999,-11.705732789941703,5.9753766811902747,11.365841859928212,1.8695097090717849,0.31286893008046901,7.9810838385170797,-11.705732789941703,14.167634925666135,-1.9753766811902742,-48.447302638025654,-3.7236116753215116,-1.1739909833427045,4.7647672585945928,36.42615656192644,2.9845130209102999,"",-1.4666846040946588,"","",1.8888645576058261,null,null,null,null,null,null,null,null,null,3.3091442617812512,-57.943292442788959,-45.436827626844703,null,null,-8.288233990388191,6.1251581524587533E-2]
[0,96,3.0159289474461977,-11.811250255030336,5.9842294026289551,11.592447663434482,1.5000456428441891,0.25066646712861612,6.4384519778745446,-11.811250255030336,13.452111226805657,-1.9842294026289546,-49.714867304733538,-2.9921849658333626,-2.2722578919250735,4.0139258536357136,36.871245939938589,3.0159289474461977,"",-1.8344860372678362,"","",2.2421938840370021,null,null,null,null,null,null,null,null,null,3.3510321638291152,-57.575984324260055,-47.362324215006453,null,null,-8.1862704722207393,3.1500592032941983E-2]
[0,97,3.0473448739820954,-11.893644719739386,5.9911239292061591,11.770009306389536,1.1276291357196115,0.18821662663703664,4.8602642962442024,-11.893644719739386,12.848383312647966,-1.9911239292061593,-50.709602294709065,-2.2519170232340064,-5.3485496658308715,3.4540590812784733,37.293856477992641,3.0473448739820954,"",-2.4471189208640918,"","",2.6056300104365242,null,null,null,null,null,null,null,null,null,3.3929200658769791,-57.128366968974561,-49.270750547932863,null,null,-8.1055688325291975,1.3335335665256517E-2]
[0,98,3.0787608005179932,-11.952672632684077,5.9960534568565427,11.897545568829729,0.7529906233631658,0.12558103905863516,3.255200663602059,-11.952672632684077,12.388006878607639,-1.9960534568565427,-51.424894412036153,-1.5049900247490415,-17.961924212992852,3.0684436893696314,37.69750034424785,3.0787608005179932,"",-3.6718696842049012,"","",2.9330829929125808,null,null,null,null,null,null,null,null,null,3.4348079679248431,-56.601225649875033,-51.158758597348374,null,null,-8.0471717382245114,3.9609760088627861E-3]
[0,99,3.1101767270538909,-11.988159396638935,5.9990131207314628,11.974350877363788,0.37686711168370568,6.2821518156265355E-2,1.6321197105365839,-11.988159396638935,12.098751194596259,-1.9990131207314628,-51.85598379329155,-0.75361022885963846,-143.26951244626301,2.8432289032361662,38.086681058272383,3.1101767270538909,"",-7.3451471232448062,"","",3.165415204437529,null,null,null,null,null,null,null,null,null,3.4766958699727071,-55.995485151959009,-53.023036155584862,null,null,-8.0118308659764601,4.9585566348245974E-4]
[0,100,3.1415926535897887,-12,6,12,5.4760883327897858E-14,9.1268138879829763E-15,2.3729716108755738E-13,-12,12,-2,-52,-1.0952176665579572E-13,-4.6698933464424833E+40,2.7692307692307816,38.46677453697793,3.1415926535897887,"",-50569505109133.047,"","",3.2499999999999853,null,null,null,null,null,null,null,null,null,3.518583772020571,-55.312208149891823,-54.8603126463194,null,null,-8,1.5205040434993126E-42]
[0,101,3.1730085801256864,-11.988159396638942,5.9990131207314636,11.974350877363804,-0.37686711168359627,-6.2821518156247105E-2,-1.6321197105361107,-11.988159396638942,12.098751194596202,-1.9990131207314634,-51.855983793291642,0.75361022885941975,143.26951244638778,2.8432289032361222,38.843765655408703,3.1730085801256864,"",7.3451471232469396,"","",3.1654152044375778,null,null,null,null,null,null,null,null,null,3.560471674068435,-54.552593343714193,-56.6673648622765,null,null,-8.0118308659764548,-4.9585566348202769E-4]
[0,102,3.2044245066615842,-11.952672632684092,5.9960534568565436,11.897545568829759,-0.75299062336305667,-0.12558103905861692,-3.2552006636015891,-11.952672632684092,12.388006878607531,-1.9960534568565438,-51.424894412036323,1.5049900247488237,17.961924213000671,3.0684436893695408,39.223859134114242,3.2044245066615842,"",3.6718696842054355,"","",2.9330829929126674,null,null,null,null,null,null,null,null,null,3.602359576116299,-53.717973355915014,-58.441022619828914,null,null,-8.0471717382244972,-3.9609760088610601E-3]
[0,103,3.2358404331974819,-11.893644719739406,5.9911239292061609,11.77000930638958,-1.1276291357195032,-0.18821662663701849,-4.8602642962437397,-11.893644719739406,12.84838331264781,-1.9911239292061609,-50.709602294709313,2.2519170232337906,5.3485496658324152,3.4540590812783356,39.613039848138776,3.2358404331974819,"",2.4471189208643285,"","",2.6056300104366281,null,null,null,null,null,null,null,null,null,3.6442474781641629,-52.809812393558637,-60.178174320576915,null,null,-8.1055688325291761,-1.3335335665252657E-2]
[0,104,3.2672563597333797,-11.811250255030362,5.9842294026289569,11.592447663434541,-1.5000456428440812,-0.25066646712859803,-6.4384519778740907,-11.811250255030362,13.452111226805464,-1.9842294026289571,-49.714867304733865,2.9921849658331485,2.2722578919255629,4.0139258536355245,40.016683714393977,3.2672563597333797,"",1.8344860372679697,"","",2.2421938840371078,null,null,null,null,null,null,null,null,null,3.6861353802120269,-51.829703679568219,-61.875772410149295,null,null,-8.1862704722207127,-3.1500592032935162E-2]
[0,105,3.2986722862692774,-11.705732789941736,5.9753766811902773,11.365841859928285,-1.8695097090716781,-0.31286893008045097,-7.9810838385166365,-11.705732789941736,14.167634925665915,-1.9753766811902771,-48.447302638026059,3.7236116753213007,1.1739909833429061,4.7647672585943441,40.439294252448029,3.2986722862692774,"",1.4666846040947445,"","",1.8888645576059246,null,null,null,null,null,null,null,null,null,3.7280232822598909,-50.779366657671282,-63.530838724649243,null,null,-8.2882339903881626,-6.1251581524576944E-2]
[0,106,3.3300882128051752,-11.577403949382539,5.9645745014573794,11.091442239567472,-2.2352996220550878,-0.37476262917143821,-9.4797162420000127,-11.577403949382539,14.96333192293806,-1.9645745014573794,-46.915324708917993,4.4440469381630923,0.68704012245266044,5.7242265795844167,40.884383630460171,3.3300882128051752,"",1.2212816980838195,"","",1.5722648072839576,null,null,null,null,null,null,null,null,null,3.7699111843077548,-49.660643975911142,-65.140469715365796,null,null,-8.4101353067361782,-0.10526859511269979]
[0,107,3.3615041393410729,-11.426642305374088,5.9518335238774975,10.770759968357096,-2.5967045143024192,-0.43628648279307375,-10.926197469751845,-11.426642305374088,15.809805360059828,-1.9518335238774973,-45.129089425552905,5.1513802636927917,0.43848801986785069,6.9089921861946619,41.35447056688345,3.3615041393410729,"",1.0458022873014767,"","",1.3026501923078631,null,null,null,null,null,null,null,null,null,3.8117990863556188,-48.475498254016131,-66.701841542584958,null,null,-8.5503810937621818,-0.1660906821465917]
[0,108,3.3929200658769707,-11.253892009204538,5.9371663222572657,10.405557017451068,-2.9530264455222017,-0.49737977432969799,-12.312721195529029,-11.25389200920454,16.680922893942878,-1.9371663222572653,-43.100415377246712,5.8435484901324308,0.29839465114649288,8.3331088336635162,41.851150250621934,3.3929200658769707,"",0.91400526581329811,"","",1.0800290959410519,null,null,null,null,null,null,null,null,null,3.8536869884034828,-47.226008640297678,-68.212215029564078,null,null,-8.7071234238578938,-0.24609022226348556]
[0,109,3.4243359924128685,-11.059661187423647,5.9205873713538892,9.9978345060173943,-3.3035824382717589,-0.55798221207844667,-13.63187734952491,-11.059661187423645,17.554036164173048,-1.9205873713538897,-40.842694563244564,6.518543208145676,0.21339389671687592,10.006494531420351,42.375196898809023,3.4243359924128685,"",0.81130873641619805,"","",0.89941587153623448,null,null,null,null,null,null,null,null,null,3.8955748904513468,-45.914367164117657,-69.668940467978615,null,null,-8.8782767668286784,-0.34744899394889073]
[0,110,3.4557519189487662,-10.844520107861063,5.9021130325903108,9.5498194921749278,-3.6477064595844571,-0.6180339887498828,-14.876699991678905,-10.844520107861063,18.409775094015192,-1.9021130325903111,-38.370791393853665,7.174417973339235,0.15880081043727462,11.933639638961576,42.926673209351179,3.4557519189487662,"",0.72896005928242213,"","",0.75417058603113207,null,null,null,null,null,null,null,null,null,3.9374627924992107,-44.542874890324079,-71.069462266410994,null,null,-9.0615371863719094,-0.4721359549995518]
[0,111,3.487167845484664,-10.609099122737012,5.8817615379084556,9.0639503116156135,-3.9847513414596416,-0.67747584049057052,-16.040711838493046,-10.609099122737012,19.231677526456973,-1.8817615379084554,-35.700930790240967,7.8092952799517192,0.12211753752571024,14.112454515087267,43.505033351247164,3.487167845484664,"",0.66138580566469984,"","",0.63773456207623758,null,null,null,null,null,null,null,null,null,3.9793506945470747,-43.113937882401366,-72.411323433726238,null,null,-9.2544035644491824,-0.62188693492768832]
[0,112,3.5185837720205617,-10.354086396791715,5.859552971776508,8.5428605742780555,-4.3140906333347315,-0.7362491053693434,-17.117965115024273,-10.354086396791715,20.005795030225997,-1.8595529717765078,-32.850576297433605,8.4213732689068053,9.655018430144631E-2,16.533238346731032,44.109214319580417,3.5185837720205617,"",0.6048666606817672,"","",0.54435796613187326,null,null,null,null,null,null,null,null,null,4.0212385965949382,{"$f":"rx+ABS(Rcurrenta)*COS(AG119)","v":-41.630062981417495},{"$f":"IF(ABS(Rcurrenta)<500,ry+ABS(Rcurrenta)*SIN(AG119),currenty+currentdy_dx*(AH119-current_x))","v":-73.692169889469383},null,null,-9.4542006643986802,-0.79818642235201676]
[0,113,3.5499996985564595,-10.080225429186665,5.8355092513679683,7.9893619392881803,-4.6351203799209992,-0.79429578126954858,-18.103078433737295,-10.080225429186667,20.720337677780879,-1.8355092513679678,-29.838299205501926,9.0089321444494121,7.8187156256861387E-2,19.177755150445051,44.73771490654223,3.5499996985564595,"",0.55682382784139839,"","",0.46929371709029982,null,null,null,null,null,null,null,null,null,4.0631264986428022,-40.093853408172833,-74.909754593722525,null,null,-9.6581038272265669,-1.0022516118004177]
[0,114,3.5814156250923572,-9.7883123787229831,5.8096541049320454,7.4064257972514014,-4.9472608180720909,-0.85155858313013255,-18.991269434314372,-9.7883123787229849,21.365377926687486,-1.8096541049320451,-26.683639745858223,9.5703402747267727,6.4667133971236135E-2,22.01841934290773,45.38866351282639,3.5814156250923572,"",0.51541116893623629,"","",0.40874868717126855,null,null,null,null,null,null,null,null,null,4.1050144006906661,-38.508004196266398,-76.06194148917632,null,null,-9.8631650809327649,-1.2350188542662919]
[0,115,3.612831551628255,-9.4791932026769086,5.7820130483767418,6.797163996797126,-5.2499579866661996,-0.90798099947908062,-19.778382953048904,-9.4791932026769068,21.93261352440998,-1.7820130483767422,-23.406961492460802,10.104059952915833,5.4507085738060818E-2,25.017611873325457,46.059876656182901,3.612831551628255,"",0.47927038449903497,"","",0.35974656756091394,null,null,null,null,null,null,null,null,null,4.1469023027385301,-36.875297464091048,-77.146709248500429,null,null,-10.066340430099448,-1.4971326344939464]
[0,116,3.6442474781641527,-9.1537606202669739,5.7526133600877341,6.164808758978479,-5.5426852438176839,-0.96350734820341755,-20.460914526805151,-9.1537606202669721,22.415181390441088,-1.7526133600877343,-20.029300150944067,10.608652796829727,4.6743973122051113E-2,28.127169213735691,46.748910031406005,3.6442474781641527,"",0.44737788275665491,"","",0.31997532107158932,null,null,null,null,null,null,null,null,null,4.1887902047863941,-35.198597534052496,-78.162154820438417,null,null,-10.26451808240906,-1.7889371755074246]
[0,117,3.6756634047000505,-8.8129509124384953,5.7214840540078953,5.5126919286655127,-5.8249446860906309,-1.0180828315007295,-21.036029074396822,-8.8129509124384953,22.807512424723548,-1.7214840540078951,-16.572207961857309,11.082784766353768,4.0734567736611535E-2,31.288112257481497,47.45310372325693,3.6756634047000505,"",0.41894555675266837,"","",0.28764918528595323,null,null,null,null,null,null,null,null,null,4.230678106834258,-33.480845907574498,-79.106496768406402,null,null,-10.454547360359795,-2.1104707475414481]
[0,118,3.7070793312359482,-8.4577405702765009,5.6886558510040386,4.8442237163961703,-6.0962684647639458,-1.07165358995798,-21.501574637301069,-8.4577405702765027,23.105217753519003,-1.6886558510040386,-13.057594976929757,11.525230779560022,3.6039056580041251E-2,34.430710589578332,48.169622858058624,3.7070793312359482,"",0.39335447347209446,"","",0.26139454707403476,null,null,null,null,null,null,null,null,null,4.272566008882122,-31.725056104705821,-79.978078395738066,null,null,-10.633268040281353,-2.4614627344899569]
[0,119,3.738495257771846,-8.0891428049353014,5.6541611485491323,4.1628710872336354,-6.3562199945934834,-1.1241667557042481,-21.856091101548689,-8.0891428049352996,23.304998381416642,-1.6541611485491325,-9.507568489321951,11.934878909922958,3.2351022615201494E-2,37.475008610133308,48.895494681599104,3.738495257771846,"",0.37010931036804268,"","",0.24016005155943804,null,null,null,null,null,null,null,null,null,4.314453910929986,-29.934308377382074,-80.775370652093656,null,null,-10.797539856880876,-2.8413334864704782]
[0,120,3.7699111843077437,-7.7082039324994689,5.6180339887499047,3.472135954999759,-6.6043950509300302,-1.1755705045849332,-22.098813863078277,-7.7082039324994689,23.404571818770386,-1.6180339887499045,-5.9442719100000803,12.310734148700922,2.9454100806405727E-2,40.331970433167363,49.627642798668909,3.7699111843077437,"",0.34880622916047072,"","",0.22314803624369337,null,null,null,null,null,null,null,null,null,4.3563418129778499,-28.111744305617158,-81.496974815933797,null,null,-10.94427190999912,-3.2491969623289547]
[0,121,3.8013271108436415,-7.3159996476650466,5.580310024751391,2.7755333408008425,-6.8404227514810136,-1.2258141073059399,-22.229672439467915,-7.3159996476650466,23.40261070074607,-1.5803100247513908,-2.3897243826016208,12.651921718252776,2.7194528688899856E-2,42.905424033944676,50.362919107531546,3.8013271108436415,"",0.32910964691840328,"","",0.20976368845299465,null,null,null,null,null,null,null,null,null,4.3982297150257139,-26.260561286104377,-82.141624948352373,null,null,-11.070451711047379,-3.6838661410996751]
[0,122,3.8327430373795393,-6.9136312005493226,5.5410264855515896,2.0765696540341341,-7.063966419446837,-1.2748479794973664,-22.249284071419588,-6.9136312005493226,23.298689621262703,-1.5410264855515894,1.1343375815351617,12.95768992381895,2.546349756597277E-2,45.094991378779412,51.098133806054406,3.8327430373795393,"",0.31073499616242739,"","",0.19957870541328404,null,null,null,null,null,null,null,null,null,4.4401176170735779,-24.38400692289617,-82.708190113963539,null,null,-11.173173609716304,-4.1438611568086952]
[0,123,3.864158963915437,-6.5022214913010075,5.5002221392609307,1.3787212520712842,-7.2747243252181146,-1.3226237306472908,-22.158942397326364,-6.5022214913010083,23.093237375689977,-1.5002221392609305,4.606615188018746,13.227412533104967,2.418577374318439E-2,46.800165379613006,51.830083727578682,3.864158963915437,3.8607217007525509,0.29343555187388132,0.29532830975652635,3.8327430373795393,0.19230701274232168,null,null,null,null,null,null,null,null,null,4.4820055191214418,-22.485373330003071,-83.195676364946664,null,null,-11.249666346974022,-4.6274200867854383]
[0,124,3.8955748904513348,-6.0829110974886644,5.4579372548428351,0.68541343158014512,-7.4724303042859983,-1.3690942118573644,-21.960601323364529,-6.0829110974886644,22.787492576053879,-1.4579372548428351,8.0063979356946167,13.46059067485562,2.331251954265879E-2,47.925618246032904,52.555579176449413,3.8955748904513348,"",0.27699200982337752,"","",0.18779100467305887,null,null,null,null,null,null,null,null,null,4.5238934211693058,-20.567991355907036,-83.603228484768579,null,null,-11.297319488051684,-5.1325123000409612]
[0,125,3.9269908169872325,-5.6568542494925032,5.4142135623731082,1.9566811352014466E-13,-7.65685424949233,-1.4142135623730823,-21.656854249492483,-5.656854249492504,22.383461215454638,-1.4142135623731078,11.313708498983823,13.65685424949233,2.2817118460374149E-2,48.38768137052616,53.271469369156044,3.9269908169872325,"",0.26120387496374592,"","",0.18599775283884687,null,null,null,null,null,null,null,null,null,4.5657813232171698,-18.635224740121409,-83.930131488524012,null,null,-11.313708498984763,-5.6568542494922269]
[0,126,3.9584067435231303,-5.2252147693123829,5.3690942118573908,-0.67425642992851231,-7.8278024762277871,-1.4579372548428104,-21.250908848187439,-5.2252147693123838,21.883875256896605,-1.3690942118573908,14.509440783043935,13.815962846797424,2.2693374169611653E-2,48.121714518037578,53.974666542319888,3.9584067435231303,"",0.24588194352723225,"","",0.18702575521548612,null,null,null,null,null,null,null,null,null,4.6076692252650338,-16.690464212048781,-84.175811877261935,null,null,-11.29661824224743,-6.1979275700620189]
[0,127,3.989822670059028,-4.789161988332129,5.3226237306473179,-1.3342032864160589,-7.9851179596725874,-1.5002221392609068,-20.746557627405515,-4.789161988332129,21.292151745132365,-1.3226237306473179,17.575490080351649,13.937806167559469,2.2955869704605506E-2,47.089791414938773,54.662168759711307,3.989822670059028,"",0.23084128337540705,"","",0.19112422734463078,null,null,null,null,null,null,null,null,null,4.6495571273128977,-14.73712154248946,-84.339838644097782,null,null,-11.244064680982094,-6.7529993241568258]
[0,128,4.0212385965949258,{"$f":"alpha*(gama*COS(C135)-COS(beta*C135))","v":-4.3498666596467537},{"$f":"(alpha-beta*COS(C135))","v":5.2748479794973946},{"$f":"beta*E135*COS(pol*C135)","v":-1.9768158972759522},{"$f":"gama*E135*SIN(pol_2*C135)","v":-8.1286804436636508},{"$f":"beta*SIN(C135)","v":-1.5410264855515663},{"$f":"beta*H135*COS(pol*C135)-beta*E135*pol*SIN(pol*C135)","v":-20.14814454182109},{"$f":"gama*H135*SIN(pol_2*C135)+gama*E135*pol_2*COS(pol_2*C135)","v":-4.3498666596467537},20.612352326574019,{"$f":"beta*COS(C135)","v":-1.2748479794973941},{"$f":"beta*(L135*COS(pol*C135)-2*pol*H135*SIN(pol*C135)-pol^2*E135*COS(pol*C135))","v":20.494874328034488},{"$f":"gama*(L135*SIN(pol_2*C135)+2*pol_2*H135*COS(pol_2*C135)-pol_2^2*E135*SIN(pol_2*C135))","v":14.022403948035805},2.3642650717214449E-2,45.287811272522028,55.331081434727579,4.0212385965949258,"",0.21589415594164638,{"$f":"IF(S135<>\"\",T134+(scurrent-Q134)*(T135-T134)/(Q135-Q134),\"\")","v":""},{"$f":"IF(v0*($M$2-deltat)<Q135,IF(v0*($M$2-deltat)>Q134,R134,\"\"),\"\")","v":""},{"$f":"v0^2/P135","v":0.19872896806255394},null,null,null,null,null,null,null,null,null,4.6914450293607617,-12.778623558236156,-84.421924030345849,null,null,{"$f":"alpha*(3*COS($C135)-COS(3*$C135))","v":-11.154314597159763},{"$f":"4*alpha*(SIN($C135))^3","v":-7.319144216902437}]
[{"$f":"IF(AND(REMAIN_S>Q136,REMAIN_S<Q137),1,0)","v":0},129,{"$f":"C135+dt","v":4.0526545231308235},-3.9084968805645297,5.2258141073059683,-2.5992142413806576,-8.2584064212627464,-1.5803100247513688,-19.460527946618388,-3.9084968805645293,19.849143453219789,-1.2258141073059683,23.251845544280229,14.069905388034563,2.4820834695714597E-2,42.750881575547318,{"$f":"Q135+dt*K135","v":55.978637581151276},4.0526545231308235,"",{"$f":"J136/I136","v":0.20084228399588203},"","",0.21052197447895032,null,null,null,null,null,null,null,null,null,4.7333329314086257,-10.818406130255335,-84.421924030345835,null,null,-11.025903146571689,-7.8932685859689835]
[0,{"$f":"B136+1","v":130},4.0840704496667213,-3.4662140408401347,5.1755705045849627,-3.198678483004755,-8.3742489875898531,-1.6180339887498831,-18.689040215722294,-3.4662140408401352,{"$f":"SQRT(I137^2+J137^2)","v":19.007757994087637},-1.1755705045849623,25.831990608725349,14.080588085360811,{"$f":"(N137*I137-M137*J137)/I137^3","v":2.6596373167080471E-2},39.555717655421596,56.602216813678126,4.0840704496667213,"",0.18546773942538564,"","",0.22752715747445021,null,null,null,null,null,null,null,null,null,4.7752208334564896,-8.8599081460020308,-84.339838644097767,null,null,-10.85764909269035,-8.4721359549993966]
[0,131,4.115486376202619,-3.0241688120784747,5.1241667557042776,-3.7726631896504768,-8.4761975659729671,-1.6541611485491123,-17.839444371140686,-3.0241688120784742,18.093959557680328,-1.1241667557042778,28.222320645102151,14.054856481302519,2.9130213022759095E-2,{"$f":"IF(I138<>0,(1+(J138/I138)^2)^1.5/ABS(O138),\"\")","v":35.818979981045018},57.19936314243251,{"$f":"C138","v":4.115486376202619},{"$f":"IF(scurrent>Q137,(IF(scurrent<Q138,(scurrent-Q137)*(R138-R137)/(Q138-Q137)+R137,\"\")),\"\")","v":""},0.16952146878356522,"","",0.25126343644522242,null,null,null,null,null,null,null,null,null,{"$f":"AG137+2*PI()/150","v":4.8171087355043536},-6.9065654764427125,-84.175811877261907,null,null,-10.648667581980632,-9.0523939257083867]
[0,132,4.1469023027385168,-2.5834971935718265,5.0716535899580109,-4.3188101451913692,-8.5642775089481322,-1.688655851004019,-16.917888091846478,-2.5834971935718274,17.114011664055695,-1.0716535899580106,30.411348363784249,13.993239823744302,3.2664902505635217E-2,31.690979392688124,57.767801646640102,4.1469023027385168,"",0.15270802002863085,"","",0.28399248532143873,null,null,null,null,null,null,null,null,null,4.8589966375522176,-4.9618049483700863,-83.930131488523955,null,null,-10.398380345005959,-9.6306021717667729]
[0,133,4.1783182292744145,-2.1453166295962545,5.0180828315007604,-4.8349596820442757,-8.638549576119253,-1.7214840540078766,-15.930855489178811,-2.1453166295962545,16.074655208069654,-1.0180828315007606,32.389152826336691,13.896389656382496,3.7569044551831125E-2,27.344976493536091,58.305454179812578,4.1783182292744145,"",0.1346642451846658,"","",0.32912809422701295,null,null,null,null,null,null,null,null,null,4.9008845396000815,-3.0290383325844594,-83.603228484768522,null,null,-10.106523230467486,-10.203261287734621]
[0,134,4.2097341558103123,-1.7107222128978821,4.9635073482034491,-5.3191604684849274,-8.6991092913549206,-1.752613360087717,-14.885117050944451,-1.7107222128978821,14.983099816460527,-0.96350734820344919,34.147431202832792,13.76507684436708,4.4413568786582126E-2,22.963209301538857,58.810454366919181,4.2097341558103123,"",0.11492836818433604,"","",0.39193127937029576,null,null,null,null,null,null,null,null,null,4.9427724416479455,-1.1116563584884283,-83.195676364946578,null,null,-9.7731510029337905,-10.766842238643429]
[0,135,4.24115008234621,-1.2807829887466289,4.907980999479113,-5.7696777000508179,-8.746086182256823,-1.7820130483767258,-13.787678168134896,-1.2807829887466293,13.847038467929753,-0.90798099947911282,35.679537204592037,13.600188148506584,5.4107281854893843E-2,18.721539832755155,59.281162330033133,4.24115008234621,"",9.28933046687066E-2,"","",0.48072968785685161,null,null,null,null,null,null,null,null,null,4.9846603436958095,0.78697723440466838,-82.70819011396344,null,null,-9.3986393592552471,-11.317816150421148]
[0,136,4.2725660088821078,-0.85653837352596973,4.8515585831301653,-6.1849996571164958,-8.7796429052797258,-1.8096541049320296,-12.645726666355944,-0.85653837352597018,12.674701610117232,-0.85155858313016519,36.98050598914287,13.402722361934545,6.8148370936313596E-2,14.77496231200395,59.716179873281369,4.2725660088821078,"",6.7733424588782024E-2,"","",0.6091386096252801,null,null,null,null,null,null,null,null,null,5.0265482457436734,2.6635315976128666,-82.141624948352273,null,null,-8.9836841432955481,-11.852684178251469]
[0,137,4.3039819354180056,-0.4389947013636375,4.7942957812695814,-6.5638426040682711,-8.7999742603146665,-1.8355092513679534,-11.466579768639223,-0.4389947013636375,11.47498008444423,-0.79429578126958178,38.047065449624199,13.173786024843228,8.9115809363803672E-2,11.246033574907001,60.114367367929241,4.3039819354180056,"",3.828471176420678E-2,"","",0.80028215637569133,null,null,null,null,null,null,null,null,null,5.0684361477915374,4.5147146171256427,-81.496974815933669,null,null,-8.5292977634344371,-12.368007189188759]
[0,138,4.3353978619539033,-2.9121911791924138E-2,4.7362491053693772,-6.9051540189338594,-8.8073060989633891,-1.8595529717764945,-10.257630917245528,-2.9121911791924138E-2,10.257672256422397,-0.73624910536937704,38.87763391650391,12.91458873453562,0.12169108445389916,8.2176282248341881,60.474864499263035,4.3353978619539033,"",2.839048511968124E-3,"","",1.095206518688864,null,null,null,null,null,null,null,null,null,5.1103240498394014,6.3372786888905548,-80.775370652093514,null,null,-8.0368028420803999,-12.860434996919134]
[0,139,4.3668137884898011,0.37214960914067996,4.6774758404906045,-7.2081141557235142,-8.8018941311311885,-1.8817615379084431,-9.0262968793857148,0.3721496091406804,9.0339653910335436,-0.6774758404906045,39.472304414405485,12.626438069623433,0.17494973648520659,5.7305081424059887,60.79711877730012,4.3668137884898011,"",-4.1229489137521814E-2,"","",1.5705413510190556,null,null,null,null,null,null,null,null,null,5.1522119518872653,8.1280264162142952,-79.97807839573791,null,null,-7.5078231509594708,-13.326734890452025]
[0,140,4.3982297150256988,0.76393202250006631,4.6180339887499171,-7.4721359549994881,-8.7840226349461847,-1.9021130325903,-7.7799655555155045,0.76393202250006631,7.8173816703554087,-0.61803398874991711,39.832815729997385,12.310734148701137,0.26800890246837811,3.7853122093118126,61.080929170352675,4.3982297150256988,"",-9.8192211398479362E-2,"","",2.3776110139238007,null,null,null,null,null,null,null,null,null,5.1940998539351293,9.8838162190829681,-79.106496768406231,null,null,-6.9442719099993777,-13.763819204711579]
[0,141,4.4296456415615966,1.145382853694084,4.557982212078481,-7.6968633311985029,-8.75400307537355,-1.9205873713538795,-6.5259448990763964,1.145382853694084,6.6256968469224153,-0.55798221207848131,39.962510657334285,11.96896384524765,0.44573332124652126,2.3479528668864331,61.326519458611635,4.4296456415615966,"",-0.17551218580717526,"","",3.8331263488839515,null,null,null,null,null,null,null,null,null,5.2359877559829933,11.601567845560956,-78.162154820438246,null,null,-6.3483375509928184,-14.168771689417776]
[0,142,4.4610615680974943,1.5157076228564759,4.4973797743297332,-7.8821678778785129,-8.7121726372324986,-1.9371663222572562,-5.2714133433567198,1.5157076228564752,5.4849948253853889,-0.49737977432973296,39.866281893790401,11.602694681842916,0.83006157617929155,1.3571790317114256,61.534671864003677,4.4610615680974943,"",-0.28753344200690323,"","",6.6314021877061045,null,null,null,null,null,null,null,null,null,5.2778756580308572,13.278267775599504,-77.146709248500244,null,null,-5.7224670696932609,-14.538872443229081]
[0,143,4.4924774946333921,1.8741622786916006,4.4362864827931094,-8.0281440442409764,-8.6588926786401483,-1.9518335238774895,-4.0233721146649994,1.8741622786916008,4.4384690401009221,-0.436286482793109,39.550506161873287,11.213568428030717,1.830850620525212,0.73329051640362819,61.706988058487767,4.4924774946333921,"",-0.46581877720441733,"","",12.273443878887003,null,null,null,null,null,null,null,null,null,5.3197635600787212,14.91097450777484,-76.061941489176121,null,null,-5.0693471113706732,-14.871621192767611]
[0,144,4.5238934211692898,2.2200554268670745,4.3747626291714736,-8.1351028478925205,-8.594547111198894,-1.9645745014573728,-2.7885997914006193,2.2200554268670745,3.5643982514530452,-0.37476262917147368,39.022967228874784,10.803294427307101,5.3843414609273381,0.38785330836041426,61.846426675783434,4.5238934211692898,"",-0.79611833641858509,"","",23.204649299102314,null,null,null,null,null,null,null,null,null,5.3616514621265852,{"$f":"rx+ABS(Rcurrenta)*COS(AG151)","v":16.496823719681274},{"$f":"IF(ABS(Rcurrenta)<500,ry+ABS(Rcurrenta)*SIN(AG151),currenty+currentdy_dx*(AH151-current_x))","v":-74.909754593722312},null,null,-4.3918829549449576,-15.164758710752219]
[0,145,4.5553093477051876,2.5527503448586364,4.3128689300804863,-8.203564199759839,-8.519540713511029,-1.9753766811902715,-1.5736094460597103,2.5527503448586368,2.9987965939530206,-0.31286893008048666,38.292768586676623,10.373642679760858,29.275424128186621,0.23639972628375383,61.958405549395764,4.5553093477051876,"",-1.622226119225884,"","",38.071110070564025,null,null,null,null,null,null,null,null,null,5.4035393641744491,18.033033292925921,-73.692169889469156,null,null,-3.6931755794412391,-15.416286183895032]
[0,146,4.5867252742410853,2.8716667759999632,4.2506664671286343,-8.2342479272697915,-8.4342973848455696,-1.9842294026289524,-0.38460868193760245,2.8716667759999632,2.8973080455146296,-0.25066646712863389,37.370236637312203,9.9264367078348474,1953.3697666074024,0.21884786039462489,62.052615522887493,4.5867252742410853,"",-7.4664637353814394,"","",41.124459630408381,null,null,null,null,null,null,null,null,null,5.4454272662223131,19.516908193909799,-72.411323433725983,null,null,-2.9764970135106612,-15.624482359326663]
[0,147,4.6181412007769831,3.1762824963665173,4.1882166266370549,-8.228063591270951,-8.3392583459961305,-1.9911239292061576,0.7725371514834336,3.1762824963665173,3.2688811766637302,-0.18821662663705446,36.266815305387631,9.4635462335106304,-233.98807470910012,0.3237766738405829,62.143637139597246,4.6181412007769831,"",4.1114948197214689,"","",27.796937602834561,null,null,null,null,null,null,null,null,null,{"$f":"AG153+2*PI()/150","v":5.4873151682701771},20.945845201832505,-71.069462266410738,null,null,-2.2452641839793896,-15.787918317944673]
[0,148,4.6495571273128808,3.4661346490232861,4.1255810390586527,-8.1860992006286697,-8.2348802945548272,-1.9960534568565416,1.8923383104862612,3.4661346490232865,3.9490547839316914,-0.125581039058653,34.994953065548273,8.986879695940809,-15.390420906301388,0.59051731057742907,62.246332070497893,4.6495571273128808,"",1.8316675352477632,"","",15.240874126449361,null,null,null,null,null,null,null,null,null,5.529203070318041,22.317337475626076,-69.668940467978345,null,null,-1.5030114926949749,-15.905469744053976]
[0,149,4.6809730538487786,3.7408208410879467,4.0628215181562837,-8.1096089359069854,-8.1216335219845295,-1.9990131207314623,2.9697103544175554,3.7408208410879467,4.7762872771905975,-6.2821518156283229E-2,33.567983431282329,8.4983766391605702,-3.8309480057799794,1.0859823909699911,62.370395285476128,4.6809730538487786,"",1.259658483368028,"","",8.2874271948012623,null,null,null,null,null,null,null,null,null,5.571090972365905,23.628978951806083,-68.212215029563794,null,null,-0.75336236221191233,-15.976326582801081]
[0,150,4.7123889803846764,3.9999999999998921,4.0000000000000266,-8.0000000000000533,-8.0000000000000533,-2,3.9999999999995679,3.9999999999998921,5.6568542494919987,-2.7012897127476343E-14,32.000000000000696,8.0000000000002149,-1.5000000000005163,1.885618083163707,62.520446775690694,4.7123889803846764,"",1.000000000000081,"","",4.7729707730102584,null,null,null,null,null,null,null,null,null,5.612978874413769,24.878468565524521,-66.70184154258466,null,null,-3.2770747920851662E-13,-16]
[0,151,4.7438049069205741,4.2433929863380104,3.9371784818437709,-7.8588187189454697,-7.8704714438672836,-1.9990131207314639,4.9790069793556162,4.2433929863380095,6.5419335472759546,6.2821518156229231E-2,30.305727188128458,7.4937283266915671,-0.73957881468223985,3.0669430904959833,62.698162093217015,4.7438049069205741,"",0.85225688655033582,"","",2.9345180965012716,null,null,null,null,null,null,null,null,null,5.6548667764616329,26.063614287419519,-65.140469715365498,null,null,0.75336236221127273,-15.976326582801118]
[0,152,4.7752208334564719,4.470782961492322,3.874418960941401,-7.687736020403082,-7.7335473602976261,-1.9960534568565449,5.9030017845440614,4.470782961492322,7.4049530962120507,0.12558103905859908,28.500387818579693,6.9815479589119658,-0.41910570997119589,4.7100402091148972,62.903682996940965,4.7752208334564719,"",0.7573744892299128,"","",1.9108117129410376,null,null,null,null,null,null,null,null,null,5.6967546785094969,27.182336969179644,-63.53083872464893,null,null,1.5030114926943261,-15.905469744054056]
[0,153,4.8066367599923696,4.6820155094627784,3.8117833733629993,-7.4885324203881742,-7.5897330876532569,-1.9911239292061627,6.7687392182267185,4.6820155094627784,8.230255150067368,0.18821662663700067,26.599568741249808,6.465445200139075,-0.2604729673099167,6.9016652893327946,63.136316459413329,4.8066367599923696,"",0.69171161105677492,"","",1.3040331025485095,null,null,null,null,null,null,null,null,null,5.7386425805573609,28.232673991076574,-61.875772410148983,null,null,2.2452641839787626,-15.787918317944795]
[0,154,4.8380526865282674,4.876998513028874,3.7493335328714199,-7.2630826507884096,-7.439537836186183,-1.9842294026289593,7.5734677073378798,4.876998513028874,9.0079147204097989,0.25066646712858026,24.619085674921514,5.9473985131972196,-0.17271123571699434,9.7424429783502369,63.394877550579544,4.8380526865282674,"",0.64395844829490512,"","",0.92379293571436838,null,null,null,null,null,null,null,null,null,5.7805304826052248,29.212782705066978,-60.178174320576588,null,null,2.9764970135100315,-15.624482359326826]
[0,155,4.8694686130641651,5.0557017855023831,3.6871310699195665,-7.0133400609627161,-7.2834727360112792,-1.97537668119028,8.3149343739387653,5.0557017855023831,9.7313028000797726,0.31286893008043332,22.574848456214482,5.4293707697617588,-0.12000235654422624,13.358162021363585,63.677869537677573,4.8694686130641651,"",0.60802666120231907,"","",0.67374538395374928,null,null,null,null,null,null,null,null,null,5.8224183846530888,30.120943667423333,-58.441022619828573,null,null,3.6931755794406365,-15.416286183895231]
[0,156,4.9008845396000629,5.2181564602387311,3.6252373708285792,-6.7413209263195979,-7.1220489004602294,-1.9645745014573828,8.9913858945092606,5.2181564602387311,10.395873082503041,0.37476262917142061,20.482727867974532,4.9133015843523244,-8.626211475999554E-2,17.917726116085756,63.983587431543455,4.9008845396000629,"",0.58035062908658885,"","",0.5022958796049567,null,null,null,null,null,null,null,null,null,5.8643062867009528,30.955563655222505,-56.667364862276159,null,null,4.391882954944359,-15.16475871075245]
[0,157,4.9323004661359606,5.3644541410363535,3.5637135172069438,-6.4490887952154301,-6.9557755123799136,-1.9518335238775013,9.6015652154175406,5.3644541410363544,10.998519119281385,0.43628648279305632,18.358425195953135,4.401099762989638,-6.3519503079214237E-2,23.662980303380184,64.310183416579889,4.9323004661359606,"",0.5587062130685192,"","",0.38034093274017466,null,null,null,null,null,null,null,null,null,5.9061941887488167,31.715178461400122,-54.860312646319045,null,null,5.0693471113701065,-14.871621192767879]
[0,158,4.9637163926718584,5.4947458174942341,3.5026202256703192,-6.1387390028233924,-6.7851579408256999,-1.9371663222572697,10.144704227898409,5.4947458174942341,11.537211771932169,0.49737977432968061,16.217345629017967,3.8946358962155654,-4.7507897311539767E-2,30.961259221735585,64.655712085234896,4.9637163926718584,"",0.54163686728129812,"","",0.29068585148764792,null,null,null,null,null,null,null,null,null,5.9480820907966807,32.398455463467286,-53.023036155584506,null,null,5.7224670696927049,-14.538872443229389]
[0,159,4.9951323192077561,5.609240550321843,3.4420177879215705,-5.8123834768338209,-6.6106958954576358,-1.9205873713538946,10.620512540251758,5.609240550321843,12.010781247238654,0.55798221207842946,14.0744765747957,3.3957351255838093,-3.5796903676269025E-2,40.404699424474288,65.018164282691018,4.9951323192077561,"",0.52815158675843688,"","",0.22274636683841884,null,null,null,null,null,null,null,null,null,5.9899699928445447,33.004195961383303,-51.158758597348012,null,null,6.3483375509922979,-14.168771689418111]
[0,160,5.0265482457436539,5.708203932499325,3.3819660112501344,-5.4721359549997484,-6.4328816257763703,-1.9021130325903166,11.02916251784392,5.708203932499325,12.418776831073743,0.6180339887498657,11.944271910000191,2.9061701120216803,-2.6928546633639246E-2,53.014655664637353,65.395494103993002,5.0265482457436539,"",0.51755551913067799,"","",0.16976437717397677,null,null,null,null,null,null,null,null,null,6.0318578948924086,33.531337280482809,-49.270750547932501,null,null,6.9442719099988741,-13.763819204711941]
[0,161,5.0579641722795516,5.7919563330654498,3.3225241595094461,-5.1200977286891849,-6.252198172136513,-1.8817615379084613,11.371270792572659,5.7919563330654498,12.761369738478429,0.67747584049055365,9.8405431232458795,2.4276542336445175,-1.9988477177383258E-2,70.710704009816169,65.785641484583721,5.0579641722795516,"",0.50934996085473272,"","",0.12727917400950506,null,null,null,null,null,null,null,null,null,6.0737457969402726,33.978954635768289,-47.362324215006083,null,null,7.5078231509590037,-13.326734890452412]
[0,162,5.0893800988154494,5.8608709311630394,3.263750894630673,-4.7583440198087912,-6.0691176752487248,-1.8595529717765142,11.647876472472831,5.8608709311630385,13.039280439876197,0.73624910536932686,7.7763582384671892,1.9618350396767301,-1.4380169350083133E-2,97.556589314961073,66.186551738785184,5.0893800988154494,"",0.50317076636362901,"","",9.2254147702350839E-2,null,null,null,null,null,null,null,null,null,6.1156336989881366,34.346262754297172,-45.436827626844334,null,null,8.0368028420799575,-12.860434996919546]
[0,163,5.1207960253513471,5.9153715487929759,3.2057042187304678,-4.3889110907908071,-5.8840997506291197,-1.8355092513679749,11.860416308846281,5.9153715487929759,13.253720065680286,0.79429578126953215,5.7639493298125366,1.5102879861007805,-9.6998752197514047E-3,143.86244370176809,66.59619281516531,5.1207960253513471,"",0.49874906535792524,"","",6.2559760340630086E-2,null,null,null,null,null,null,null,null,null,6.1575216010360005,34.632617252817425,-43.497638758751037,null,null,8.5292977634340321,-12.368007189189195]
[0,164,5.1522119518872449,5.9559302915153225,3.1484414168698835,-4.0137841788625925,-5.6975899341766727,-1.8096541049320527,12.010697102469656,5.9559302915153225,13.406339937681082,0.85155858313011634,3.8146293547738299,1.0745104775220593,-5.6642638325885442E-3,245.51756279711208,67.01257071107608,5.1522119518872449,"",0.4958854794773449,"","",3.6657255381104099E-2,null,null,null,null,null,null,null,null,null,6.1994095030838645,34.837515768234717,-41.548159606941624,null,null,8.9836841432951733,-11.852684178251922]
[0,165,5.1836278784231427,5.9830650070862568,3.0920190005209354,-3.6348863366287993,-5.5100182047571451,-1.7820130483767505,12.100865651863778,5.9830650070862568,13.499185768166784,0.90798099947906474,1.9387189421267017,0.65591623850757408,-2.0668445894501692E-3,671.684894490842,67.433743301673545,5.1836278784231427,"",0.49443280995064548,"","",1.3399140093543833E-2,null,null,null,null,null,null,null,null,null,6.2412974051317285,34.960598838928036,-39.591810220285844,null,null,9.3986393592549096,-11.317816150421619]
[0,166,5.2150438049590404,5.9973365727297043,3.036492651796598,-3.2540682511790591,-5.3217975893469767,-1.7526133600877429,12.133376565120392,5.9973365727297043,13.534654514896713,0.96350734820340189,0.1454836758233462,0.25583003633499146,1.2492950460323709E-3,1111.0445580938854,67.857832730060707,5.2150438049590404,"",0.49428422010490836,"","",8.100485200557981E-3,null,null,null,null,null,null,null,null,null,6.2831853071795924,35.001650535367475,-37.632022700379878,null,null,9.7731510029334849,-10.766842238643907]
[0,167,5.2464597314949382,5.9993460224098341,2.9819171684992858,-2.8730991035832023,-5.1333228559439208,-1.7214840540079042,12.110958272225185,5.9993460224098332,13.515452747436333,1.0180828315007142,-1.5569176838266632,-0.1245172243191659,4.4092318901869359E-3,315.20517007327328,68.283036441989466,5.2464597314949382,"",0.49536509725811767,"","",2.8552831154095095E-2,null,null,null,null,null,null,null,null,null,null,null,null,null,null,10.106523230467218,-10.20326128773511]
[0,168,5.2778756580308359,5.989731526092271,2.9283464100420353,-2.4936585198498205,-4.9449692990841827,-1.6886558510040481,12.03657758706651,5.9897315260922719,13.444555915467625,1.0716535899579649,-3.1614737036194533,-0.48399301571184861,7.5182849692792585E-3,185.35808897771818,68.707636912602325,5.2778756580308359,"",0.4976274595303844,"","",4.8554665456665806E-2,null,null,null,null,null,null,null,null,null,null,null,null,null,null,10.398380345005727,-9.6306021717672721]
[0,169,5.3092915845667337,5.9691652335557706,2.8758332442957668,-2.1173296533043917,-4.7570916224200932,-1.6541611485491428,11.913403177283721,5.9691652335557706,13.325168248468938,1.1241667557042332,-4.6623492732827181,-0.82156729290934116,1.0670709733110795E-2,131.13459487456757,69.130010093550425,5.3092915845667337,"",0.5010461867804219,"","",6.8631774922617864E-2,null,null,null,null,null,null,null,null,null,null,null,null,null,null,10.648667581980433,-9.0523939257088859]
[0,170,5.3407075111026314,5.9383499958395936,2.8244294954150817,-1.7455934269944193,-4.5700229224093745,-1.6180339887499149,11.744768305722982,5.9383499958395944,13.160683235615208,1.1755705045849185,-6.0549029687287721,-1.1363161753614825,1.395642449229143E-2,100.81560886657925,69.548632600322804,5.3407075111026314,"",0.5056166150971203,"","",8.9271890545349203E-2,null,null,null,null,null,null,null,null,null,null,null,null,null,null,10.85764909269019,-8.472135954999894]
[0,171,5.3721234376385292,5.8980159778832553,2.7741858926940743,-1.3798239532570282,-4.3840737767483624,-1.5803100247514019,11.534133209498162,5.8980159778832562,12.954644779761988,1.2258141073059257,-7.3356927657296813,-1.4274251900233725,1.7466706868639985E-2,81.116762068073925,69.962087658015122,5.3721234376385292,"",0.51135320450663257,"","",0.11095117421535043,null,null,null,null,null,null,null,null,null,null,null,null,null,null,11.02590314657156,-7.89326858596948]
[0,172,5.4035393641744269,5.8489171763324457,2.7251520205026472,-1.0212851360956461,-4.1995314407490385,-1.5410264855516007,11.285047481497296,5.8489171763324457,12.710709216847231,1.2748479794973526,-8.5024701945483621,-1.6941920636230545,2.129954219872169E-2,67.085538351913456,70.369069826714778,5.4035393641744269,"",0.5182891065298747,"","",0.1341570809611502,null,null,null,null,null,null,null,null,null,null,null,null,null,null,11.154314597159672,-7.3191442169029273]
[0,173,5.4349552907103247,5.7918278568464654,2.677376269352723,-0.6711284506128079,-4.0166591544148229,-1.5002221392609423,11.001112814658111,5.7918278568464663,12.432608458572869,1.3226237306472772,-9.5541631322365159,-1.9360290534720175,2.5565188581324519E-2,56.458315216202067,70.768388533690413,5.4349552907103247,"",0.52647654418463141,"","",0.15940964524951381,null,null,null,null,null,null,null,null,null,null,null,null,null,null,11.244064680982028,-6.7529993241573054]
[0,174,5.4663712172462224,5.7275389255468019,2.6309057881426483,-0.33039188254049606,-3.8356955625148501,-1.4579372548428473,10.685946461517569,5.727538925546801,12.1241145623948,1.3690942118573515,-10.490847533168303,-2.1524648080547664,3.0392504576451665E-2,48.055668338817846,71.15897044767452,5.4663712172462224,"",0.53598798629329858,"","",0.18728279745367907,null,null,null,null,null,null,null,null,null,null,null,null,null,null,11.296618242247403,-6.1979275700624887]
[0,175,5.4977871437821202,5.6568542494924223,2.5857864376269304,-1.859487575294279E-13,-3.6568542494924818,-1.4142135623731205,10.343145750507823,5.6568542494924223,11.789006065663402,1.4142135623730696,-11.313708498984321,-2.3431457505075182,3.593665198806744E-2,41.203681907031537,71.539860740079519,5.4977871437821202,"",0.54691816067802046,"","",0.21842708183959944,null,null,null,null,null,null,null,null,null,null,null,null,null,null,11.313708498984759,-5.6568542494926852]
[0,176,5.5292030703180179,5.5805869412540847,2.5420627451572018,0.31923488088888224,-3.4803233905730675,-1.3690942118574039,9.9762539863404509,5.5805869412540847,11.431036445085343,1.4579372548427982,-12.02499118557124,-2.5078369799965756,4.2388944152100691E-2,35.489651694398873,71.910223288569654,5.5292030703180179,"",0.55938701529602786,"","",0.25359505011485978,null,null,null,null,null,null,null,null,null,null,null,null,null,null,11.297319488051718,-5.1325123000414052]
[0,177,5.5606189968539157,5.4995556227865077,2.4997778607391052,0.6266104849576003,-3.3062655199603599,-1.3226237306473312,9.5887280447372021,5.4995556227865077,11.053905082098924,1.5002221392608948,-12.627942136134847,-2.6464226879265338,4.9989886101052192E-2,30.646581786816423,72.269339889757632,5.5606189968539157,"",0.57354381072523508,"","",0.29367059800031692,null,null,null,null,null,null,null,null,null,null,null,null,null,null,11.249666346974069,-4.6274200867858628]
[0,178,5.5920349233898135,5.4145806838634662,2.458973514448445,0.92153137933747908,-3.1348174165322402,-1.2748479794974079,9.1839079518986999,5.4145806838634662,10.661231132051098,1.5410264855515547,-13.12674171502222,-2.7589060878399327,5.9046899293377392E-2,26.493687726163756,72.61660855975164,5.5920349233898135,"",0.58957262117855225,"","",0.3397035585616901,null,null,null,null,null,null,null,null,null,null,null,null,null,null,11.173173609716386,-4.1438611568091002]
[0,179,5.6234508499257112,5.3264805503461563,2.4196899752486423,1.2035048538368549,-2.9660901069666492,-1.2258141073059825,8.7649887166485101,5.3264805503461563,10.256530712487121,1.5803100247513577,-13.526428395949814,-2.8454088598051932,6.9958932645210359E-2,22.90362347889295,72.951541013778382,5.6234508499257112,"",0.60769964714602109,"","",0.39295092360796252,null,null,null,null,null,null,null,null,null,null,null,null,null,null,11.070451711047472,-3.6838661411000593]
[0,180,5.654866776461609,5.2360679774998449,2.3819660112501273,1.4721359549994222,-2.8001689857495764,-1.1755705045849767,8.3349946583668508,5.2360679774998449,9.8431978452128686,1.6180339887498727,-13.832815729997318,-2.9061701120214147,8.3251292528497861E-2,19.783434101895438,73.273759429155064,5.654866776461609,"",0.62820291939164774,"","",0.45492607368594901,null,null,null,null,null,null,null,null,null,null,null,null,null,null,10.944271909999244,-3.2491969623293158]
[0,181,5.6862827029975067,5.144146383457838,2.3458388514508979,1.7271217557212348,-2.6371140510406401,-1.1241667557042927,7.8967564468755445,5.1441463834578389,9.4244896092951809,1.6541611485491021,-14.05240288249823,-2.9415448642889523,9.9625853306254952E-2,17.062993870103405,73.582992609538579,5.6862827029975067,"",0.65142522984777984,"","",0.52745726034451523,null,null,null,null,null,null,null,null,null,null,null,null,null,null,10.797539856881002,-2.8413334864708166]
[0,182,5.7176986295334045,5.0515062377558868,2.3113441489959907,1.9682449486450164,-2.4769602549000314,-1.0716535899580257,7.4528910416117249,5.0515062377558877,9.003515988113918,1.6886558510040095,-14.192279683235711,-2.9520020598961838,0.1200348248116818,14.687735437115897,73.879071682742534,5.7176986295334045,"",0.6777915052765181,"","",0.61275613511236093,null,null,null,null,null,null,null,null,null,null,null,null,null,null,10.633268040281507,-2.4614627344902722]
[0,183,5.7491145560693022,4.9589215196247451,2.2785159459921323,2.1953668569619551,-2.3197179659153391,-1.0180828315007759,7.0057846870069609,4.9589215196247443,8.5832349215490193,1.7214840540078675,-14.260027180653287,-2.9381221143479546,0.14579133744849163,12.613944633513004,74.161925479589897,5.7491145560693022,"",0.70783241866134405,"","",0.71349607608777699,null,null,null,null,null,null,null,null,null,null,null,null,null,null,10.454547360359948,-2.1104707475417368]
[0,184,5.7805304826052,4.8671462604349784,2.2473866399122917,2.4084199606854906,-2.1653735418097875,-0.96350734820346484,6.5575790892594608,4.8671462604349793,8.1664530998689475,1.7526133600877083,-14.26361472771254,-2.9005940112024287,0.17873890473621987,10.805645429778458,74.431575757325632,5.7805304826052,"",0.74221693618713491,"","",0.83289795676596823,null,null,null,null,null,null,null,null,null,null,null,null,null,null,10.264518082409234,-1.7889371755076882]
[0,185,5.8119464091410977,4.7769111843371066,2.2179869516232822,2.6074000398824668,-2.0138900091665737,-0.9079809994791288,6.1101608669495198,4.7769111843371066,7.7558330489410512,1.7820130483767178,-14.211294654258298,-2.8402119570832505,0.22151750042399648,9.2325013617182776,74.688132447969977,5.8119464091410977,"",0.78179794089807098,"","",0.9748170779933677,null,null,null,null,null,null,null,null,null,null,null,null,null,null,10.066340430099615,-1.4971326344941849]
[0,186,5.8433623356769955,4.6889204607334527,2.1903458950679777,2.7923580387276559,-1.865207846969096,-0.8515585831301814,5.6651543345109765,4.6889204607334518,7.3539070378210045,1.8096541049320221,-14.111495598058722,-2.7578716096857918,0.27799284385641565,7.8683841175694829,74.931789129260196,5.8433623356769955,"",0.82767744422592249,"","",1.1438180782129976,null,null,null,null,null,null,null,null,null,null,null,null,null,null,9.8631650809329479,-1.2350188542665044]
[0,187,5.8747782622128932,4.6038485817571484,2.1644907486320539,2.9633917555708593,-1.7192458702355149,-0.79429578126959821,5.223917643747952,4.6038485817571484,6.9630982552602587,1.8355092513679463,-13.972715573934931,-2.6545658942931194,0.35397058495629613,6.6903899623243213,75.162818932512209,5.8747782622128932,"",0.88130190705955902,"","",1.3452130669036955,null,null,null,null,null,null,null,null,null,null,null,null,null,null,9.6581038272267357,-1.0022516118006055]
[0,188,5.906194188748791,4.522337377420417,2.1404470282235124,3.1206374644645472,-1.5759022096201385,-0.7362491053693937,4.7875422746938261,4.522337377420417,6.5857494932007778,1.8595529717764878,-13.803415857537477,-2.5313804259521708,0.45842674177866294,5.6781624320873725,75.381571115761702,5.906194188748791,"",0.9446052103445145,"","",1.5850198206977804,null,null,null,null,null,null,null,null,null,null,null,null,null,null,9.4542006643988596,-0.79818642235218029]
[0,189,5.9376101152846887,4.4449931805306964,2.1182384620915631,3.2642615727970314,-1.4350553824650427,-0.67747584049062126,4.3568558334650707,4.4449931805306964,6.2241591503240832,1.8817615379084371,-13.611916747410252,-2.3894885560272847,0.60571461093409174,4.8134276501420716,75.588468538023918,5.9376101152846887,"",1.0202295761977345,"","",1.8697694562282159,null,null,null,null,null,null,null,null,null,null,null,null,null,null,9.2544035644493476,-0.62188693492782809]
[0,190,5.9690260418205865,4.3723841528614855,2.0978869674097056,3.3944524178242448,-1.2965654504147233,-0.61803398874993409,3.9324280816802677,4.3723841528614846,5.8806235891937337,1.9021130325902944,-13.406296246143633,-2.2301460633403156,0.81971292811534513,4.0796790109216339,75.784006264638236,5.9690260418205865,"",1.1118789872422106,"","",2.2060559117289045,null,null,null,null,null,null,null,null,null,null,null,null,null,null,9.0615371863720764,-0.47213595499966937]
[0,191,6.0004419683564842,4.3050377834075277,2.0794126286461254,3.5114123020148575,-1.1602752583559304,-0.55798221207849852,3.5145800898030055,4.3050377834075269,5.5574835604080821,1.9205873713538746,-13.194292668885005,-2.0546855115182607,1.1420659848045527,3.4619678472615445,75.968751503301618,6.0004419683564842,"",1.2249081464661762,"","",2.5996775236139471,null,null,null,null,null,null,null,null,null,null,null,null,null,null,8.8782767668288241,-0.34744899394898759]
[0,192,6.031857894892382,{"$f":"alpha*(gama*COS(C199)-COS(beta*C199))","v":4.2434385688536338},{"$f":"(alpha-beta*COS(C199))","v":2.0628336777427485},{"$f":"beta*E199*COS(pol*C199)","v":3.615349863250759},{"$f":"gama*E199*SIN(pol_2*C199)","v":-1.026011749115497},{"$f":"beta*SIN(C199)","v":-0.49737977432975028},{"$f":"beta*H199*COS(pol*C199)-beta*E199*pol*SIN(pol*C199)","v":3.1033963757258762},{"$f":"gama*H199*SIN(pol_2*C199)+gama*E199*pol_2*COS(pol_2*C199)","v":4.2434385688536338},5.2571703370257161,{"$f":"beta*COS(C199)","v":1.9371663222572517},{"$f":"beta*(L199*COS(pol*C199)-2*pol*H199*SIN(pol*C199)-pol^2*E199*COS(pol*C199))","v":-12.983212145561108},{"$f":"gama*(L199*SIN(pol_2*C199)+2*pol_2*H199*COS(pol_2*C199)-pol_2^2*E199*SIN(pol_2*C199))","v":-1.8645102954950155},1.6496740510112073,2.9467701193332512,76.143344998559854,6.031857894892382,"",1.3673530722807217,{"$f":"IF(S199<>\"\",T198+(scurrent-Q198)*(T199-T198)/(Q199-Q198),\"\")","v":""},{"$f":"IF(v0*($M$2-deltat)<Q199,IF(v0*($M$2-deltat)>Q198,R198,\"\"),\"\")","v":""},{"$f":"v0^2/P199","v":3.0541914148485998},null,null,null,null,null,null,null,null,null,null,null,null,null,null,{"$f":"alpha*(3*COS($C199)-COS(3*$C199))","v":8.7071234238580395},{"$f":"4*alpha*(SIN($C199))^3","v":-0.2460902222635632}]
[{"$f":"IF(AND(REMAIN_S>Q200,REMAIN_S<Q201),1,0)","v":0},193,{"$f":"C199+dt","v":6.0632738214282798},4.1880258856459367,2.0481664761225145,3.7064728710992236,-0.8935873480422839,-0.43628648279312648,2.6987398603304893,4.1880258856459367,4.9822442385512433,1.9518335238774855,-12.779841932272838,-1.661088401348382,2.4949545469663104,2.5219085377318819,{"$f":"Q199+dt*K199","v":76.308503875654552},6.0632738214282798,"",{"$f":"J200/I200","v":1.5518449729841943},"","",3.5687257746842365,null,null,null,null,null,null,null,null,null,null,null,null,null,null,8.5503810937623044,-0.1660906821466519]
[0,{"$f":"B200+1","v":194},6.0946897479641775,4.1391920622765355,2.0354254985426303,3.7849815346445541,-0.76280141131652957,-0.37476262917149128,2.3002694439096869,4.1391920622765346,{"$f":"SQRT(I201^2+J201^2)","v":4.7354144953739423},1.9645745014573694,-12.590370387930516,-1.4459459047917769,{"$f":"(N201*I201-M201*J201)/I201^3","v":4.0084452673997433},2.1765162219587602,76.465025694636779,6.0946897479641775,"",1.799437919429689,"","",4.1350484362117141,null,null,null,null,null,null,null,null,null,null,null,null,null,null,8.4101353067362954,-0.10526859511274451]
[0,195,6.1261056745000753,4.0972806595805142,2.0246233188097316,3.8510624007941767,-0.63344173157204053,-0.31286893008050431,1.9074599814816842,4.0972806595805142,4.5195256813438558,1.9753766811902687,-12.420314404864129,-1.2206602346778901,6.9971742315458609,{"$f":"IF(I202<>0,(1+(J202/I202)^2)^1.5/ABS(O202),\"\")","v":1.9010326760301526},76.613793128540479,{"$f":"C202","v":6.1261056745000753},{"$f":"IF(scurrent>Q201,(IF(scurrent<Q202,(scurrent-Q201)*(R202-R201)/(Q202-Q201)+R201,\"\")),\"\")","v":""},2.148029683117028,"","",4.7342689652206955,null,null,null,null,null,null,null,null,null,null,null,null,null,null,8.2882339903882567,-6.1251581524608273E-2]
[0,196,6.157521601035973,4.0625849660013191,2.0157705973710498,3.9048829146235575,-0.50528609418481263,-0.25066646712865159,1.5196244114012671,4.06258496600132,4.3374940873396701,1.9842294026289502,-12.274455007498807,-0.98685322880456872,13.782712925612808,1.6872257403783866,76.755778215322678,6.157521601035973,"",2.6734138616891214,"","",5.3342002700726994,null,null,null,null,null,null,null,null,null,null,null,null,null,null,8.1862704722207944,-3.1500592032955362E-2]
[0,197,6.1889375275718708,4.0353467139099024,2.008876070793844,3.9465867052694383,-0.37810387737675372,-0.18821662663707228,1.1359377704994562,4.0353467139099015,4.1921805447655416,1.991123929206156,-12.156781751926975,-0.74618401013785252,32.890191351286525,1.5282341964106081,76.892044610920436,6.1889375275718708,"",3.5524364262803014,"","",5.8891497266181236,null,null,null,null,null,null,null,null,null,null,null,null,null,null,8.1055688325292365,-1.3335335665264091E-2]
[0,198,6.2203534541077685,4.015755022168273,2.0039465431434595,3.9762896522018853,-0.25165768910598724,-0.12558103905867085,0.75546281045616004,4.0157550221682721,4.086197799428219,1.9960534568565405,-12.070446472090399,-0.50034171228010127,111.54531300261502,1.4186248409703566,77.023745846940017,6.2203534541077685,"",5.3156223795364559,"","",6.3441720038145473,null,null,null,null,null,null,null,null,null,null,null,null,null,null,8.0471717382245398,-3.9609760088661636E-3]
[0,199,6.2517693806436663,4.003945569212771,2.0009868792685381,3.9940767774885408,-0.12570503356648877,-6.2821518156301104E-2,0.37717691440193912,4.003945569212771,4.0216716109071298,1.9990131207314616,-12.017726826117812,-0.25103808360965818,894.99322851142119,1.3544555493631867,77.152117536817997,6.2517693806436663,"",10.615563721765751,"","",6.6447363327880762,null,null,null,null,null,null,null,null,null,null,null,null,null,null,8.0118308659764743,-4.9585566348330629E-4]
[0,200,6.283185307179564,4,2,4,-8.9797960733939419E-14,-4.489898036696971E-14,2.6939388220181826E-13,4,4,2,-12,-1.7959592146787884E-13,2.455150111633606E+39,1.3333333333333295,77.278462076697764,6.283185307179564,"",14848147134252.191,"","",6.7500000000000195,null,null,null,null,null,null,null,null,null,null,null,null,null,null,8,-1.8102536473776762E-40]
[0,201,6.3146012337154618,4.0039455692127603,2.0009868792685355,3.9940767774885582,0.12570503356630899,6.2821518156211356E-2,-0.37717691440139967,4.0039455692127603,4.0216716109070685,1.9990131207314645,-12.017726826117762,0.25103808360930024,-894.99322851526028,1.354455549363127,77.404125782841362,6.3146012337154618,"",-10.615563721780905,"","",6.6447363327883693,null,null,null,null,null,null,null,null,null,null,null,null,null,null,8.0118308659764423,4.9585566348118114E-4]
[0,202,6.3460171602513595,4.0157550221682499,2.0039465431434538,3.9762896522019191,0.25165768910580688,0.12558103905858123,-0.75546281045561781,4.015755022168249,4.0861977994280956,1.996053456856546,-12.0704464720903,0.50034171227974711,-111.54531300285488,1.4186248409702331,77.530470322721129,6.3460171602513595,"",-5.3156223795402404,"","",6.3441720038150988,null,null,null,null,null,null,null,null,null,null,null,null,null,null,8.0471717382244687,3.9609760088576825E-3]
[0,203,6.3774330867872573,4.0353467139098687,2.0088760707938356,3.946586705269489,0.37810387737657253,0.18821662663698288,-1.1359377704989106,4.0353467139098678,4.1921805447653613,1.9911239292061644,-12.156781751926825,0.74618401013750435,-32.890191351333769,1.5282341964104169,77.658842012599109,6.3774330867872573,"",-3.5524364262819779,"","",5.8891497266188599,null,null,null,null,null,null,null,null,null,null,null,null,null,null,8.1055688325291388,1.3335335665245088E-2]
[0,204,6.408849013323155,4.0625849660012756,2.0157705973710387,3.9048829146236259,0.50528609418463033,0.25066646712856255,-1.519624411400716,4.0625849660012756,4.3374940873394348,1.9842294026289615,-12.274455007498618,0.98685322880422921,-13.782712925627733,1.6872257403781219,77.790543248618675,6.408849013323155,"",-2.673413861690062,"","",5.334200270073536,null,null,null,null,null,null,null,null,null,null,null,null,null,null,8.1862704722206594,3.1500592032921784E-2]
[0,205,6.4402649398590528,4.0972806595804592,2.0246233188097174,3.851062400794262,0.63344173157185646,0.31286893008041561,-1.9074599814811268,4.0972806595804592,4.5195256813435707,1.9753766811902826,-12.4203144048639,1.2206602346775615,-6.9971742315519503,1.9010326760298042,77.926809644216419,6.4402649398590528,"",-2.1480296831176267,"","",4.7342689652215633,null,null,null,null,null,null,null,null,null,null,null,null,null,null,8.2882339903880986,6.1251581524556169E-2]
[0,206,6.4716808663949505,4.1391920622764697,2.0354254985426139,3.7849815346446576,0.76280141131634382,0.37476262917140307,-2.3002694439091225,4.1391920622764697,4.7354144953736119,1.9645745014573861,-12.59037038793026,1.4459459047914618,-4.0084452674026663,2.1765162219583187,78.068794730998619,6.4716808663949505,"",-1.7994379194301022,"","",4.1350484362125535,null,null,null,null,null,null,null,null,null,null,null,null,null,null,8.4101353067361018,0.10526859511267019]
[0,207,6.5030967929308483,4.1880258856458621,2.0481664761224949,3.7064728710993444,0.89358734804209583,0.43628648279303883,-2.6987398603299155,4.1880258856458621,4.9822442385508703,1.9518335238775051,-12.779841932272554,1.6610884013480827,-2.494954546967882,2.5219085377313353,78.217562164902304,6.5030967929308483,"",-1.5518449729844968,"","",3.5687257746850101,null,null,null,null,null,null,null,null,null,null,null,null,null,null,8.5503810937620965,0.16609068214655182]
[0,208,6.5345127194667461,4.2434385688535503,2.0628336777427259,3.6153498632508971,1.0260117491153065,0.49737977432966329,-3.1033963757252927,4.2434385688535503,5.257170337025304,1.9371663222572741,-12.983212145560804,1.8645102954947339,-1.6496740510121244,2.9467701193325828,78.374083983884518,6.5345127194667461,"",-1.3673530722809519,"","",3.0541914148492926,null,null,null,null,null,null,null,null,null,null,null,null,null,null,8.7071234238577997,0.24609022226343408]
[0,209,6.5659286460026438,4.3050377834074354,2.0794126286461001,3.5114123020150148,1.160275258355737,0.55798221207841225,-3.5145800898024127,4.3050377834074345,5.5574835604076354,1.9205873713538997,-13.194292668884698,2.0546855115179987,-1.1420659848051213,3.4619678472607398,78.539242860979201,6.5659286460026438,"",-1.2249081464663567,"","",2.5996775236145515,null,null,null,null,null,null,null,null,null,null,null,null,null,null,8.8782767668285771,0.34744899394882645]
[0,210,6.5973445725385416,4.3723841528613852,2.0978869674096776,3.3944524178244206,1.296565450414527,0.61803398874984872,-3.932428081679666,4.3723841528613843,5.8806235891932568,1.9021130325903222,-13.406296246143329,2.2301460633400767,-0.81971292811571494,4.0796790109206729,78.713836356237422,6.5973445725385416,"",-1.1118789872423551,"","",2.2060559117294241,null,null,null,null,null,null,null,null,null,null,null,null,null,null,9.0615371863718011,0.47213595499947369]
[0,211,6.6287604990744393,4.4449931805305889,2.1182384620915324,3.2642615727972264,1.4350553824648429,0.67747584049053677,-4.3568558334644587,4.444993180530588,6.2241591503235778,1.8817615379084676,-13.611916747409964,2.3894885560270698,-0.60571461093434276,4.813427650140933,78.89858159490079,6.6287604990744393,"",-1.020229576197853,"","",1.8697694562286582,null,null,null,null,null,null,null,null,null,null,null,null,null,null,9.2544035644490723,0.62188693492759539]
[0,212,6.6601764256103371,4.5223373774203033,2.1404470282234791,3.1206374644647616,1.5759022096199351,0.73624910536931021,-4.787542274693207,4.5223373774203033,6.5857494932002503,1.8595529717765209,-13.803415857537216,2.5313804259519825,-0.45842674177883819,5.6781624320860358,79.094119321515095,6.6601764256103371,"",-0.94460521034461287,"","",1.5850198206981536,null,null,null,null,null,null,null,null,null,null,null,null,null,null,9.454200664398563,0.79818642235190873]
[0,213,6.6915923521462348,4.6038485817570294,2.164490748632018,2.9633917555710938,1.7192458702353077,0.79429578126951572,-5.223917643747324,4.6038485817570285,6.963098255259708,1.835509251367982,-13.972715573934707,2.6545658942929578,-0.35397058495642247,6.6903899623227607,79.301016743777296,6.6915923521462348,"",-0.88130190705964206,"","",1.3452130669040092,null,null,null,null,null,null,null,null,null,null,null,null,null,null,9.6581038272264497,1.0022516118002933]
[0,214,6.7230082786821326,4.6889204607333284,2.1903458950679395,2.7923580387279103,1.8652078469688855,0.85155858313010013,-5.6651543345103423,4.6889204607333284,7.3539070378204379,1.8096541049320602,-14.111495598058548,2.7578716096856586,-0.27799284385650869,7.8683841175676745,79.519768927026774,6.7230082786821326,"",-0.82767744422599332,"","",1.1438180782132605,null,null,null,null,null,null,null,null,null,null,null,null,null,null,9.8631650809326477,1.2350188542661509]
[0,215,6.7544242052180303,4.7769111843369787,2.2179869516232413,2.6074000398827408,2.0138900091663592,0.90798099947904876,-6.1101608669488812,4.7769111843369787,7.7558330489404694,1.7820130483767584,-14.211294654258186,2.8402119570831479,-0.22151750042406626,9.2325013617161851,79.75079873027876,6.7544242052180303,"",-0.7817979408981317,"","",0.97481707799358863,null,null,null,null,null,null,null,null,null,null,null,null,null,null,10.066340430099332,1.497132634493789]
[0,216,6.7858401317539281,4.8671462604348488,2.2473866399122482,2.408419960685785,2.1653735418095685,0.96350734820338624,-6.5575790892588195,4.8671462604348488,8.1664530998683542,1.7526133600877516,-14.263614727712504,2.9005940112023598,-0.1787389047362733,10.805645429776046,79.994455411568964,6.7858401317539281,"",-0.74221693618718754,"","",0.83289795676615408,null,null,null,null,null,null,null,null,null,null,null,null,null,null,10.26451808240895,1.7889371755072503]
[0,217,6.8172560582898258,4.9589215196246137,2.278515945992087,2.1953668569622704,2.319717965915117,1.0180828315006987,-7.0057846870063232,4.9589215196246137,8.5832349215484243,1.7214840540079133,-14.260027180653339,2.9381221143479173,-0.14579133744853295,12.613944633510243,80.251012102213281,6.8172560582898258,"",-0.7078324186613898,"","",0.71349607608793308,null,null,null,null,null,null,null,null,null,null,null,null,null,null,10.45454736035969,2.1104707475412563]
[0,218,6.8486719848257236,5.0515062377557545,2.3113441489959423,1.9682449486453508,2.476960254899804,1.0716535899579498,-7.4528910416110881,5.0515062377557545,9.0035159881133158,1.6886558510040577,-14.192279683235853,2.9520020598961811,-0.12003482481171436,14.687735437112732,80.520662379949002,6.8486719848257236,"",-0.67779150527655807,"","",0.61275613511249294,null,null,null,null,null,null,null,null,null,null,null,null,null,null,10.633268040281255,2.4614627344897491]
[0,219,6.8800879113616213,5.1441463834577066,2.3458388514508473,1.7271217557215892,2.6371140510404092,1.1241667557042185,-7.8967564468749138,5.1441463834577075,9.4244896092945805,1.6541611485491527,-14.052402882498484,2.9415448642889861,-9.9625853306280945E-2,17.062993870099781,80.80351617679635,6.8800879113616213,"",-0.65142522984781526,"","",0.52745726034462725,null,null,null,null,null,null,null,null,null,null,null,null,null,null,10.797539856880787,2.8413334864702544]
[0,220,6.9115038378975191,5.2360679774997143,2.3819660112500745,1.4721359549997961,2.8001689857493415,1.1755705045849041,-8.3349946583662291,5.2360679774997134,9.8431978452122717,1.6180339887499255,-13.832815729997691,2.9061701120214836,-8.325129252851883E-2,19.783434101891284,81.099595250000277,6.9115038378975191,"",-0.62820291939167883,"","",0.45492607368604449,null,null,null,null,null,null,null,null,null,null,null,null,null,null,10.944271909999044,3.2491969623287136]
[0,221,6.9429197644334169,5.3264805503460293,2.4196899752485872,1.2035048538372486,2.9660901069664103,1.2258141073059117,-8.7649887166479026,5.3264805503460293,10.256530712486537,1.5803100247514128,-13.526428395950319,2.845408859805298,-6.995893264522754E-2,22.903623478888164,81.408828430383778,6.9429197644334169,"",-0.60769964714604874,"","",0.39295092360804462,null,null,null,null,null,null,null,null,null,null,null,null,null,null,11.070451711047316,3.6838661410994207]
[0,222,6.9743356909693146,5.4145806838633419,2.4589735144483882,0.92153137933789164,3.1348174165319982,1.2748479794973389,-9.1839079518981119,5.4145806838633437,10.66123113205053,1.541026485551612,-13.126741715022863,2.7589060878400744,-5.9046899293391568E-2,26.493687726158242,81.731046845760432,6.9743356909693146,"",-0.58957262117857667,"","",0.33970355856176082,null,null,null,null,null,null,null,null,null,null,null,null,null,null,11.173173609716253,4.1438611568084269]
[0,223,7.0057516175052124,5.4995556227863895,2.4997778607390457,0.62661048495803084,3.3062655199601134,1.3226237306472639,-9.5887280447366354,5.4995556227863887,11.053905082098373,1.5002221392609543,-12.627942136135633,2.6464226879267136,-4.9989886101064002E-2,30.646581786810039,82.065979299787159,7.0057516175052124,"",-0.57354381072525662,"","",0.29367059800037809,null,null,null,null,null,null,null,null,null,null,null,null,null,null,11.249666346973989,4.6274200867851567]
[0,224,7.0371675440411101,5.5805869412539719,2.54206274515714,0.31923488088933016,3.4803233905728166,1.3690942118573384,-9.9762539863399109,5.580586941253971,11.431036445084816,1.4579372548428597,-12.02499118557218,2.5078369799967928,-4.2388944152110655E-2,35.489651694391377,82.413247969781153,7.0371675440411101,"",-0.55938701529604673,"","",0.25359505011491335,null,null,null,null,null,null,null,null,null,null,null,null,null,null,11.297319488051667,5.1325123000406689]
[0,225,7.0685834705770079,5.6568542494923175,2.5857864376268669,2.7844794045531762E-13,3.6568542494922278,1.414213562373057,-10.343145750507315,5.6568542494923175,11.789006065662907,1.4142135623731331,-11.313708498985417,2.3431457505077722,-3.5936651988075961E-2,41.203681907022641,82.772364570969103,7.0685834705770079,"",-0.54691816067803722,"","",0.2184270818396466,null,null,null,null,null,null,null,null,null,null,null,null,null,null,11.313708498984763,5.6568542494919232]
[0,{"$f":"B232+1","v":226},7.0999993971129056,{"$f":"alpha*(gama*COS(C233)-COS(beta*C233))","v":5.7275389255467042},{"$f":"(alpha-beta*COS(C233))","v":2.6309057881425835},{"$f":"beta*E233*COS(pol*C233)","v":-0.33039188254001634},{"$f":"gama*E233*SIN(pol_2*C233)","v":3.8356955625145943},{"$f":"beta*SIN(C233)","v":1.457937254842786},{"$f":"beta*H233*COS(pol*C233)-beta*E233*pol*SIN(pol*C233)","v":-10.685946461517101},{"$f":"gama*H233*SIN(pol_2*C233)+gama*E233*pol_2*COS(pol_2*C233)","v":5.7275389255467051},{"$f":"SQRT(I233^2+J233^2)","v":12.124114562394343},{"$f":"beta*COS(C233)","v":1.3690942118574168},{"$f":"beta*(L233*COS(pol*C233)-2*pol*H233*SIN(pol*C233)-pol^2*E233*COS(pol*C233))","v":-10.490847533169561},{"$f":"gama*(L233*SIN(pol_2*C233)+2*pol_2*H233*COS(pol_2*C233)-pol_2^2*E233*SIN(pol_2*C233))","v":2.152464808055055},{"$f":"(N233*I233-M233*J233)/I233^3","v":-3.0392504576459017E-2},{"$f":"IF(I233<>0,(1+(J233/I233)^2)^1.5/ABS(O233),\"\")","v":48.055668338807088},{"$f":"Q232+dt*K232","v":83.142727119459224},{"$f":"C233","v":7.0999993971129056},{"$f":"IF(scurrent>Q232,(IF(scurrent<Q233,(scurrent-Q232)*(R233-R232)/(Q233-Q232)+R232,\"\")),\"\")","v":""},{"$f":"J233/I233","v":-0.53598798629331301},{"$f":"IF(S233<>\"\",T232+(scurrent-Q232)*(T233-T232)/(Q233-Q232),\"\")","v":""},{"$f":"IF(v0*($M$2-deltat)<Q233,IF(v0*($M$2-deltat)>Q232,R232,\"\"),\"\")","v":""},{"$f":"v0^2/P233","v":0.18728279745372098}]
[0,227,7.1314153236488034,5.7918278568463792,2.6773762693526555,-0.67112845061231396,4.0166591544145627,1.500222139260883,-11.001112814657683,5.7918278568463801,12.432608458572449,1.3226237306473447,-9.554163132237937,1.9360290534723452,-2.5565188581330979E-2,56.458315216188687,83.523617411864208,7.1314153236488034,"",-0.52647654418464407,"","",0.15940964524955159]
[0,228,7.1628312501847011,5.8489171763323693,2.7251520205025783,-1.0212851360951396,4.1995314407487756,1.5410264855515434,-11.285047481496914,5.8489171763323693,12.710709216846858,1.2748479794974217,-8.5024701945499466,1.6941920636234178,-2.1299542198727449E-2,67.08553835189619,83.914199325848301,7.1628312501847011,"",-0.51828910652988547,"","",0.13415708096118473]
[0,229,7.1942471767205989,5.8980159778831922,2.7741858926940033,-1.3798239532565102,4.3840737767480977,1.5803100247513469,-11.534133209497829,5.8980159778831922,12.954644779761665,1.2258141073059967,-7.3356927657314319,1.4274251900237722,-1.746670686864522E-2,81.116762068050534,84.313518032823922,7.1942471767205989,"",-0.51135320450664179,"","",0.11095117421538243]
[0,230,7.2256631032564966,5.9383499958395429,2.8244294954150089,-1.7455934269938918,4.5700229224091071,1.618033988749862,-11.74476830572271,5.9383499958395429,13.160683235614943,1.1755705045849913,-6.0549029687306835,1.1363161753619178,-1.3956424492296249E-2,100.81560886654536,84.720500201523564,7.2256631032564966,"",-0.50561661509712763,"","",8.9271890545379221E-2]
[0,231,7.2570790297923944,5.9691652335557341,2.8758332442956922,-2.1173296533038566,4.7570916224198241,1.6541611485490921,-11.913403177283511,5.9691652335557333,13.325168248468735,1.1241667557043076,-4.6623492732847858,0.82156729290980746,-1.0670709733115371E-2,131.13459487451223,85.133955259215867,7.2570790297923944,"",-0.50104618678042756,"","",6.8631774922646827E-2]
[0,232,7.2884949563282921,5.9897315260922497,2.9283464100419589,-2.4936585198492796,4.9449692990839127,1.688655851004,-12.036577587066366,5.9897315260922497,13.444555915467488,1.0716535899580408,-3.1614737036216756,0.48399301571234865,-7.5182849692837055E-3,185.35808897760941,85.552577765988246,7.2884949563282921,"",-0.49762745953038851,"","",4.8554665456694297E-2]
[null,null,null,null,null,null,null,null,null,null,null,null,null,null,null,null,"TOTAL_LENGTH"]
[null,null,null,null,null,null,null,null,null,null,null,null,null,null,null,null,{"$f":"INDEX(A1:V239,207,17)","v":77.278462076697764},null,null,null,null,null,null,null,{"$f":"SUM(A8:A239)","v":1}]
[]
[]
[]
[{"$f":"SUM(A8:A244)","v":1}]

{"sheet":"calculations2","index":1,"n_rows":236,"n_cols":20,"rows_kept":236,"cut":false,"hidden":false,"merged":[]}
["neproid"]
["x","y"]
[{"$f":"IF(calculations!C7<currentF,alpha*(3*COS(calculations!C7)-COS(3*calculations!C7)),alpha*(3*COS(currentF)-COS(3*currentF)))","v":8},{"$f":"IF(calculations!C7<currentF,4*alpha*(SIN(calculations!C7))^3,4*alpha*(SIN(currentF)^3))","v":0}]
[{"$f":"IF(calculations!C8<currentF,alpha*(3*COS(calculations!C8)-COS(3*calculations!C8)),alpha*(3*COS(currentF)-COS(3*currentF)))","v":8.0118308659764583},{"$f":"IF(calculations!C8<currentF,4*alpha*(SIN(calculations!C8))^3,4*alpha*(SIN(currentF)^3))","v":4.9585566348225212E-4},null,null,null,null,null,null,null,null,null,{"$f":"1","v":1},4,0,null,null,null,null,{"$f":"xcurrenta","v":1.3787212520710816},{"$f":"ycurrenta","v":7.2747243252181724}]
[{"$f":"IF(calculations!C9<currentF,alpha*(3*COS(calculations!C9)-COS(3*calculations!C9)),alpha*(3*COS(currentF)-COS(3*currentF)))","v":8.0471717382245025},{"$f":"IF(calculations!C9<currentF,4*alpha*(SIN(calculations!C9))^3,4*alpha*(SIN(currentF)^3))","v":3.9609760088619907E-3},null,null,null,null,null,null,null,null,null,{"$f":"L4+1","v":2},{"$f":"IF(calculations!C8<currentfa,calculations!F8,xcurrenta)","v":3.9940767774885493},{"$f":"IF(calculations!C8<currentfa,calculations!G8,ycurrenta)","v":0.12570503356639959},null,null,null,null,{"$f":"xcurrenta","v":1.3787212520710816},{"$f":"ycurrenta","v":7.2747243252181724}]
[{"$f":"IF(calculations!C10<currentF,alpha*(3*COS(calculations!C10)-COS(3*calculations!C10)),alpha*(3*COS(currentF)-COS(3*currentF)))","v":8.1055688325291868},{"$f":"IF(calculations!C10<currentF,4*alpha*(SIN(calculations!C10))^3,4*alpha*(SIN(currentF)^3))","v":1.3335335665254817E-2},null,null,null,null,null,null,null,null,null,{"$f":"L5+1","v":3},{"$f":"IF(calculations!C9<currentfa,calculations!F9,xcurrenta)","v":3.9762896522019022},{"$f":"IF(calculations!C9<currentfa,calculations!G9,ycurrenta)","v":0.25165768910589853}]
[{"$f":"IF(calculations!C11<currentF,alpha*(3*COS(calculations!C11)-COS(3*calculations!C11)),alpha*(3*COS(currentF)-COS(3*currentF)))","v":8.1862704722207287},{"$f":"IF(calculations!C11<currentF,4*alpha*(SIN(calculations!C11))^3,4*alpha*(SIN(currentF)^3))","v":3.1500592032939118E-2},null,null,null,null,null,null,null,null,null,4,{"$f":"IF(calculations!C10<currentfa,calculations!F10,xcurrenta)","v":3.9465867052694636},{"$f":"IF(calculations!C10<currentfa,calculations!G10,ycurrenta)","v":0.37810387737666534}]
[{"$f":"IF(calculations!C12<currentF,alpha*(3*COS(calculations!C12)-COS(3*calculations!C12)),alpha*(3*COS(currentF)-COS(3*currentF)))","v":8.2882339903881821},{"$f":"IF(calculations!C12<currentF,4*alpha*(SIN(calculations!C12))^3,4*alpha*(SIN(currentF)^3))","v":6.1251581524583258E-2},null,null,null,null,null,null,null,null,null,5,{"$f":"IF(calculations!C11<currentfa,calculations!F11,xcurrenta)","v":3.9048829146235895},{"$f":"IF(calculations!C11<currentfa,calculations!G11,ycurrenta)","v":0.50528609418472437}]
[{"$f":"IF(calculations!C13<currentF,alpha*(3*COS(calculations!C13)-COS(3*calculations!C13)),alpha*(3*COS(currentF)-COS(3*currentF)))","v":8.410135306736203},{"$f":"IF(calculations!C13<currentF,4*alpha*(SIN(calculations!C13))^3,4*alpha*(SIN(currentF)^3))","v":0.10526859511270904},null,null,null,null,null,null,null,null,null,6,{"$f":"IF(calculations!C12<currentfa,calculations!F12,xcurrenta)","v":3.8510624007942171},{"$f":"IF(calculations!C12<currentfa,calculations!G12,ycurrenta)","v":0.63344173157195205}]
[{"$f":"IF(calculations!C14<currentF,alpha*(3*COS(calculations!C14)-COS(3*calculations!C14)),alpha*(3*COS(currentF)-COS(3*currentF)))","v":8.5503810937622085},{"$f":"IF(calculations!C14<currentF,4*alpha*(SIN(calculations!C14))^3,4*alpha*(SIN(currentF)^3))","v":0.16609068214660455},null,null,null,null,null,null,null,null,null,7,{"$f":"IF(calculations!C13<currentfa,calculations!F13,xcurrenta)","v":3.7849815346446034},{"$f":"IF(calculations!C13<currentfa,calculations!G13,ycurrenta)","v":0.76280141131644086}]
[{"$f":"IF(calculations!C15<currentF,alpha*(3*COS(calculations!C15)-COS(3*calculations!C15)),alpha*(3*COS(currentF)-COS(3*currentF)))","v":8.7071234238579258},{"$f":"IF(calculations!C15<currentF,4*alpha*(SIN(calculations!C15))^3,4*alpha*(SIN(currentF)^3))","v":0.24609022226350261},null,null,null,null,null,null,null,null,null,8,{"$f":"IF(calculations!C14<currentfa,calculations!F14,xcurrenta)","v":3.7064728710992809},{"$f":"IF(calculations!C14<currentfa,calculations!G14,ycurrenta)","v":0.89358734804219486}]
[{"$f":"IF(calculations!C16<currentF,alpha*(3*COS(calculations!C16)-COS(3*calculations!C16)),alpha*(3*COS(currentF)-COS(3*currentF)))","v":8.8782767668287086},{"$f":"IF(calculations!C16<currentF,4*alpha*(SIN(calculations!C16))^3,4*alpha*(SIN(currentF)^3))","v":0.34744899394891277},null,null,null,null,null,null,null,null,null,9,{"$f":"IF(calculations!C15<currentfa,calculations!F15,xcurrenta)","v":3.6153498632508234},{"$f":"IF(calculations!C15<currentfa,calculations!G15,ycurrenta)","v":1.0260117491154075}]
[{"$f":"IF(calculations!C17<currentF,alpha*(3*COS(calculations!C17)-COS(3*calculations!C17)),alpha*(3*COS(currentF)-COS(3*currentF)))","v":9.0615371863719503},{"$f":"IF(calculations!C17<currentF,4*alpha*(SIN(calculations!C17))^3,4*alpha*(SIN(currentF)^3))","v":0.472135954999579},null,null,null,null,null,null,null,null,null,10,{"$f":"IF(calculations!C16<currentfa,calculations!F16,xcurrenta)","v":3.5114123020149313},{"$f":"IF(calculations!C16<currentfa,calculations!G16,ycurrenta)","v":1.1602752583558407}]
[{"$f":"IF(calculations!C18<currentF,alpha*(3*COS(calculations!C18)-COS(3*calculations!C18)),alpha*(3*COS(currentF)-COS(3*currentF)))","v":9.2544035644492197},{"$f":"IF(calculations!C18<currentF,4*alpha*(SIN(calculations!C18))^3,4*alpha*(SIN(currentF)^3))","v":0.62188693492772162},null,null,null,null,null,null,null,null,null,11,{"$f":"IF(calculations!C17<currentfa,calculations!F17,xcurrenta)","v":3.3944524178243261},{"$f":"IF(calculations!C17<currentfa,calculations!G17,ycurrenta)","v":1.2965654504146327}]
[{"$f":"IF(calculations!C19<currentF,alpha*(3*COS(calculations!C19)-COS(3*calculations!C19)),alpha*(3*COS(currentF)-COS(3*currentF)))","v":9.4542006643987264},{"$f":"IF(calculations!C19<currentF,4*alpha*(SIN(calculations!C19))^3,4*alpha*(SIN(currentF)^3))","v":0.79818642235205672},null,null,null,null,null,null,null,null,null,12,{"$f":"IF(calculations!C18<currentfa,calculations!F18,xcurrenta)","v":3.2642615727971207},{"$f":"IF(calculations!C18<currentfa,calculations!G18,ycurrenta)","v":1.4350553824649512}]
[{"$f":"IF(calculations!C20<currentF,alpha*(3*COS(calculations!C20)-COS(3*calculations!C20)),alpha*(3*COS(currentF)-COS(3*currentF)))","v":9.6581038272266078},{"$f":"IF(calculations!C20<currentF,4*alpha*(SIN(calculations!C20))^3,4*alpha*(SIN(currentF)^3))","v":1.0022516118004647},null,null,null,null,null,null,null,null,null,13,{"$f":"IF(calculations!C19<currentfa,calculations!F19,xcurrenta)","v":3.1206374644646449},{"$f":"IF(calculations!C19<currentfa,calculations!G19,ycurrenta)","v":1.5759022096200459}]
[{"$f":"IF(calculations!C21<currentF,alpha*(3*COS(calculations!C21)-COS(3*calculations!C21)),alpha*(3*COS(currentF)-COS(3*currentF)))","v":9.8631650809328146},{"$f":"IF(calculations!C21<currentF,4*alpha*(SIN(calculations!C21))^3,4*alpha*(SIN(currentF)^3))","v":1.2350188542663465},null,null,null,null,null,null,null,null,null,14,{"$f":"IF(calculations!C20<currentfa,calculations!F20,xcurrenta)","v":2.9633917555709655},{"$f":"IF(calculations!C20<currentfa,calculations!G20,ycurrenta)","v":1.7192458702354216}]
[{"$f":"IF(calculations!C22<currentF,alpha*(3*COS(calculations!C22)-COS(3*calculations!C22)),alpha*(3*COS(currentF)-COS(3*currentF)))","v":10.066340430099491},{"$f":"IF(calculations!C22<currentF,4*alpha*(SIN(calculations!C22))^3,4*alpha*(SIN(currentF)^3))","v":1.4971326344940097},null,null,null,null,null,null,null,null,null,15,{"$f":"IF(calculations!C21<currentfa,calculations!F21,xcurrenta)","v":2.7923580387277696},{"$f":"IF(calculations!C21<currentfa,calculations!G21,ycurrenta)","v":1.8652078469690021}]
[{"$f":"IF(calculations!C23<currentF,alpha*(3*COS(calculations!C23)-COS(3*calculations!C23)),alpha*(3*COS(currentF)-COS(3*currentF)))","v":10.26451808240911},{"$f":"IF(calculations!C23<currentF,4*alpha*(SIN(calculations!C23))^3,4*alpha*(SIN(currentF)^3))","v":1.7889371755074965},null,null,null,null,null,null,null,null,null,16,{"$f":"IF(calculations!C22<currentfa,calculations!F22,xcurrenta)","v":2.6074000398825889},{"$f":"IF(calculations!C22<currentfa,calculations!G22,ycurrenta)","v":2.0138900091664791}]
[{"$f":"IF(calculations!C24<currentF,alpha*(3*COS(calculations!C24)-COS(3*calculations!C24)),alpha*(3*COS(currentF)-COS(3*currentF)))","v":10.454547360359836},{"$f":"IF(calculations!C24<currentF,4*alpha*(SIN(calculations!C24))^3,4*alpha*(SIN(currentF)^3))","v":2.1104707475415299},null,null,null,null,null,null,null,null,null,17,{"$f":"IF(calculations!C23<currentfa,calculations!F23,xcurrenta)","v":2.4084199606856198},{"$f":"IF(calculations!C23<currentfa,calculations!G23,ycurrenta)","v":2.165373541809692}]
[{"$f":"IF(calculations!C25<currentF,alpha*(3*COS(calculations!C25)-COS(3*calculations!C25)),alpha*(3*COS(currentF)-COS(3*currentF)))","v":10.633268040281397},{"$f":"IF(calculations!C25<currentF,4*alpha*(SIN(calculations!C25))^3,4*alpha*(SIN(currentF)^3))","v":2.4614627344900488},null,null,null,null,null,null,null,null,null,18,{"$f":"IF(calculations!C24<currentfa,calculations!F24,xcurrenta)","v":2.1953668569620919},{"$f":"IF(calculations!C24<currentfa,calculations!G24,ycurrenta)","v":2.3197179659152432}]
[{"$f":"IF(calculations!C26<currentF,alpha*(3*COS(calculations!C26)-COS(3*calculations!C26)),alpha*(3*COS(currentF)-COS(3*currentF)))","v":10.797539856880913},{"$f":"IF(calculations!C26<currentF,4*alpha*(SIN(calculations!C26))^3,4*alpha*(SIN(currentF)^3))","v":2.8413334864705773},null,null,null,null,null,null,null,null,null,19,{"$f":"IF(calculations!C25<currentfa,calculations!F25,xcurrenta)","v":1.9682449486451596},{"$f":"IF(calculations!C25<currentfa,calculations!G25,ycurrenta)","v":2.4769602548999341}]
[{"$f":"IF(calculations!C27<currentF,alpha*(3*COS(calculations!C27)-COS(3*calculations!C27)),alpha*(3*COS(currentF)-COS(3*currentF)))","v":10.944271909999159},{"$f":"IF(calculations!C27<currentF,4*alpha*(SIN(calculations!C27))^3,4*alpha*(SIN(currentF)^3))","v":3.2491969623290653},null,null,null,null,null,null,null,null,null,20,{"$f":"IF(calculations!C26<currentfa,calculations!F26,xcurrenta)","v":1.7271217557213849},{"$f":"IF(calculations!C26<currentfa,calculations!G26,ycurrenta)","v":2.637114051040542}]
[{"$f":"IF(calculations!C28<currentF,alpha*(3*COS(calculations!C28)-COS(3*calculations!C28)),alpha*(3*COS(currentF)-COS(3*currentF)))","v":11.070451711047408},{"$f":"IF(calculations!C28<currentF,4*alpha*(SIN(calculations!C28))^3,4*alpha*(SIN(currentF)^3))","v":3.6838661410997955},null,null,null,null,null,null,null,null,null,21,{"$f":"IF(calculations!C27<currentfa,calculations!F27,xcurrenta)","v":1.4721359549995787},{"$f":"IF(calculations!C27<currentfa,calculations!G27,ycurrenta)","v":2.8001689857494783}]
[{"$f":"IF(calculations!C29<currentF,alpha*(3*COS(calculations!C29)-COS(3*calculations!C29)),alpha*(3*COS(currentF)-COS(3*currentF)))","v":11.173173609716333},{"$f":"IF(calculations!C29<currentF,4*alpha*(SIN(calculations!C29))^3,4*alpha*(SIN(currentF)^3))","v":4.1438611568088248},null,null,null,null,null,null,null,null,null,22,{"$f":"IF(calculations!C28<currentfa,calculations!F28,xcurrenta)","v":1.2035048538370179},{"$f":"IF(calculations!C28<currentfa,calculations!G28,ycurrenta)","v":2.9660901069665506}]
[{"$f":"IF(calculations!C30<currentF,alpha*(3*COS(calculations!C30)-COS(3*calculations!C30)),alpha*(3*COS(currentF)-COS(3*currentF)))","v":11.249666346974038},{"$f":"IF(calculations!C30<currentF,4*alpha*(SIN(calculations!C30))^3,4*alpha*(SIN(currentF)^3))","v":4.6274200867855786},null,null,null,null,null,null,null,null,null,23,{"$f":"IF(calculations!C29<currentfa,calculations!F29,xcurrenta)","v":0.92153137933764762},{"$f":"IF(calculations!C29<currentfa,calculations!G29,ycurrenta)","v":3.1348174165321416}]
[{"$f":"IF(calculations!C31<currentF,alpha*(3*COS(calculations!C31)-COS(3*calculations!C31)),alpha*(3*COS(currentF)-COS(3*currentF)))","v":11.297319488051698},{"$f":"IF(calculations!C31<currentF,4*alpha*(SIN(calculations!C31))^3,4*alpha*(SIN(currentF)^3))","v":5.1325123000411113},null,null,null,null,null,null,null,null,null,24,{"$f":"IF(calculations!C30<currentfa,calculations!F30,xcurrenta)","v":0.62661048495777405},{"$f":"IF(calculations!C30<currentfa,calculations!G30,ycurrenta)","v":3.3062655199602609}]
[{"$f":"IF(calculations!C32<currentF,alpha*(3*COS(calculations!C32)-COS(3*calculations!C32)),alpha*(3*COS(currentF)-COS(3*currentF)))","v":11.313708498984759},{"$f":"IF(calculations!C32<currentF,4*alpha*(SIN(calculations!C32))^3,4*alpha*(SIN(currentF)^3))","v":5.6568542494923841},null,null,null,null,null,null,null,null,null,25,{"$f":"IF(calculations!C31<currentfa,calculations!F31,xcurrenta)","v":0.31923488088906082},{"$f":"IF(calculations!C31<currentfa,calculations!G31,ycurrenta)","v":3.4803233905729676}]
[{"$f":"IF(calculations!C33<currentF,alpha*(3*COS(calculations!C33)-COS(3*calculations!C33)),alpha*(3*COS(currentF)-COS(3*currentF)))","v":11.296618242247421},{"$f":"IF(calculations!C33<currentF,4*alpha*(SIN(calculations!C33))^3,4*alpha*(SIN(currentF)^3))","v":6.1979275700621859},null,null,null,null,null,null,null,null,null,26,{"$f":"IF(calculations!C32<currentfa,calculations!F32,xcurrenta)","v":-3.1281623419019948E-15},{"$f":"IF(calculations!C32<currentfa,calculations!G32,ycurrenta)","v":3.656854249492381}]
[{"$f":"IF(calculations!C34<currentF,alpha*(3*COS(calculations!C34)-COS(3*calculations!C34)),alpha*(3*COS(currentF)-COS(3*currentF)))","v":11.244064680982069},{"$f":"IF(calculations!C34<currentF,4*alpha*(SIN(calculations!C34))^3,4*alpha*(SIN(currentF)^3))","v":6.7529993241569999},null,null,null,null,null,null,null,null,null,27,{"$f":"IF(calculations!C33<currentfa,calculations!F33,xcurrenta)","v":-0.33039188254030966},{"$f":"IF(calculations!C33<currentfa,calculations!G33,ycurrenta)","v":3.8356955625147515}]
[{"$f":"IF(calculations!C35<currentF,alpha*(3*COS(calculations!C35)-COS(3*calculations!C35)),alpha*(3*COS(currentF)-COS(3*currentF)))","v":11.154314597159731},{"$f":"IF(calculations!C35<currentF,4*alpha*(SIN(calculations!C35))^3,4*alpha*(SIN(currentF)^3))","v":7.3191442169026173},null,null,null,null,null,null,null,null,null,28,{"$f":"IF(calculations!C34<currentfa,calculations!F34,xcurrenta)","v":-0.67112845061261828},{"$f":"IF(calculations!C34<currentfa,calculations!G34,ycurrenta)","v":4.0166591544147225}]
[{"$f":"IF(calculations!C36<currentF,alpha*(3*COS(calculations!C36)-COS(3*calculations!C36)),alpha*(3*COS(currentF)-COS(3*currentF)))","v":11.02590314657164},{"$f":"IF(calculations!C36<currentF,4*alpha*(SIN(calculations!C36))^3,4*alpha*(SIN(currentF)^3))","v":7.8932685859691709},null,null,null,null,null,null,null,null,null,29,{"$f":"IF(calculations!C35<currentfa,calculations!F35,xcurrenta)","v":-1.0212851360954542},{"$f":"IF(calculations!C35<currentfa,calculations!G35,ycurrenta)","v":4.199531440748939}]
[{"$f":"IF(calculations!C37<currentF,alpha*(3*COS(calculations!C37)-COS(3*calculations!C37)),alpha*(3*COS(currentF)-COS(3*currentF)))","v":10.857649092690288},{"$f":"IF(calculations!C37<currentF,4*alpha*(SIN(calculations!C37))^3,4*alpha*(SIN(currentF)^3))","v":8.4721359549995885},null,null,null,null,null,null,null,null,null,30,{"$f":"IF(calculations!C36<currentfa,calculations!F36,xcurrenta)","v":-1.3798239532568344},{"$f":"IF(calculations!C36<currentfa,calculations!G36,ycurrenta)","v":4.3840737767482629}]
[{"$f":"IF(calculations!C38<currentF,alpha*(3*COS(calculations!C38)-COS(3*calculations!C38)),alpha*(3*COS(currentF)-COS(3*currentF)))","v":10.648667581980552},{"$f":"IF(calculations!C38<currentF,4*alpha*(SIN(calculations!C38))^3,4*alpha*(SIN(currentF)^3))","v":9.0523939257085821},null,null,null,null,null,null,null,null,null,31,{"$f":"IF(calculations!C37<currentfa,calculations!F37,xcurrenta)","v":-1.7455934269942246},{"$f":"IF(calculations!C37<currentfa,calculations!G37,ycurrenta)","v":4.570022922409275}]
[{"$f":"IF(calculations!C39<currentF,alpha*(3*COS(calculations!C39)-COS(3*calculations!C39)),alpha*(3*COS(currentF)-COS(3*currentF)))","v":10.398380345005867},{"$f":"IF(calculations!C39<currentF,4*alpha*(SIN(calculations!C39))^3,4*alpha*(SIN(currentF)^3))","v":9.6306021717669719},null,null,null,null,null,null,null,null,null,32,{"$f":"IF(calculations!C38<currentfa,calculations!F38,xcurrenta)","v":-2.1173296533041968},{"$f":"IF(calculations!C38<currentfa,calculations!G38,ycurrenta)","v":4.7570916224199955}]
[{"$f":"IF(calculations!C40<currentF,alpha*(3*COS(calculations!C40)-COS(3*calculations!C40)),alpha*(3*COS(currentF)-COS(3*currentF)))","v":10.106523230467378},{"$f":"IF(calculations!C40<currentF,4*alpha*(SIN(calculations!C40))^3,4*alpha*(SIN(currentF)^3))","v":10.203261287734819},null,null,null,null,null,null,null,null,null,33,{"$f":"IF(calculations!C39<currentfa,calculations!F39,xcurrenta)","v":-2.4936585198496251},{"$f":"IF(calculations!C39<currentfa,calculations!G39,ycurrenta)","v":4.944969299084085}]
[{"$f":"IF(calculations!C41<currentF,alpha*(3*COS(calculations!C41)-COS(3*calculations!C41)),alpha*(3*COS(currentF)-COS(3*currentF)))","v":9.7731510029336626},{"$f":"IF(calculations!C41<currentF,4*alpha*(SIN(calculations!C41))^3,4*alpha*(SIN(currentF)^3))","v":10.76684223864363},null,null,null,null,null,null,null,null,null,34,{"$f":"IF(calculations!C40<currentfa,calculations!F40,xcurrenta)","v":-2.8730991035830082},{"$f":"IF(calculations!C40<currentfa,calculations!G40,ycurrenta)","v":5.1333228559438249}]
[{"$f":"IF(calculations!C42<currentF,alpha*(3*COS(calculations!C42)-COS(3*calculations!C42)),alpha*(3*COS(currentF)-COS(3*currentF)))","v":9.398639359255105},{"$f":"IF(calculations!C42<currentF,4*alpha*(SIN(calculations!C42))^3,4*alpha*(SIN(currentF)^3))","v":11.317816150421347},null,null,null,null,null,null,null,null,null,35,{"$f":"IF(calculations!C41<currentfa,calculations!F41,xcurrenta)","v":-3.2540682511788672},{"$f":"IF(calculations!C41<currentfa,calculations!G41,ycurrenta)","v":5.3217975893468825}]
[{"$f":"IF(calculations!C43<currentF,alpha*(3*COS(calculations!C43)-COS(3*calculations!C43)),alpha*(3*COS(currentF)-COS(3*currentF)))","v":8.9836841432953882},{"$f":"IF(calculations!C43<currentF,4*alpha*(SIN(calculations!C43))^3,4*alpha*(SIN(currentF)^3))","v":11.852684178251664},null,null,null,null,null,null,null,null,null,36,{"$f":"IF(calculations!C42<currentfa,calculations!F42,xcurrenta)","v":-3.6348863366286106},{"$f":"IF(calculations!C42<currentfa,calculations!G42,ycurrenta)","v":5.510018204757051}]
[{"$f":"IF(calculations!C44<currentF,alpha*(3*COS(calculations!C44)-COS(3*calculations!C44)),alpha*(3*COS(currentF)-COS(3*currentF)))","v":8.5292977634342577},{"$f":"IF(calculations!C44<currentF,4*alpha*(SIN(calculations!C44))^3,4*alpha*(SIN(currentF)^3))","v":12.368007189188953},null,null,null,null,null,null,null,null,null,37,{"$f":"IF(calculations!C43<currentfa,calculations!F43,xcurrenta)","v":-4.0137841788624087},{"$f":"IF(calculations!C43<currentfa,calculations!G43,ycurrenta)","v":5.6975899341765821}]
[{"$f":"IF(calculations!C45<currentF,alpha*(3*COS(calculations!C45)-COS(3*calculations!C45)),alpha*(3*COS(currentF)-COS(3*currentF)))","v":8.0368028420802009},{"$f":"IF(calculations!C45<currentF,4*alpha*(SIN(calculations!C45))^3,4*alpha*(SIN(currentF)^3))","v":12.86043499691932},null,null,null,null,null,null,null,null,null,38,{"$f":"IF(calculations!C44<currentfa,calculations!F44,xcurrenta)","v":-4.3889110907906277},{"$f":"IF(calculations!C44<currentfa,calculations!G44,ycurrenta)","v":5.88409975062903}]
[{"$f":"IF(calculations!C46<currentF,alpha*(3*COS(calculations!C46)-COS(3*calculations!C46)),alpha*(3*COS(currentF)-COS(3*currentF)))","v":7.5078231509592577},{"$f":"IF(calculations!C46<currentF,4*alpha*(SIN(calculations!C46))^3,4*alpha*(SIN(currentF)^3))","v":13.326734890452204},null,null,null,null,null,null,null,null,null,39,{"$f":"IF(calculations!C45<currentfa,calculations!F45,xcurrenta)","v":-4.758344019808618},{"$f":"IF(calculations!C45<currentfa,calculations!G45,ycurrenta)","v":6.0691176752486387}]
[{"$f":"IF(calculations!C47<currentF,alpha*(3*COS(calculations!C47)-COS(3*calculations!C47)),alpha*(3*COS(currentF)-COS(3*currentF)))","v":6.9442719099991432},{"$f":"IF(calculations!C47<currentF,4*alpha*(SIN(calculations!C47))^3,4*alpha*(SIN(currentF)^3))","v":13.763819204711748},null,null,null,null,null,null,null,null,null,40,{"$f":"IF(calculations!C46<currentfa,calculations!F46,xcurrenta)","v":-5.1200977286890179},{"$f":"IF(calculations!C46<currentfa,calculations!G46,ycurrenta)","v":6.2521981721364286}]
[{"$f":"IF(calculations!C48<currentF,alpha*(3*COS(calculations!C48)-COS(3*calculations!C48)),alpha*(3*COS(currentF)-COS(3*currentF)))","v":6.3483375509925715},{"$f":"IF(calculations!C48<currentF,4*alpha*(SIN(calculations!C48))^3,4*alpha*(SIN(currentF)^3))","v":14.168771689417934},null,null,null,null,null,null,null,null,null,41,{"$f":"IF(calculations!C47<currentfa,calculations!F47,xcurrenta)","v":-5.4721359549995894},{"$f":"IF(calculations!C47<currentfa,calculations!G47,ycurrenta)","v":6.4328816257762877}]
[{"$f":"IF(calculations!C49<currentF,alpha*(3*COS(calculations!C49)-COS(3*calculations!C49)),alpha*(3*COS(currentF)-COS(3*currentF)))","v":5.7224670696929927},{"$f":"IF(calculations!C49<currentF,4*alpha*(SIN(calculations!C49))^3,4*alpha*(SIN(currentF)^3))","v":14.538872443229229},null,null,null,null,null,null,null,null,null,42,{"$f":"IF(calculations!C48<currentfa,calculations!F48,xcurrenta)","v":-5.8123834768336691},{"$f":"IF(calculations!C48<currentfa,calculations!G48,ycurrenta)","v":6.6106958954575559}]
[{"$f":"IF(calculations!C50<currentF,alpha*(3*COS(calculations!C50)-COS(3*calculations!C50)),alpha*(3*COS(currentF)-COS(3*currentF)))","v":5.0693471113703961},{"$f":"IF(calculations!C50<currentF,4*alpha*(SIN(calculations!C50))^3,4*alpha*(SIN(currentF)^3))","v":14.871621192767741},null,null,null,null,null,null,null,null,null,43,{"$f":"IF(calculations!C49<currentfa,calculations!F49,xcurrenta)","v":-6.1387390028232502},{"$f":"IF(calculations!C49<currentfa,calculations!G49,ycurrenta)","v":6.7851579408256226}]
[{"$f":"IF(calculations!C51<currentF,alpha*(3*COS(calculations!C51)-COS(3*calculations!C51)),alpha*(3*COS(currentF)-COS(3*currentF)))","v":4.3918829549446601},{"$f":"IF(calculations!C51<currentF,4*alpha*(SIN(calculations!C51))^3,4*alpha*(SIN(currentF)^3))","v":15.164758710752331},null,null,null,null,null,null,null,null,null,44,{"$f":"IF(calculations!C50<currentfa,calculations!F50,xcurrenta)","v":-6.4490887952152978},{"$f":"IF(calculations!C50<currentfa,calculations!G50,ycurrenta)","v":6.955775512379839}]
[{"$f":"IF(calculations!C52<currentF,alpha*(3*COS(calculations!C52)-COS(3*calculations!C52)),alpha*(3*COS(currentF)-COS(3*currentF)))","v":3.6931755794409327},{"$f":"IF(calculations!C52<currentF,4*alpha*(SIN(calculations!C52))^3,4*alpha*(SIN(currentF)^3))","v":15.416286183895132},null,null,null,null,null,null,null,null,null,45,{"$f":"IF(calculations!C51<currentfa,calculations!F51,xcurrenta)","v":-6.7413209263194762},{"$f":"IF(calculations!C51<currentfa,calculations!G51,ycurrenta)","v":7.1220489004601584}]
[{"$f":"IF(calculations!C53<currentF,alpha*(3*COS(calculations!C53)-COS(3*calculations!C53)),alpha*(3*COS(currentF)-COS(3*currentF)))","v":2.9764970135103357},{"$f":"IF(calculations!C53<currentF,4*alpha*(SIN(calculations!C53))^3,4*alpha*(SIN(currentF)^3))","v":15.624482359326747},null,null,null,null,null,null,null,null,null,46,{"$f":"IF(calculations!C52<currentfa,calculations!F52,xcurrenta)","v":-7.0133400609626051},{"$f":"IF(calculations!C52<currentfa,calculations!G52,ycurrenta)","v":7.2834727360112126}]
[{"$f":"IF(calculations!C54<currentF,alpha*(3*COS(calculations!C54)-COS(3*calculations!C54)),alpha*(3*COS(currentF)-COS(3*currentF)))","v":2.2452641839790628},{"$f":"IF(calculations!C54<currentF,4*alpha*(SIN(calculations!C54))^3,4*alpha*(SIN(currentF)^3))","v":15.787918317944737},null,null,null,null,null,null,null,null,null,47,{"$f":"IF(calculations!C53<currentfa,calculations!F53,xcurrenta)","v":-7.2630826507883093},{"$f":"IF(calculations!C53<currentfa,calculations!G53,ycurrenta)","v":7.4395378361861182}]
[{"$f":"IF(calculations!C55<currentF,alpha*(3*COS(calculations!C55)-COS(3*calculations!C55)),alpha*(3*COS(currentF)-COS(3*currentF)))","v":1.5030114926946307},{"$f":"IF(calculations!C55<currentF,4*alpha*(SIN(calculations!C55))^3,4*alpha*(SIN(currentF)^3))","v":15.905469744054018},null,null,null,null,null,null,null,null,null,48,{"$f":"IF(calculations!C54<currentfa,calculations!F54,xcurrenta)","v":-7.4885324203880872},{"$f":"IF(calculations!C54<currentfa,calculations!G54,ycurrenta)","v":7.5897330876531957}]
[{"$f":"IF(calculations!C56<currentF,alpha*(3*COS(calculations!C56)-COS(3*calculations!C56)),alpha*(3*COS(currentF)-COS(3*currentF)))","v":0.75336236221156638},{"$f":"IF(calculations!C56<currentF,4*alpha*(SIN(calculations!C56))^3,4*alpha*(SIN(currentF)^3))","v":15.976326582801102},null,null,null,null,null,null,null,null,null,49,{"$f":"IF(calculations!C55<currentfa,calculations!F55,xcurrenta)","v":-7.6877360204030074},{"$f":"IF(calculations!C55<currentfa,calculations!G55,ycurrenta)","v":7.7335473602975702}]
[{"$f":"IF(calculations!C57<currentF,alpha*(3*COS(calculations!C57)-COS(3*calculations!C57)),alpha*(3*COS(currentF)-COS(3*currentF)))","v":-2.8727888123913914E-14},{"$f":"IF(calculations!C57<currentF,4*alpha*(SIN(calculations!C57))^3,4*alpha*(SIN(currentF)^3))","v":16},null,null,null,null,null,null,null,null,null,50,{"$f":"IF(calculations!C56<currentfa,calculations!F56,xcurrenta)","v":-7.8588187189454066},{"$f":"IF(calculations!C56<currentfa,calculations!G56,ycurrenta)","v":7.8704714438672312}]
[{"$f":"IF(calculations!C58<currentF,alpha*(3*COS(calculations!C58)-COS(3*calculations!C58)),alpha*(3*COS(currentF)-COS(3*currentF)))","v":-0.75336236221162745},{"$f":"IF(calculations!C58<currentF,4*alpha*(SIN(calculations!C58))^3,4*alpha*(SIN(currentF)^3))","v":15.976326582801097},null,null,null,null,null,null,null,null,null,51,{"$f":"IF(calculations!C57<currentfa,calculations!F57,xcurrenta)","v":-8.0000000000000053},{"$f":"IF(calculations!C57<currentfa,calculations!G57,ycurrenta)","v":8.0000000000000053}]
[{"$f":"IF(calculations!C59<currentF,alpha*(3*COS(calculations!C59)-COS(3*calculations!C59)),alpha*(3*COS(currentF)-COS(3*currentF)))","v":-1.5030114926946911},{"$f":"IF(calculations!C59<currentF,4*alpha*(SIN(calculations!C59))^3,4*alpha*(SIN(currentF)^3))","v":15.905469744054008},null,null,null,null,null,null,null,null,null,52,{"$f":"IF(calculations!C58<currentfa,calculations!F58,xcurrenta)","v":-8.1096089359069481},{"$f":"IF(calculations!C58<currentfa,calculations!G58,ycurrenta)","v":8.1216335219844833}]
[{"$f":"IF(calculations!C60<currentF,alpha*(3*COS(calculations!C60)-COS(3*calculations!C60)),alpha*(3*COS(currentF)-COS(3*currentF)))","v":-2.2452641839791223},{"$f":"IF(calculations!C60<currentF,4*alpha*(SIN(calculations!C60))^3,4*alpha*(SIN(currentF)^3))","v":15.787918317944726},null,null,null,null,null,null,null,null,null,53,{"$f":"IF(calculations!C59<currentfa,calculations!F59,xcurrenta)","v":-8.1860992006286484},{"$f":"IF(calculations!C59<currentfa,calculations!G59,ycurrenta)","v":8.2348802945547863}]
[{"$f":"IF(calculations!C61<currentF,alpha*(3*COS(calculations!C61)-COS(3*calculations!C61)),alpha*(3*COS(currentF)-COS(3*currentF)))","v":-2.9764970135103974},{"$f":"IF(calculations!C61<currentF,4*alpha*(SIN(calculations!C61))^3,4*alpha*(SIN(currentF)^3))","v":15.624482359326731},null,null,null,null,null,null,null,null,null,54,{"$f":"IF(calculations!C60<currentfa,calculations!F60,xcurrenta)","v":-8.2280635912709403},{"$f":"IF(calculations!C60<currentfa,calculations!G60,ycurrenta)","v":8.3392583459960949}]
[{"$f":"IF(calculations!C62<currentF,alpha*(3*COS(calculations!C62)-COS(3*calculations!C62)),alpha*(3*COS(currentF)-COS(3*currentF)))","v":-3.6931755794409904},{"$f":"IF(calculations!C62<currentF,4*alpha*(SIN(calculations!C62))^3,4*alpha*(SIN(currentF)^3))","v":15.416286183895117},null,null,null,null,null,null,null,null,null,55,{"$f":"IF(calculations!C61<currentfa,calculations!F61,xcurrenta)","v":-8.234247927269795},{"$f":"IF(calculations!C61<currentfa,calculations!G61,ycurrenta)","v":8.4342973848455358}]
[{"$f":"IF(calculations!C63<currentF,alpha*(3*COS(calculations!C63)-COS(3*calculations!C63)),alpha*(3*COS(currentF)-COS(3*currentF)))","v":-4.391882954944716},{"$f":"IF(calculations!C63<currentF,4*alpha*(SIN(calculations!C63))^3,4*alpha*(SIN(currentF)^3))","v":15.164758710752311},null,null,null,null,null,null,null,null,null,56,{"$f":"IF(calculations!C62<currentfa,calculations!F62,xcurrenta)","v":-8.2035641997598585},{"$f":"IF(calculations!C62<currentfa,calculations!G62,ycurrenta)","v":8.5195407135110024}]
[{"$f":"IF(calculations!C64<currentF,alpha*(3*COS(calculations!C64)-COS(3*calculations!C64)),alpha*(3*COS(currentF)-COS(3*currentF)))","v":-5.0693471113704511},{"$f":"IF(calculations!C64<currentF,4*alpha*(SIN(calculations!C64))^3,4*alpha*(SIN(currentF)^3))","v":14.871621192767718},null,null,null,null,null,null,null,null,null,57,{"$f":"IF(calculations!C63<currentfa,calculations!F63,xcurrenta)","v":-8.1351028478925507},{"$f":"IF(calculations!C63<currentfa,calculations!G63,ycurrenta)","v":8.5945471111988692}]
[{"$f":"IF(calculations!C65<currentF,alpha*(3*COS(calculations!C65)-COS(3*calculations!C65)),alpha*(3*COS(currentF)-COS(3*currentF)))","v":-5.7224670696930433},{"$f":"IF(calculations!C65<currentF,4*alpha*(SIN(calculations!C65))^3,4*alpha*(SIN(currentF)^3))","v":14.538872443229202},null,null,null,null,null,null,null,null,null,58,{"$f":"IF(calculations!C64<currentfa,calculations!F64,xcurrenta)","v":-8.0281440442410172},{"$f":"IF(calculations!C64<currentfa,calculations!G64,ycurrenta)","v":8.658892678640127}]
[{"$f":"IF(calculations!C66<currentF,alpha*(3*COS(calculations!C66)-COS(3*calculations!C66)),alpha*(3*COS(currentF)-COS(3*currentF)))","v":-6.3483375509926212},{"$f":"IF(calculations!C66<currentF,4*alpha*(SIN(calculations!C66))^3,4*alpha*(SIN(currentF)^3))","v":14.168771689417904},null,null,null,null,null,null,null,null,null,59,{"$f":"IF(calculations!C65<currentfa,calculations!F65,xcurrenta)","v":-7.882167877878568},{"$f":"IF(calculations!C65<currentfa,calculations!G65,ycurrenta)","v":8.7121726372324826}]
[{"$f":"IF(calculations!C67<currentF,alpha*(3*COS(calculations!C67)-COS(3*calculations!C67)),alpha*(3*COS(currentF)-COS(3*currentF)))","v":-6.9442719099991912},{"$f":"IF(calculations!C67<currentF,4*alpha*(SIN(calculations!C67))^3,4*alpha*(SIN(currentF)^3))","v":13.763819204711716},null,null,null,null,null,null,null,null,null,60,{"$f":"IF(calculations!C66<currentfa,calculations!F66,xcurrenta)","v":-7.6968633311985704},{"$f":"IF(calculations!C66<currentfa,calculations!G66,ycurrenta)","v":8.7540030753735394}]
[{"$f":"IF(calculations!C68<currentF,alpha*(3*COS(calculations!C68)-COS(3*calculations!C68)),alpha*(3*COS(currentF)-COS(3*currentF)))","v":-7.5078231509593021},{"$f":"IF(calculations!C68<currentF,4*alpha*(SIN(calculations!C68))^3,4*alpha*(SIN(currentF)^3))","v":13.326734890452165},null,null,null,null,null,null,null,null,null,61,{"$f":"IF(calculations!C67<currentfa,calculations!F67,xcurrenta)","v":-7.4721359549995672},{"$f":"IF(calculations!C67<currentfa,calculations!G67,ycurrenta)","v":8.7840226349461776}]
[{"$f":"IF(calculations!C69<currentF,alpha*(3*COS(calculations!C69)-COS(3*calculations!C69)),alpha*(3*COS(currentF)-COS(3*currentF)))","v":-8.0368028420802435},{"$f":"IF(calculations!C69<currentF,4*alpha*(SIN(calculations!C69))^3,4*alpha*(SIN(currentF)^3))","v":12.860434996919283},null,null,null,null,null,null,null,null,null,62,{"$f":"IF(calculations!C68<currentfa,calculations!F68,xcurrenta)","v":-7.2081141557236021},{"$f":"IF(calculations!C68<currentfa,calculations!G68,ycurrenta)","v":8.8018941311311831}]
[{"$f":"IF(calculations!C70<currentF,alpha*(3*COS(calculations!C70)-COS(3*calculations!C70)),alpha*(3*COS(currentF)-COS(3*currentF)))","v":-8.5292977634342968},{"$f":"IF(calculations!C70<currentF,4*alpha*(SIN(calculations!C70))^3,4*alpha*(SIN(currentF)^3))","v":12.368007189188909},null,null,null,null,null,null,null,null,null,63,{"$f":"IF(calculations!C69<currentfa,calculations!F69,xcurrenta)","v":-6.9051540189339571},{"$f":"IF(calculations!C69<currentfa,calculations!G69,ycurrenta)","v":8.8073060989633891}]
[{"$f":"IF(calculations!C71<currentF,alpha*(3*COS(calculations!C71)-COS(3*calculations!C71)),alpha*(3*COS(currentF)-COS(3*currentF)))","v":-8.983684143295422},{"$f":"IF(calculations!C71<currentF,4*alpha*(SIN(calculations!C71))^3,4*alpha*(SIN(currentF)^3))","v":11.85268417825162},null,null,null,null,null,null,null,null,null,64,{"$f":"IF(calculations!C70<currentfa,calculations!F70,xcurrenta)","v":-6.5638426040683777},{"$f":"IF(calculations!C70<currentfa,calculations!G70,ycurrenta)","v":8.79997426031467}]
[{"$f":"IF(calculations!C72<currentF,alpha*(3*COS(calculations!C72)-COS(3*calculations!C72)),alpha*(3*COS(currentF)-COS(3*currentF)))","v":-9.3986393592551334},{"$f":"IF(calculations!C72<currentF,4*alpha*(SIN(calculations!C72))^3,4*alpha*(SIN(currentF)^3))","v":11.31781615042131},null,null,null,null,null,null,null,null,null,65,{"$f":"IF(calculations!C71<currentfa,calculations!F71,xcurrenta)","v":-6.1849996571166113},{"$f":"IF(calculations!C71<currentfa,calculations!G71,ycurrenta)","v":8.7796429052797329}]
[{"$f":"IF(calculations!C73<currentF,alpha*(3*COS(calculations!C73)-COS(3*calculations!C73)),alpha*(3*COS(currentF)-COS(3*currentF)))","v":-9.7731510029336874},{"$f":"IF(calculations!C73<currentF,4*alpha*(SIN(calculations!C73))^3,4*alpha*(SIN(currentF)^3))","v":10.766842238643587},null,null,null,null,null,null,null,null,null,66,{"$f":"IF(calculations!C72<currentfa,calculations!F72,xcurrenta)","v":-5.769677700050944},{"$f":"IF(calculations!C72<currentfa,calculations!G72,ycurrenta)","v":8.7460861822568372}]
[{"$f":"IF(calculations!C74<currentF,alpha*(3*COS(calculations!C74)-COS(3*calculations!C74)),alpha*(3*COS(currentF)-COS(3*currentF)))","v":-10.106523230467396},{"$f":"IF(calculations!C74<currentF,4*alpha*(SIN(calculations!C74))^3,4*alpha*(SIN(currentF)^3))","v":10.203261287734787},null,null,null,null,null,null,null,null,null,{"$f":"L69+1","v":67},{"$f":"IF(calculations!C73<currentfa,calculations!F73,xcurrenta)","v":-5.3191604684850633},{"$f":"IF(calculations!C73<currentfa,calculations!G73,ycurrenta)","v":8.6991092913549348}]
[{"$f":"IF(calculations!C75<currentF,alpha*(3*COS(calculations!C75)-COS(3*calculations!C75)),alpha*(3*COS(currentF)-COS(3*currentF)))","v":-10.398380345005881},{"$f":"IF(calculations!C75<currentF,4*alpha*(SIN(calculations!C75))^3,4*alpha*(SIN(currentF)^3))","v":9.6306021717669417},null,null,null,null,null,null,null,null,null,68,{"$f":"IF(calculations!C74<currentfa,calculations!F74,xcurrenta)","v":-4.8349596820444223},{"$f":"IF(calculations!C74<currentfa,calculations!G74,ycurrenta)","v":8.6385495761192743}]
[{"$f":"IF(calculations!C76<currentF,alpha*(3*COS(calculations!C76)-COS(3*calculations!C76)),alpha*(3*COS(currentF)-COS(3*currentF)))","v":-10.648667581980565},{"$f":"IF(calculations!C76<currentF,4*alpha*(SIN(calculations!C76))^3,4*alpha*(SIN(currentF)^3))","v":9.0523939257085537},null,null,null,null,null,null,null,null,null,69,{"$f":"IF(calculations!C75<currentfa,calculations!F75,xcurrenta)","v":-4.3188101451915237},{"$f":"IF(calculations!C75<currentfa,calculations!G75,ycurrenta)","v":8.5642775089481553}]
[{"$f":"IF(calculations!C77<currentF,alpha*(3*COS(calculations!C77)-COS(3*calculations!C77)),alpha*(3*COS(currentF)-COS(3*currentF)))","v":-10.857649092690297},{"$f":"IF(calculations!C77<currentF,4*alpha*(SIN(calculations!C77))^3,4*alpha*(SIN(currentF)^3))","v":8.4721359549995672},null,null,null,null,null,null,null,null,null,70,{"$f":"IF(calculations!C76<currentfa,calculations!F76,xcurrenta)","v":-3.7726631896506397},{"$f":"IF(calculations!C76<currentfa,calculations!G76,ycurrenta)","v":8.4761975659729938}]
[{"$f":"IF(calculations!C78<currentF,alpha*(3*COS(calculations!C78)-COS(3*calculations!C78)),alpha*(3*COS(currentF)-COS(3*currentF)))","v":-11.025903146571647},{"$f":"IF(calculations!C78<currentF,4*alpha*(SIN(calculations!C78))^3,4*alpha*(SIN(currentF)^3))","v":7.8932685859691496},null,null,null,null,null,null,null,null,null,71,{"$f":"IF(calculations!C77<currentfa,calculations!F77,xcurrenta)","v":-3.1986784830049255},{"$f":"IF(calculations!C77<currentfa,calculations!G77,ycurrenta)","v":8.3742489875898851}]
[{"$f":"IF(calculations!C79<currentF,alpha*(3*COS(calculations!C79)-COS(3*calculations!C79)),alpha*(3*COS(currentF)-COS(3*currentF)))","v":-11.154314597159733},{"$f":"IF(calculations!C79<currentF,4*alpha*(SIN(calculations!C79))^3,4*alpha*(SIN(currentF)^3))","v":7.3191442169026013},null,null,null,null,null,null,null,null,null,72,{"$f":"IF(calculations!C78<currentfa,calculations!F78,xcurrenta)","v":-2.5992142413808352},{"$f":"IF(calculations!C78<currentfa,calculations!G78,ycurrenta)","v":8.2584064212627819}]
[{"$f":"IF(calculations!C80<currentF,alpha*(3*COS(calculations!C80)-COS(3*calculations!C80)),alpha*(3*COS(currentF)-COS(3*currentF)))","v":-11.244064680982071},{"$f":"IF(calculations!C80<currentF,4*alpha*(SIN(calculations!C80))^3,4*alpha*(SIN(currentF)^3))","v":6.7529993241569883},null,null,null,null,null,null,null,null,null,73,{"$f":"IF(calculations!C79<currentfa,calculations!F79,xcurrenta)","v":-1.976815897276136},{"$f":"IF(calculations!C79<currentfa,calculations!G79,ycurrenta)","v":8.1286804436636899}]
[{"$f":"IF(calculations!C81<currentF,alpha*(3*COS(calculations!C81)-COS(3*calculations!C81)),alpha*(3*COS(currentF)-COS(3*currentF)))","v":-11.296618242247421},{"$f":"IF(calculations!C81<currentF,4*alpha*(SIN(calculations!C81))^3,4*alpha*(SIN(currentF)^3))","v":6.197927570062177},null,null,null,null,null,null,null,null,null,74,{"$f":"IF(calculations!C80<currentfa,calculations!F80,xcurrenta)","v":-1.3342032864162485},{"$f":"IF(calculations!C80<currentfa,calculations!G80,ycurrenta)","v":7.9851179596726309}]
[{"$f":"IF(calculations!C82<currentF,alpha*(3*COS(calculations!C82)-COS(3*calculations!C82)),alpha*(3*COS(currentF)-COS(3*currentF)))","v":-11.313708498984759},{"$f":"IF(calculations!C82<currentF,4*alpha*(SIN(calculations!C82))^3,4*alpha*(SIN(currentF)^3))","v":5.6568542494923815},null,null,null,null,null,null,null,null,null,75,{"$f":"IF(calculations!C81<currentfa,calculations!F81,xcurrenta)","v":-0.67425642992870627},{"$f":"IF(calculations!C81<currentfa,calculations!G81,ycurrenta)","v":7.8278024762278342}]
[{"$f":"IF(calculations!C83<currentF,alpha*(3*COS(calculations!C83)-COS(3*calculations!C83)),alpha*(3*COS(currentF)-COS(3*currentF)))","v":-11.297319488051697},{"$f":"IF(calculations!C83<currentF,4*alpha*(SIN(calculations!C83))^3,4*alpha*(SIN(currentF)^3))","v":5.1325123000411113},null,null,null,null,null,null,null,null,null,76,{"$f":"IF(calculations!C82<currentfa,calculations!F82,xcurrenta)","v":-1.9899646141460076E-15},{"$f":"IF(calculations!C82<currentfa,calculations!G82,ycurrenta)","v":7.6568542494923806}]
[{"$f":"IF(calculations!C84<currentF,alpha*(3*COS(calculations!C84)-COS(3*calculations!C84)),alpha*(3*COS(currentF)-COS(3*currentF)))","v":-11.249666346974038},{"$f":"IF(calculations!C84<currentF,4*alpha*(SIN(calculations!C84))^3,4*alpha*(SIN(currentF)^3))","v":4.6274200867855813},null,null,null,null,null,null,null,null,null,77,{"$f":"IF(calculations!C83<currentfa,calculations!F83,xcurrenta)","v":0.68541343157994461},{"$f":"IF(calculations!C83<currentfa,calculations!G83,ycurrenta)","v":7.4724303042860534}]
[{"$f":"IF(calculations!C85<currentF,alpha*(3*COS(calculations!C85)-COS(3*calculations!C85)),alpha*(3*COS(currentF)-COS(3*currentF)))","v":-11.173173609716333},{"$f":"IF(calculations!C85<currentF,4*alpha*(SIN(calculations!C85))^3,4*alpha*(SIN(currentF)^3))","v":4.1438611568088319},null,null,null,null,null,null,null,null,null,78,{"$f":"IF(calculations!C84<currentfa,calculations!F84,xcurrenta)","v":1.3787212520710816},{"$f":"IF(calculations!C84<currentfa,calculations!G84,ycurrenta)","v":7.2747243252181724}]
[{"$f":"IF(calculations!C86<currentF,alpha*(3*COS(calculations!C86)-COS(3*calculations!C86)),alpha*(3*COS(currentF)-COS(3*currentF)))","v":-11.07045171104741},{"$f":"IF(calculations!C86<currentF,4*alpha*(SIN(calculations!C86))^3,4*alpha*(SIN(currentF)^3))","v":3.6838661410998053},null,null,null,null,null,null,null,null,null,79,{"$f":"IF(calculations!C85<currentfa,calculations!F85,xcurrenta)","v":1.3787212520710816},{"$f":"IF(calculations!C85<currentfa,calculations!G85,ycurrenta)","v":7.2747243252181724}]
[{"$f":"IF(calculations!C87<currentF,alpha*(3*COS(calculations!C87)-COS(3*calculations!C87)),alpha*(3*COS(currentF)-COS(3*currentF)))","v":-10.944271909999163},{"$f":"IF(calculations!C87<currentF,4*alpha*(SIN(calculations!C87))^3,4*alpha*(SIN(currentF)^3))","v":3.2491969623290764},null,null,null,null,null,null,null,null,null,80,{"$f":"IF(calculations!C86<currentfa,calculations!F86,xcurrenta)","v":1.3787212520710816},{"$f":"IF(calculations!C86<currentfa,calculations!G86,ycurrenta)","v":7.2747243252181724}]
[{"$f":"IF(calculations!C88<currentF,alpha*(3*COS(calculations!C88)-COS(3*calculations!C88)),alpha*(3*COS(currentF)-COS(3*currentF)))","v":-10.797539856880917},{"$f":"IF(calculations!C88<currentF,4*alpha*(SIN(calculations!C88))^3,4*alpha*(SIN(currentF)^3))","v":2.8413334864705928},null,null,null,null,null,null,null,null,null,81,{"$f":"IF(calculations!C87<currentfa,calculations!F87,xcurrenta)","v":1.3787212520710816},{"$f":"IF(calculations!C87<currentfa,calculations!G87,ycurrenta)","v":7.2747243252181724}]
[{"$f":"IF(calculations!C89<currentF,alpha*(3*COS(calculations!C89)-COS(3*calculations!C89)),alpha*(3*COS(currentF)-COS(3*currentF)))","v":-10.633268040281406},{"$f":"IF(calculations!C89<currentF,4*alpha*(SIN(calculations!C89))^3,4*alpha*(SIN(currentF)^3))","v":2.4614627344900639},null,null,null,null,null,null,null,null,null,82,{"$f":"IF(calculations!C88<currentfa,calculations!F88,xcurrenta)","v":1.3787212520710816},{"$f":"IF(calculations!C88<currentfa,calculations!G88,ycurrenta)","v":7.2747243252181724}]
[{"$f":"IF(calculations!C90<currentF,alpha*(3*COS(calculations!C90)-COS(3*calculations!C90)),alpha*(3*COS(currentF)-COS(3*currentF)))","v":-10.454547360359847},{"$f":"IF(calculations!C90<currentF,4*alpha*(SIN(calculations!C90))^3,4*alpha*(SIN(currentF)^3))","v":2.1104707475415463},null,null,null,null,null,null,null,null,null,83,{"$f":"IF(calculations!C89<currentfa,calculations!F89,xcurrenta)","v":1.3787212520710816},{"$f":"IF(calculations!C89<currentfa,calculations!G89,ycurrenta)","v":7.2747243252181724}]
[{"$f":"IF(calculations!C91<currentF,alpha*(3*COS(calculations!C91)-COS(3*calculations!C91)),alpha*(3*COS(currentF)-COS(3*currentF)))","v":-10.264518082409122},{"$f":"IF(calculations!C91<currentF,4*alpha*(SIN(calculations!C91))^3,4*alpha*(SIN(currentF)^3))","v":1.7889371755075136},null,null,null,null,null,null,null,null,null,84,{"$f":"IF(calculations!C90<currentfa,calculations!F90,xcurrenta)","v":1.3787212520710816},{"$f":"IF(calculations!C90<currentfa,calculations!G90,ycurrenta)","v":7.2747243252181724}]
[{"$f":"IF(calculations!C92<currentF,alpha*(3*COS(calculations!C92)-COS(3*calculations!C92)),alpha*(3*COS(currentF)-COS(3*currentF)))","v":-10.066340430099499},{"$f":"IF(calculations!C92<currentF,4*alpha*(SIN(calculations!C92))^3,4*alpha*(SIN(currentF)^3))","v":1.4971326344940272},null,null,null,null,null,null,null,null,null,85,{"$f":"IF(calculations!C91<currentfa,calculations!F91,xcurrenta)","v":1.3787212520710816},{"$f":"IF(calculations!C91<currentfa,calculations!G91,ycurrenta)","v":7.2747243252181724}]
[{"$f":"IF(calculations!C93<currentF,alpha*(3*COS(calculations!C93)-COS(3*calculations!C93)),alpha*(3*COS(currentF)-COS(3*currentF)))","v":-9.8631650809328324},{"$f":"IF(calculations!C93<currentF,4*alpha*(SIN(calculations!C93))^3,4*alpha*(SIN(currentF)^3))","v":1.2350188542663634},null,null,null,null,null,null,null,null,null,86,{"$f":"IF(calculations!C92<currentfa,calculations!F92,xcurrenta)","v":1.3787212520710816},{"$f":"IF(calculations!C92<currentfa,calculations!G92,ycurrenta)","v":7.2747243252181724}]
[{"$f":"IF(calculations!C94<currentF,alpha*(3*COS(calculations!C94)-COS(3*calculations!C94)),alpha*(3*COS(currentF)-COS(3*currentF)))","v":-9.6581038272266202},{"$f":"IF(calculations!C94<currentF,4*alpha*(SIN(calculations!C94))^3,4*alpha*(SIN(currentF)^3))","v":1.0022516118004812},null,null,null,null,null,null,null,null,null,87,{"$f":"IF(calculations!C93<currentfa,calculations!F93,xcurrenta)","v":1.3787212520710816},{"$f":"IF(calculations!C93<currentfa,calculations!G93,ycurrenta)","v":7.2747243252181724}]
[{"$f":"IF(calculations!C95<currentF,alpha*(3*COS(calculations!C95)-COS(3*calculations!C95)),alpha*(3*COS(currentF)-COS(3*currentF)))","v":-9.4542006643987442},{"$f":"IF(calculations!C95<currentF,4*alpha*(SIN(calculations!C95))^3,4*alpha*(SIN(currentF)^3))","v":0.79818642235207193},null,null,null,null,null,null,null,null,null,88,{"$f":"IF(calculations!C94<currentfa,calculations!F94,xcurrenta)","v":1.3787212520710816},{"$f":"IF(calculations!C94<currentfa,calculations!G94,ycurrenta)","v":7.2747243252181724}]
[{"$f":"IF(calculations!C96<currentF,alpha*(3*COS(calculations!C96)-COS(3*calculations!C96)),alpha*(3*COS(currentF)-COS(3*currentF)))","v":-9.254403564449234},{"$f":"IF(calculations!C96<currentF,4*alpha*(SIN(calculations!C96))^3,4*alpha*(SIN(currentF)^3))","v":0.62188693492773539},null,null,null,null,null,null,null,null,null,89,{"$f":"IF(calculations!C95<currentfa,calculations!F95,xcurrenta)","v":1.3787212520710816},{"$f":"IF(calculations!C95<currentfa,calculations!G95,ycurrenta)","v":7.2747243252181724}]
[{"$f":"IF(calculations!C97<currentF,alpha*(3*COS(calculations!C97)-COS(3*calculations!C97)),alpha*(3*COS(currentF)-COS(3*currentF)))","v":-9.0615371863719698},{"$f":"IF(calculations!C97<currentF,4*alpha*(SIN(calculations!C97))^3,4*alpha*(SIN(currentF)^3))","v":0.47213595499959143},null,null,null,null,null,null,null,null,null,90,{"$f":"IF(calculations!C96<currentfa,calculations!F96,xcurrenta)","v":1.3787212520710816},{"$f":"IF(calculations!C96<currentfa,calculations!G96,ycurrenta)","v":7.2747243252181724}]
[{"$f":"IF(calculations!C98<currentF,alpha*(3*COS(calculations!C98)-COS(3*calculations!C98)),alpha*(3*COS(currentF)-COS(3*currentF)))","v":-8.8782767668287228},{"$f":"IF(calculations!C98<currentF,4*alpha*(SIN(calculations!C98))^3,4*alpha*(SIN(currentF)^3))","v":0.34744899394892353},null,null,null,null,null,null,null,null,null,91,{"$f":"IF(calculations!C97<currentfa,calculations!F97,xcurrenta)","v":1.3787212520710816},{"$f":"IF(calculations!C97<currentfa,calculations!G97,ycurrenta)","v":7.2747243252181724}]
[{"$f":"IF(calculations!C99<currentF,alpha*(3*COS(calculations!C99)-COS(3*calculations!C99)),alpha*(3*COS(currentF)-COS(3*currentF)))","v":-8.7071234238579471},{"$f":"IF(calculations!C99<currentF,4*alpha*(SIN(calculations!C99))^3,4*alpha*(SIN(currentF)^3))","v":0.24609022226351177},null,null,null,null,null,null,null,null,null,92,{"$f":"IF(calculations!C98<currentfa,calculations!F98,xcurrenta)","v":1.3787212520710816},{"$f":"IF(calculations!C98<currentfa,calculations!G98,ycurrenta)","v":7.2747243252181724}]
[{"$f":"IF(calculations!C100<currentF,alpha*(3*COS(calculations!C100)-COS(3*calculations!C100)),alpha*(3*COS(currentF)-COS(3*currentF)))","v":-8.5503810937622209},{"$f":"IF(calculations!C100<currentF,4*alpha*(SIN(calculations!C100))^3,4*alpha*(SIN(currentF)^3))","v":0.16609068214661205},null,null,null,null,null,null,null,null,null,93,{"$f":"IF(calculations!C99<currentfa,calculations!F99,xcurrenta)","v":1.3787212520710816},{"$f":"IF(calculations!C99<currentfa,calculations!G99,ycurrenta)","v":7.2747243252181724}]
[{"$f":"IF(calculations!C101<currentF,alpha*(3*COS(calculations!C101)-COS(3*calculations!C101)),alpha*(3*COS(currentF)-COS(3*currentF)))","v":-8.4101353067362208},{"$f":"IF(calculations!C101<currentF,4*alpha*(SIN(calculations!C101))^3,4*alpha*(SIN(currentF)^3))","v":0.1052685951127149},null,null,null,null,null,null,null,null,null,94,{"$f":"IF(calculations!C100<currentfa,calculations!F100,xcurrenta)","v":1.3787212520710816},{"$f":"IF(calculations!C100<currentfa,calculations!G100,ycurrenta)","v":7.2747243252181724}]
[{"$f":"IF(calculations!C102<currentF,alpha*(3*COS(calculations!C102)-COS(3*calculations!C102)),alpha*(3*COS(currentF)-COS(3*currentF)))","v":-8.288233990388191},{"$f":"IF(calculations!C102<currentF,4*alpha*(SIN(calculations!C102))^3,4*alpha*(SIN(currentF)^3))","v":6.1251581524587533E-2},null,null,null,null,null,null,null,null,null,95,{"$f":"IF(calculations!C101<currentfa,calculations!F101,xcurrenta)","v":1.3787212520710816},{"$f":"IF(calculations!C101<currentfa,calculations!G101,ycurrenta)","v":7.2747243252181724}]
[{"$f":"IF(calculations!C103<currentF,alpha*(3*COS(calculations!C103)-COS(3*calculations!C103)),alpha*(3*COS(currentF)-COS(3*currentF)))","v":-8.1862704722207393},{"$f":"IF(calculations!C103<currentF,4*alpha*(SIN(calculations!C103))^3,4*alpha*(SIN(currentF)^3))","v":3.1500592032941983E-2},null,null,null,null,null,null,null,null,null,96,{"$f":"IF(calculations!C102<currentfa,calculations!F102,xcurrenta)","v":1.3787212520710816},{"$f":"IF(calculations!C102<currentfa,calculations!G102,ycurrenta)","v":7.2747243252181724}]
[{"$f":"IF(calculations!C104<currentF,alpha*(3*COS(calculations!C104)-COS(3*calculations!C104)),alpha*(3*COS(currentF)-COS(3*currentF)))","v":-8.1055688325291975},{"$f":"IF(calculations!C104<currentF,4*alpha*(SIN(calculations!C104))^3,4*alpha*(SIN(currentF)^3))","v":1.3335335665256517E-2},null,null,null,null,null,null,null,null,null,97,{"$f":"IF(calculations!C103<currentfa,calculations!F103,xcurrenta)","v":1.3787212520710816},{"$f":"IF(calculations!C103<currentfa,calculations!G103,ycurrenta)","v":7.2747243252181724}]
[{"$f":"IF(calculations!C105<currentF,alpha*(3*COS(calculations!C105)-COS(3*calculations!C105)),alpha*(3*COS(currentF)-COS(3*currentF)))","v":-8.0471717382245114},{"$f":"IF(calculations!C105<currentF,4*alpha*(SIN(calculations!C105))^3,4*alpha*(SIN(currentF)^3))","v":3.9609760088627861E-3},null,null,null,null,null,null,null,null,null,98,{"$f":"IF(calculations!C104<currentfa,calculations!F104,xcurrenta)","v":1.3787212520710816},{"$f":"IF(calculations!C104<currentfa,calculations!G104,ycurrenta)","v":7.2747243252181724}]
[{"$f":"IF(calculations!C106<currentF,alpha*(3*COS(calculations!C106)-COS(3*calculations!C106)),alpha*(3*COS(currentF)-COS(3*currentF)))","v":-8.0118308659764601},{"$f":"IF(calculations!C106<currentF,4*alpha*(SIN(calculations!C106))^3,4*alpha*(SIN(currentF)^3))","v":4.9585566348245974E-4},null,null,null,null,null,null,null,null,null,99,{"$f":"IF(calculations!C105<currentfa,calculations!F105,xcurrenta)","v":1.3787212520710816},{"$f":"IF(calculations!C105<currentfa,calculations!G105,ycurrenta)","v":7.2747243252181724}]
[{"$f":"IF(calculations!C107<currentF,alpha*(3*COS(calculations!C107)-COS(3*calculations!C107)),alpha*(3*COS(currentF)-COS(3*currentF)))","v":-8},{"$f":"IF(calculations!C107<currentF,4*alpha*(SIN(calculations!C107))^3,4*alpha*(SIN(currentF)^3))","v":1.5205040434993126E-42},null,null,null,null,null,null,null,null,null,100,{"$f":"IF(calculations!C106<currentfa,calculations!F106,xcurrenta)","v":1.3787212520710816},{"$f":"IF(calculations!C106<currentfa,calculations!G106,ycurrenta)","v":7.2747243252181724}]
[{"$f":"IF(calculations!C108<currentF,alpha*(3*COS(calculations!C108)-COS(3*calculations!C108)),alpha*(3*COS(currentF)-COS(3*currentF)))","v":-8.0118308659764548},{"$f":"IF(calculations!C108<currentF,4*alpha*(SIN(calculations!C108))^3,4*alpha*(SIN(currentF)^3))","v":-4.9585566348202769E-4},null,null,null,null,null,null,null,null,null,101,{"$f":"IF(calculations!C107<currentfa,calculations!F107,xcurrenta)","v":1.3787212520710816},{"$f":"IF(calculations!C107<currentfa,calculations!G107,ycurrenta)","v":7.2747243252181724}]
[{"$f":"IF(calculations!C109<currentF,alpha*(3*COS(calculations!C109)-COS(3*calculations!C109)),alpha*(3*COS(currentF)-COS(3*currentF)))","v":-8.0471717382244972},{"$f":"IF(calculations!C109<currentF,4*alpha*(SIN(calculations!C109))^3,4*alpha*(SIN(currentF)^3))","v":-3.9609760088610601E-3},null,null,null,null,null,null,null,null,null,102,{"$f":"IF(calculations!C108<currentfa,calculations!F108,xcurrenta)","v":1.3787212520710816},{"$f":"IF(calculations!C108<currentfa,calculations!G108,ycurrenta)","v":7.2747243252181724}]
[{"$f":"IF(calculations!C110<currentF,alpha*(3*COS(calculations!C110)-COS(3*calculations!C110)),alpha*(3*COS(currentF)-COS(3*currentF)))","v":-8.1055688325291761},{"$f":"IF(calculations!C110<currentF,4*alpha*(SIN(calculations!C110))^3,4*alpha*(SIN(currentF)^3))","v":-1.3335335665252657E-2},null,null,null,null,null,null,null,null,null,103,{"$f":"IF(calculations!C109<currentfa,calculations!F109,xcurrenta)","v":1.3787212520710816},{"$f":"IF(calculations!C109<currentfa,calculations!G109,ycurrenta)","v":7.2747243252181724}]
[{"$f":"IF(calculations!C111<currentF,alpha*(3*COS(calculations!C111)-COS(3*calculations!C111)),alpha*(3*COS(currentF)-COS(3*currentF)))","v":-8.1862704722207127},{"$f":"IF(calculations!C111<currentF,4*alpha*(SIN(calculations!C111))^3,4*alpha*(SIN(currentF)^3))","v":-3.1500592032935162E-2},null,null,null,null,null,null,null,null,null,104,{"$f":"IF(calculations!C110<currentfa,calculations!F110,xcurrenta)","v":1.3787212520710816},{"$f":"IF(calculations!C110<currentfa,calculations!G110,ycurrenta)","v":7.2747243252181724}]
[{"$f":"IF(calculations!C112<currentF,alpha*(3*COS(calculations!C112)-COS(3*calculations!C112)),alpha*(3*COS(currentF)-COS(3*currentF)))","v":-8.2882339903881626},{"$f":"IF(calculations!C112<currentF,4*alpha*(SIN(calculations!C112))^3,4*alpha*(SIN(currentF)^3))","v":-6.1251581524576944E-2},null,null,null,null,null,null,null,null,null,105,{"$f":"IF(calculations!C111<currentfa,calculations!F111,xcurrenta)","v":1.3787212520710816},{"$f":"IF(calculations!C111<currentfa,calculations!G111,ycurrenta)","v":7.2747243252181724}]
[{"$f":"IF(calculations!C113<currentF,alpha*(3*COS(calculations!C113)-COS(3*calculations!C113)),alpha*(3*COS(currentF)-COS(3*currentF)))","v":-8.4101353067361782},{"$f":"IF(calculations!C113<currentF,4*alpha*(SIN(calculations!C113))^3,4*alpha*(SIN(currentF)^3))","v":-0.10526859511269979},null,null,null,null,null,null,null,null,null,106,{"$f":"IF(calculations!C112<currentfa,calculations!F112,xcurrenta)","v":1.3787212520710816},{"$f":"IF(calculations!C112<currentfa,calculations!G112,ycurrenta)","v":7.2747243252181724}]
[{"$f":"IF(calculations!C114<currentF,alpha*(3*COS(calculations!C114)-COS(3*calculations!C114)),alpha*(3*COS(currentF)-COS(3*currentF)))","v":-8.5503810937621818},{"$f":"IF(calculations!C114<currentF,4*alpha*(SIN(calculations!C114))^3,4*alpha*(SIN(currentF)^3))","v":-0.1660906821465917},null,null,null,null,null,null,null,null,null,107,{"$f":"IF(calculations!C113<currentfa,calculations!F113,xcurrenta)","v":1.3787212520710816},{"$f":"IF(calculations!C113<currentfa,calculations!G113,ycurrenta)","v":7.2747243252181724}]
[{"$f":"IF(calculations!C115<currentF,alpha*(3*COS(calculations!C115)-COS(3*calculations!C115)),alpha*(3*COS(currentF)-COS(3*currentF)))","v":-8.7071234238578938},{"$f":"IF(calculations!C115<currentF,4*alpha*(SIN(calculations!C115))^3,4*alpha*(SIN(currentF)^3))","v":-0.24609022226348556},null,null,null,null,null,null,null,null,null,108,{"$f":"IF(calculations!C114<currentfa,calculations!F114,xcurrenta)","v":1.3787212520710816},{"$f":"IF(calculations!C114<currentfa,calculations!G114,ycurrenta)","v":7.2747243252181724}]
[{"$f":"IF(calculations!C116<currentF,alpha*(3*COS(calculations!C116)-COS(3*calculations!C116)),alpha*(3*COS(currentF)-COS(3*currentF)))","v":-8.8782767668286784},{"$f":"IF(calculations!C116<currentF,4*alpha*(SIN(calculations!C116))^3,4*alpha*(SIN(currentF)^3))","v":-0.34744899394889073},null,null,null,null,null,null,null,null,null,109,{"$f":"IF(calculations!C115<currentfa,calculations!F115,xcurrenta)","v":1.3787212520710816},{"$f":"IF(calculations!C115<currentfa,calculations!G115,ycurrenta)","v":7.2747243252181724}]
[{"$f":"IF(calculations!C117<currentF,alpha*(3*COS(calculations!C117)-COS(3*calculations!C117)),alpha*(3*COS(currentF)-COS(3*currentF)))","v":-9.0615371863719094},{"$f":"IF(calculations!C117<currentF,4*alpha*(SIN(calculations!C117))^3,4*alpha*(SIN(currentF)^3))","v":-0.4721359549995518},null,null,null,null,null,null,null,null,null,110,{"$f":"IF(calculations!C116<currentfa,calculations!F116,xcurrenta)","v":1.3787212520710816},{"$f":"IF(calculations!C116<currentfa,calculations!G116,ycurrenta)","v":7.2747243252181724}]
[{"$f":"IF(calculations!C118<currentF,alpha*(3*COS(calculations!C118)-COS(3*calculations!C118)),alpha*(3*COS(currentF)-COS(3*currentF)))","v":-9.2544035644491824},{"$f":"IF(calculations!C118<currentF,4*alpha*(SIN(calculations!C118))^3,4*alpha*(SIN(currentF)^3))","v":-0.62188693492768832},null,null,null,null,null,null,null,null,null,111,{"$f":"IF(calculations!C117<currentfa,calculations!F117,xcurrenta)","v":1.3787212520710816},{"$f":"IF(calculations!C117<currentfa,calculations!G117,ycurrenta)","v":7.2747243252181724}]
[{"$f":"IF(calculations!C119<currentF,alpha*(3*COS(calculations!C119)-COS(3*calculations!C119)),alpha*(3*COS(currentF)-COS(3*currentF)))","v":-9.4542006643986802},{"$f":"IF(calculations!C119<currentF,4*alpha*(SIN(calculations!C119))^3,4*alpha*(SIN(currentF)^3))","v":-0.79818642235201676},null,null,null,null,null,null,null,null,null,112,{"$f":"IF(calculations!C118<currentfa,calculations!F118,xcurrenta)","v":1.3787212520710816},{"$f":"IF(calculations!C118<currentfa,calculations!G118,ycurrenta)","v":7.2747243252181724}]
[{"$f":"IF(calculations!C120<currentF,alpha*(3*COS(calculations!C120)-COS(3*calculations!C120)),alpha*(3*COS(currentF)-COS(3*currentF)))","v":-9.6581038272265669},{"$f":"IF(calculations!C120<currentF,4*alpha*(SIN(calculations!C120))^3,4*alpha*(SIN(currentF)^3))","v":-1.0022516118004177},null,null,null,null,null,null,null,null,null,113,{"$f":"IF(calculations!C119<currentfa,calculations!F119,xcurrenta)","v":1.3787212520710816},{"$f":"IF(calculations!C119<currentfa,calculations!G119,ycurrenta)","v":7.2747243252181724}]
[{"$f":"IF(calculations!C121<currentF,alpha*(3*COS(calculations!C121)-COS(3*calculations!C121)),alpha*(3*COS(currentF)-COS(3*currentF)))","v":-9.8631650809327649},{"$f":"IF(calculations!C121<currentF,4*alpha*(SIN(calculations!C121))^3,4*alpha*(SIN(currentF)^3))","v":-1.2350188542662919},null,null,null,null,null,null,null,null,null,114,{"$f":"IF(calculations!C120<currentfa,calculations!F120,xcurrenta)","v":1.3787212520710816},{"$f":"IF(calculations!C120<currentfa,calculations!G120,ycurrenta)","v":7.2747243252181724}]
[{"$f":"IF(calculations!C122<currentF,alpha*(3*COS(calculations!C122)-COS(3*calculations!C122)),alpha*(3*COS(currentF)-COS(3*currentF)))","v":-10.066340430099448},{"$f":"IF(calculations!C122<currentF,4*alpha*(SIN(calculations!C122))^3,4*alpha*(SIN(currentF)^3))","v":-1.4971326344939464},null,null,null,null,null,null,null,null,null,115,{"$f":"IF(calculations!C121<currentfa,calculations!F121,xcurrenta)","v":1.3787212520710816},{"$f":"IF(calculations!C121<currentfa,calculations!G121,ycurrenta)","v":7.2747243252181724}]
[{"$f":"IF(calculations!C123<currentF,alpha*(3*COS(calculations!C123)-COS(3*calculations!C123)),alpha*(3*COS(currentF)-COS(3*currentF)))","v":-10.26451808240906},{"$f":"IF(calculations!C123<currentF,4*alpha*(SIN(calculations!C123))^3,4*alpha*(SIN(currentF)^3))","v":-1.7889371755074246},null,null,null,null,null,null,null,null,null,116,{"$f":"IF(calculations!C122<currentfa,calculations!F122,xcurrenta)","v":1.3787212520710816},{"$f":"IF(calculations!C122<currentfa,calculations!G122,ycurrenta)","v":7.2747243252181724}]
[{"$f":"IF(calculations!C124<currentF,alpha*(3*COS(calculations!C124)-COS(3*calculations!C124)),alpha*(3*COS(currentF)-COS(3*currentF)))","v":-10.454547360359795},{"$f":"IF(calculations!C124<currentF,4*alpha*(SIN(calculations!C124))^3,4*alpha*(SIN(currentF)^3))","v":-2.1104707475414481},null,null,null,null,null,null,null,null,null,117,{"$f":"IF(calculations!C123<currentfa,calculations!F123,xcurrenta)","v":1.3787212520710816},{"$f":"IF(calculations!C123<currentfa,calculations!G123,ycurrenta)","v":7.2747243252181724}]
[{"$f":"IF(calculations!C125<currentF,alpha*(3*COS(calculations!C125)-COS(3*calculations!C125)),alpha*(3*COS(currentF)-COS(3*currentF)))","v":-10.633268040281353},{"$f":"IF(calculations!C125<currentF,4*alpha*(SIN(calculations!C125))^3,4*alpha*(SIN(currentF)^3))","v":-2.4614627344899569},null,null,null,null,null,null,null,null,null,118,{"$f":"IF(calculations!C124<currentfa,calculations!F124,xcurrenta)","v":1.3787212520710816},{"$f":"IF(calculations!C124<currentfa,calculations!G124,ycurrenta)","v":7.2747243252181724}]
[{"$f":"IF(calculations!C126<currentF,alpha*(3*COS(calculations!C126)-COS(3*calculations!C126)),alpha*(3*COS(currentF)-COS(3*currentF)))","v":-10.797539856880876},{"$f":"IF(calculations!C126<currentF,4*alpha*(SIN(calculations!C126))^3,4*alpha*(SIN(currentF)^3))","v":-2.8413334864704782},null,null,null,null,null,null,null,null,null,119,{"$f":"IF(calculations!C125<currentfa,calculations!F125,xcurrenta)","v":1.3787212520710816},{"$f":"IF(calculations!C125<currentfa,calculations!G125,ycurrenta)","v":7.2747243252181724}]
[{"$f":"IF(calculations!C127<currentF,alpha*(3*COS(calculations!C127)-COS(3*calculations!C127)),alpha*(3*COS(currentF)-COS(3*currentF)))","v":-10.94427190999912},{"$f":"IF(calculations!C127<currentF,4*alpha*(SIN(calculations!C127))^3,4*alpha*(SIN(currentF)^3))","v":-3.2491969623289547},null,null,null,null,null,null,null,null,null,120,{"$f":"IF(calculations!C126<currentfa,calculations!F126,xcurrenta)","v":1.3787212520710816},{"$f":"IF(calculations!C126<currentfa,calculations!G126,ycurrenta)","v":7.2747243252181724}]
[{"$f":"IF(calculations!C128<currentF,alpha*(3*COS(calculations!C128)-COS(3*calculations!C128)),alpha*(3*COS(currentF)-COS(3*currentF)))","v":-11.070451711047379},{"$f":"IF(calculations!C128<currentF,4*alpha*(SIN(calculations!C128))^3,4*alpha*(SIN(currentF)^3))","v":-3.6838661410996751},null,null,null,null,null,null,null,null,null,121,{"$f":"IF(calculations!C127<currentfa,calculations!F127,xcurrenta)","v":1.3787212520710816},{"$f":"IF(calculations!C127<currentfa,calculations!G127,ycurrenta)","v":7.2747243252181724}]
[{"$f":"IF(calculations!C129<currentF,alpha*(3*COS(calculations!C129)-COS(3*calculations!C129)),alpha*(3*COS(currentF)-COS(3*currentF)))","v":-11.173173609716304},{"$f":"IF(calculations!C129<currentF,4*alpha*(SIN(calculations!C129))^3,4*alpha*(SIN(currentF)^3))","v":-4.1438611568086952},null,null,null,null,null,null,null,null,null,122,{"$f":"IF(calculations!C128<currentfa,calculations!F128,xcurrenta)","v":1.3787212520710816},{"$f":"IF(calculations!C128<currentfa,calculations!G128,ycurrenta)","v":7.2747243252181724}]
[{"$f":"IF(calculations!C130<currentF,alpha*(3*COS(calculations!C130)-COS(3*calculations!C130)),alpha*(3*COS(currentF)-COS(3*currentF)))","v":-11.242656700433574},{"$f":"IF(calculations!C130<currentF,4*alpha*(SIN(calculations!C130))^3,4*alpha*(SIN(currentF)^3))","v":-4.5734252778338425},null,null,null,null,null,null,null,null,null,123,{"$f":"IF(calculations!C129<currentfa,calculations!F129,xcurrenta)","v":1.3787212520710816},{"$f":"IF(calculations!C129<currentfa,calculations!G129,ycurrenta)","v":7.2747243252181724}]
[{"$f":"IF(calculations!C131<currentF,alpha*(3*COS(calculations!C131)-COS(3*calculations!C131)),alpha*(3*COS(currentF)-COS(3*currentF)))","v":-11.242656700433574},{"$f":"IF(calculations!C131<currentF,4*alpha*(SIN(calculations!C131))^3,4*alpha*(SIN(currentF)^3))","v":-4.5734252778338425},null,null,null,null,null,null,null,null,null,124,{"$f":"IF(calculations!C130<currentfa,calculations!F130,xcurrenta)","v":1.3787212520710816},{"$f":"IF(calculations!C130<currentfa,calculations!G130,ycurrenta)","v":7.2747243252181724}]
[{"$f":"IF(calculations!C132<currentF,alpha*(3*COS(calculations!C132)-COS(3*calculations!C132)),alpha*(3*COS(currentF)-COS(3*currentF)))","v":-11.242656700433574},{"$f":"IF(calculations!C132<currentF,4*alpha*(SIN(calculations!C132))^3,4*alpha*(SIN(currentF)^3))","v":-4.5734252778338425},null,null,null,null,null,null,null,null,null,125,{"$f":"IF(calculations!C131<currentfa,calculations!F131,xcurrenta)","v":1.3787212520710816},{"$f":"IF(calculations!C131<currentfa,calculations!G131,ycurrenta)","v":7.2747243252181724}]
[{"$f":"IF(calculations!C133<currentF,alpha*(3*COS(calculations!C133)-COS(3*calculations!C133)),alpha*(3*COS(currentF)-COS(3*currentF)))","v":-11.242656700433574},{"$f":"IF(calculations!C133<currentF,4*alpha*(SIN(calculations!C133))^3,4*alpha*(SIN(currentF)^3))","v":-4.5734252778338425},null,null,null,null,null,null,null,null,null,126,{"$f":"IF(calculations!C132<currentfa,calculations!F132,xcurrenta)","v":1.3787212520710816},{"$f":"IF(calculations!C132<currentfa,calculations!G132,ycurrenta)","v":7.2747243252181724}]
[{"$f":"IF(calculations!C134<currentF,alpha*(3*COS(calculations!C134)-COS(3*calculations!C134)),alpha*(3*COS(currentF)-COS(3*currentF)))","v":-11.242656700433574},{"$f":"IF(calculations!C134<currentF,4*alpha*(SIN(calculations!C134))^3,4*alpha*(SIN(currentF)^3))","v":-4.5734252778338425},null,null,null,null,null,null,null,null,null,127,{"$f":"IF(calculations!C133<currentfa,calculations!F133,xcurrenta)","v":1.3787212520710816},{"$f":"IF(calculations!C133<currentfa,calculations!G133,ycurrenta)","v":7.2747243252181724}]
[{"$f":"IF(calculations!C135<currentF,alpha*(3*COS(calculations!C135)-COS(3*calculations!C135)),alpha*(3*COS(currentF)-COS(3*currentF)))","v":-11.242656700433574},{"$f":"IF(calculations!C135<currentF,4*alpha*(SIN(calculations!C135))^3,4*alpha*(SIN(currentF)^3))","v":-4.5734252778338425},null,null,null,null,null,null,null,null,null,128,{"$f":"IF(calculations!C134<currentfa,calculations!F134,xcurrenta)","v":1.3787212520710816},{"$f":"IF(calculations!C134<currentfa,calculations!G134,ycurrenta)","v":7.2747243252181724}]
[{"$f":"IF(calculations!C136<currentF,alpha*(3*COS(calculations!C136)-COS(3*calculations!C136)),alpha*(3*COS(currentF)-COS(3*currentF)))","v":-11.242656700433574},{"$f":"IF(calculations!C136<currentF,4*alpha*(SIN(calculations!C136))^3,4*alpha*(SIN(currentF)^3))","v":-4.5734252778338425},null,null,null,null,null,null,null,null,null,129,{"$f":"IF(calculations!C135<currentfa,calculations!F135,xcurrenta)","v":1.3787212520710816},{"$f":"IF(calculations!C135<currentfa,calculations!G135,ycurrenta)","v":7.2747243252181724}]
[{"$f":"IF(calculations!C137<currentF,alpha*(3*COS(calculations!C137)-COS(3*calculations!C137)),alpha*(3*COS(currentF)-COS(3*currentF)))","v":-11.242656700433574},{"$f":"IF(calculations!C137<currentF,4*alpha*(SIN(calculations!C137))^3,4*alpha*(SIN(currentF)^3))","v":-4.5734252778338425},null,null,null,null,null,null,null,null,null,130,{"$f":"IF(calculations!C136<currentfa,calculations!F136,xcurrenta)","v":1.3787212520710816},{"$f":"IF(calculations!C136<currentfa,calculations!G136,ycurrenta)","v":7.2747243252181724}]
[{"$f":"IF(calculations!C138<currentF,alpha*(3*COS(calculations!C138)-COS(3*calculations!C138)),alpha*(3*COS(currentF)-COS(3*currentF)))","v":-11.242656700433574},{"$f":"IF(calculations!C138<currentF,4*alpha*(SIN(calculations!C138))^3,4*alpha*(SIN(currentF)^3))","v":-4.5734252778338425},null,null,null,null,null,null,null,null,null,{"$f":"L133+1","v":131},{"$f":"IF(calculations!C137<currentfa,calculations!F137,xcurrenta)","v":1.3787212520710816},{"$f":"IF(calculations!C137<currentfa,calculations!G137,ycurrenta)","v":7.2747243252181724}]
[{"$f":"IF(calculations!C139<currentF,alpha*(3*COS(calculations!C139)-COS(3*calculations!C139)),alpha*(3*COS(currentF)-COS(3*currentF)))","v":-11.242656700433574},{"$f":"IF(calculations!C139<currentF,4*alpha*(SIN(calculations!C139))^3,4*alpha*(SIN(currentF)^3))","v":-4.5734252778338425},null,null,null,null,null,null,null,null,null,132,{"$f":"IF(calculations!C138<currentfa,calculations!F138,xcurrenta)","v":1.3787212520710816},{"$f":"IF(calculations!C138<currentfa,calculations!G138,ycurrenta)","v":7.2747243252181724}]
[{"$f":"IF(calculations!C140<currentF,alpha*(3*COS(calculations!C140)-COS(3*calculations!C140)),alpha*(3*COS(currentF)-COS(3*currentF)))","v":-11.242656700433574},{"$f":"IF(calculations!C140<currentF,4*alpha*(SIN(calculations!C140))^3,4*alpha*(SIN(currentF)^3))","v":-4.5734252778338425},null,null,null,null,null,null,null,null,null,133,{"$f":"IF(calculations!C139<currentfa,calculations!F139,xcurrenta)","v":1.3787212520710816},{"$f":"IF(calculations!C139<currentfa,calculations!G139,ycurrenta)","v":7.2747243252181724}]
[{"$f":"IF(calculations!C141<currentF,alpha*(3*COS(calculations!C141)-COS(3*calculations!C141)),alpha*(3*COS(currentF)-COS(3*currentF)))","v":-11.242656700433574},{"$f":"IF(calculations!C141<currentF,4*alpha*(SIN(calculations!C141))^3,4*alpha*(SIN(currentF)^3))","v":-4.5734252778338425},null,null,null,null,null,null,null,null,null,134,{"$f":"IF(calculations!C140<currentfa,calculations!F140,xcurrenta)","v":1.3787212520710816},{"$f":"IF(calculations!C140<currentfa,calculations!G140,ycurrenta)","v":7.2747243252181724}]
[{"$f":"IF(calculations!C142<currentF,alpha*(3*COS(calculations!C142)-COS(3*calculations!C142)),alpha*(3*COS(currentF)-COS(3*currentF)))","v":-11.242656700433574},{"$f":"IF(calculations!C142<currentF,4*alpha*(SIN(calculations!C142))^3,4*alpha*(SIN(currentF)^3))","v":-4.5734252778338425},null,null,null,null,null,null,null,null,null,135,{"$f":"IF(calculations!C141<currentfa,calculations!F141,xcurrenta)","v":1.3787212520710816},{"$f":"IF(calculations!C141<currentfa,calculations!G141,ycurrenta)","v":7.2747243252181724}]
[{"$f":"IF(calculations!C143<currentF,alpha*(3*COS(calculations!C143)-COS(3*calculations!C143)),alpha*(3*COS(currentF)-COS(3*currentF)))","v":-11.242656700433574},{"$f":"IF(calculations!C143<currentF,4*alpha*(SIN(calculations!C143))^3,4*alpha*(SIN(currentF)^3))","v":-4.5734252778338425},null,null,null,null,null,null,null,null,null,136,{"$f":"IF(calculations!C142<currentfa,calculations!F142,xcurrenta)","v":1.3787212520710816},{"$f":"IF(calculations!C142<currentfa,calculations!G142,ycurrenta)","v":7.2747243252181724}]
[{"$f":"IF(calculations!C144<currentF,alpha*(3*COS(calculations!C144)-COS(3*calculations!C144)),alpha*(3*COS(currentF)-COS(3*currentF)))","v":-11.242656700433574},{"$f":"IF(calculations!C144<currentF,4*alpha*(SIN(calculations!C144))^3,4*alpha*(SIN(currentF)^3))","v":-4.5734252778338425},null,null,null,null,null,null,null,null,null,137,{"$f":"IF(calculations!C143<currentfa,calculations!F143,xcurrenta)","v":1.3787212520710816},{"$f":"IF(calculations!C143<currentfa,calculations!G143,ycurrenta)","v":7.2747243252181724}]
[{"$f":"IF(calculations!C145<currentF,alpha*(3*COS(calculations!C145)-COS(3*calculations!C145)),alpha*(3*COS(currentF)-COS(3*currentF)))","v":-11.242656700433574},{"$f":"IF(calculations!C145<currentF,4*alpha*(SIN(calculations!C145))^3,4*alpha*(SIN(currentF)^3))","v":-4.5734252778338425},null,null,null,null,null,null,null,null,null,138,{"$f":"IF(calculations!C144<currentfa,calculations!F144,xcurrenta)","v":1.3787212520710816},{"$f":"IF(calculations!C144<currentfa,calculations!G144,ycurrenta)","v":7.2747243252181724}]
[{"$f":"IF(calculations!C146<currentF,alpha*(3*COS(calculations!C146)-COS(3*calculations!C146)),alpha*(3*COS(currentF)-COS(3*currentF)))","v":-11.242656700433574},{"$f":"IF(calculations!C146<currentF,4*alpha*(SIN(calculations!C146))^3,4*alpha*(SIN(currentF)^3))","v":-4.5734252778338425},null,null,null,null,null,null,null,null,null,139,{"$f":"IF(calculations!C145<currentfa,calculations!F145,xcurrenta)","v":1.3787212520710816},{"$f":"IF(calculations!C145<currentfa,calculations!G145,ycurrenta)","v":7.2747243252181724}]
[{"$f":"IF(calculations!C147<currentF,alpha*(3*COS(calculations!C147)-COS(3*calculations!C147)),alpha*(3*COS(currentF)-COS(3*currentF)))","v":-11.242656700433574},{"$f":"IF(calculations!C147<currentF,4*alpha*(SIN(calculations!C147))^3,4*alpha*(SIN(currentF)^3))","v":-4.5734252778338425},null,null,null,null,null,null,null,null,null,140,{"$f":"IF(calculations!C146<currentfa,calculations!F146,xcurrenta)","v":1.3787212520710816},{"$f":"IF(calculations!C146<currentfa,calculations!G146,ycurrenta)","v":7.2747243252181724}]
[{"$f":"IF(calculations!C148<currentF,alpha*(3*COS(calculations!C148)-COS(3*calculations!C148)),alpha*(3*COS(currentF)-COS(3*currentF)))","v":-11.242656700433574},{"$f":"IF(calculations!C148<currentF,4*alpha*(SIN(calculations!C148))^3,4*alpha*(SIN(currentF)^3))","v":-4.5734252778338425},null,null,null,null,null,null,null,null,null,141,{"$f":"IF(calculations!C147<currentfa,calculations!F147,xcurrenta)","v":1.3787212520710816},{"$f":"IF(calculations!C147<currentfa,calculations!G147,ycurrenta)","v":7.2747243252181724}]
[{"$f":"IF(calculations!C149<currentF,alpha*(3*COS(calculations!C149)-COS(3*calculations!C149)),alpha*(3*COS(currentF)-COS(3*currentF)))","v":-11.242656700433574},{"$f":"IF(calculations!C149<currentF,4*alpha*(SIN(calculations!C149))^3,4*alpha*(SIN(currentF)^3))","v":-4.5734252778338425},null,null,null,null,null,null,null,null,null,142,{"$f":"IF(calculations!C148<currentfa,calculations!F148,xcurrenta)","v":1.3787212520710816},{"$f":"IF(calculations!C148<currentfa,calculations!G148,ycurrenta)","v":7.2747243252181724}]
[{"$f":"IF(calculations!C150<currentF,alpha*(3*COS(calculations!C150)-COS(3*calculations!C150)),alpha*(3*COS(currentF)-COS(3*currentF)))","v":-11.242656700433574},{"$f":"IF(calculations!C150<currentF,4*alpha*(SIN(calculations!C150))^3,4*alpha*(SIN(currentF)^3))","v":-4.5734252778338425},null,null,null,null,null,null,null,null,null,143,{"$f":"IF(calculations!C149<currentfa,calculations!F149,xcurrenta)","v":1.3787212520710816},{"$f":"IF(calculations!C149<currentfa,calculations!G149,ycurrenta)","v":7.2747243252181724}]
[{"$f":"IF(calculations!C151<currentF,alpha*(3*COS(calculations!C151)-COS(3*calculations!C151)),alpha*(3*COS(currentF)-COS(3*currentF)))","v":-11.242656700433574},{"$f":"IF(calculations!C151<currentF,4*alpha*(SIN(calculations!C151))^3,4*alpha*(SIN(currentF)^3))","v":-4.5734252778338425},null,null,null,null,null,null,null,null,null,144,{"$f":"IF(calculations!C150<currentfa,calculations!F150,xcurrenta)","v":1.3787212520710816},{"$f":"IF(calculations!C150<currentfa,calculations!G150,ycurrenta)","v":7.2747243252181724}]
[{"$f":"IF(calculations!C152<currentF,alpha*(3*COS(calculations!C152)-COS(3*calculations!C152)),alpha*(3*COS(currentF)-COS(3*currentF)))","v":-11.242656700433574},{"$f":"IF(calculations!C152<currentF,4*alpha*(SIN(calculations!C152))^3,4*alpha*(SIN(currentF)^3))","v":-4.5734252778338425},null,null,null,null,null,null,null,null,null,145,{"$f":"IF(calculations!C151<currentfa,calculations!F151,xcurrenta)","v":1.3787212520710816},{"$f":"IF(calculations!C151<currentfa,calculations!G151,ycurrenta)","v":7.2747243252181724}]
[{"$f":"IF(calculations!C153<currentF,alpha*(3*COS(calculations!C153)-COS(3*calculations!C153)),alpha*(3*COS(currentF)-COS(3*currentF)))","v":-11.242656700433574},{"$f":"IF(calculations!C153<currentF,4*alpha*(SIN(calculations!C153))^3,4*alpha*(SIN(currentF)^3))","v":-4.5734252778338425},null,null,null,null,null,null,null,null,null,146,{"$f":"IF(calculations!C152<currentfa,calculations!F152,xcurrenta)","v":1.3787212520710816},{"$f":"IF(calculations!C152<currentfa,calculations!G152,ycurrenta)","v":7.2747243252181724}]
[{"$f":"IF(calculations!C154<currentF,alpha*(3*COS(calculations!C154)-COS(3*calculations!C154)),alpha*(3*COS(currentF)-COS(3*currentF)))","v":-11.242656700433574},{"$f":"IF(calculations!C154<currentF,4*alpha*(SIN(calculations!C154))^3,4*alpha*(SIN(currentF)^3))","v":-4.5734252778338425},null,null,null,null,null,null,null,null,null,147,{"$f":"IF(calculations!C153<currentfa,calculations!F153,xcurrenta)","v":1.3787212520710816},{"$f":"IF(calculations!C153<currentfa,calculations!G153,ycurrenta)","v":7.2747243252181724}]
[{"$f":"IF(calculations!C155<currentF,alpha*(3*COS(calculations!C155)-COS(3*calculations!C155)),alpha*(3*COS(currentF)-COS(3*currentF)))","v":-11.242656700433574},{"$f":"IF(calculations!C155<currentF,4*alpha*(SIN(calculations!C155))^3,4*alpha*(SIN(currentF)^3))","v":-4.5734252778338425},null,null,null,null,null,null,null,null,null,148,{"$f":"IF(calculations!C154<currentfa,calculations!F154,xcurrenta)","v":1.3787212520710816},{"$f":"IF(calculations!C154<currentfa,calculations!G154,ycurrenta)","v":7.2747243252181724}]
[{"$f":"IF(calculations!C156<currentF,alpha*(3*COS(calculations!C156)-COS(3*calculations!C156)),alpha*(3*COS(currentF)-COS(3*currentF)))","v":-11.242656700433574},{"$f":"IF(calculations!C156<currentF,4*alpha*(SIN(calculations!C156))^3,4*alpha*(SIN(currentF)^3))","v":-4.5734252778338425},null,null,null,null,null,null,null,null,null,149,{"$f":"IF(calculations!C155<currentfa,calculations!F155,xcurrenta)","v":1.3787212520710816},{"$f":"IF(calculations!C155<currentfa,calculations!G155,ycurrenta)","v":7.2747243252181724}]
[{"$f":"IF(calculations!C157<currentF,alpha*(3*COS(calculations!C157)-COS(3*calculations!C157)),alpha*(3*COS(currentF)-COS(3*currentF)))","v":-11.242656700433574},{"$f":"IF(calculations!C157<currentF,4*alpha*(SIN(calculations!C157))^3,4*alpha*(SIN(currentF)^3))","v":-4.5734252778338425},null,null,null,null,null,null,null,null,null,150,{"$f":"IF(calculations!C156<currentfa,calculations!F156,xcurrenta)","v":1.3787212520710816},{"$f":"IF(calculations!C156<currentfa,calculations!G156,ycurrenta)","v":7.2747243252181724}]
[{"$f":"IF(calculations!C158<currentF,alpha*(3*COS(calculations!C158)-COS(3*calculations!C158)),alpha*(3*COS(currentF)-COS(3*currentF)))","v":-11.242656700433574},{"$f":"IF(calculations!C158<currentF,4*alpha*(SIN(calculations!C158))^3,4*alpha*(SIN(currentF)^3))","v":-4.5734252778338425},null,null,null,null,null,null,null,null,null,151,{"$f":"IF(calculations!C157<currentfa,calculations!F157,xcurrenta)","v":1.3787212520710816},{"$f":"IF(calculations!C157<currentfa,calculations!G157,ycurrenta)","v":7.2747243252181724}]
[{"$f":"IF(calculations!C159<currentF,alpha*(3*COS(calculations!C159)-COS(3*calculations!C159)),alpha*(3*COS(currentF)-COS(3*currentF)))","v":-11.242656700433574},{"$f":"IF(calculations!C159<currentF,4*alpha*(SIN(calculations!C159))^3,4*alpha*(SIN(currentF)^3))","v":-4.5734252778338425},null,null,null,null,null,null,null,null,null,152,{"$f":"IF(calculations!C158<currentfa,calculations!F158,xcurrenta)","v":1.3787212520710816},{"$f":"IF(calculations!C158<currentfa,calculations!G158,ycurrenta)","v":7.2747243252181724}]
[{"$f":"IF(calculations!C160<currentF,alpha*(3*COS(calculations!C160)-COS(3*calculations!C160)),alpha*(3*COS(currentF)-COS(3*currentF)))","v":-11.242656700433574},{"$f":"IF(calculations!C160<currentF,4*alpha*(SIN(calculations!C160))^3,4*alpha*(SIN(currentF)^3))","v":-4.5734252778338425},null,null,null,null,null,null,null,null,null,153,{"$f":"IF(calculations!C159<currentfa,calculations!F159,xcurrenta)","v":1.3787212520710816},{"$f":"IF(calculations!C159<currentfa,calculations!G159,ycurrenta)","v":7.2747243252181724}]
[{"$f":"IF(calculations!C161<currentF,alpha*(3*COS(calculations!C161)-COS(3*calculations!C161)),alpha*(3*COS(currentF)-COS(3*currentF)))","v":-11.242656700433574},{"$f":"IF(calculations!C161<currentF,4*alpha*(SIN(calculations!C161))^3,4*alpha*(SIN(currentF)^3))","v":-4.5734252778338425},null,null,null,null,null,null,null,null,null,154,{"$f":"IF(calculations!C160<currentfa,calculations!F160,xcurrenta)","v":1.3787212520710816},{"$f":"IF(calculations!C160<currentfa,calculations!G160,ycurrenta)","v":7.2747243252181724}]
[{"$f":"IF(calculations!C162<currentF,alpha*(3*COS(calculations!C162)-COS(3*calculations!C162)),alpha*(3*COS(currentF)-COS(3*currentF)))","v":-11.242656700433574},{"$f":"IF(calculations!C162<currentF,4*alpha*(SIN(calculations!C162))^3,4*alpha*(SIN(currentF)^3))","v":-4.5734252778338425},null,null,null,null,null,null,null,null,null,155,{"$f":"IF(calculations!C161<currentfa,calculations!F161,xcurrenta)","v":1.3787212520710816},{"$f":"IF(calculations!C161<currentfa,calculations!G161,ycurrenta)","v":7.2747243252181724}]
[{"$f":"IF(calculations!C163<currentF,alpha*(3*COS(calculations!C163)-COS(3*calculations!C163)),alpha*(3*COS(currentF)-COS(3*currentF)))","v":-11.242656700433574},{"$f":"IF(calculations!C163<currentF,4*alpha*(SIN(calculations!C163))^3,4*alpha*(SIN(currentF)^3))","v":-4.5734252778338425},null,null,null,null,null,null,null,null,null,156,{"$f":"IF(calculations!C162<currentfa,calculations!F162,xcurrenta)","v":1.3787212520710816},{"$f":"IF(calculations!C162<currentfa,calculations!G162,ycurrenta)","v":7.2747243252181724}]
[{"$f":"IF(calculations!C164<currentF,alpha*(3*COS(calculations!C164)-COS(3*calculations!C164)),alpha*(3*COS(currentF)-COS(3*currentF)))","v":-11.242656700433574},{"$f":"IF(calculations!C164<currentF,4*alpha*(SIN(calculations!C164))^3,4*alpha*(SIN(currentF)^3))","v":-4.5734252778338425},null,null,null,null,null,null,null,null,null,157,{"$f":"IF(calculations!C163<currentfa,calculations!F163,xcurrenta)","v":1.3787212520710816},{"$f":"IF(calculations!C163<currentfa,calculations!G163,ycurrenta)","v":7.2747243252181724}]
[{"$f":"IF(calculations!C165<currentF,alpha*(3*COS(calculations!C165)-COS(3*calculations!C165)),alpha*(3*COS(currentF)-COS(3*currentF)))","v":-11.242656700433574},{"$f":"IF(calculations!C165<currentF,4*alpha*(SIN(calculations!C165))^3,4*alpha*(SIN(currentF)^3))","v":-4.5734252778338425},null,null,null,null,null,null,null,null,null,158,{"$f":"IF(calculations!C164<currentfa,calculations!F164,xcurrenta)","v":1.3787212520710816},{"$f":"IF(calculations!C164<currentfa,calculations!G164,ycurrenta)","v":7.2747243252181724}]
[{"$f":"IF(calculations!C166<currentF,alpha*(3*COS(calculations!C166)-COS(3*calculations!C166)),alpha*(3*COS(currentF)-COS(3*currentF)))","v":-11.242656700433574},{"$f":"IF(calculations!C166<currentF,4*alpha*(SIN(calculations!C166))^3,4*alpha*(SIN(currentF)^3))","v":-4.5734252778338425},null,null,null,null,null,null,null,null,null,159,{"$f":"IF(calculations!C165<currentfa,calculations!F165,xcurrenta)","v":1.3787212520710816},{"$f":"IF(calculations!C165<currentfa,calculations!G165,ycurrenta)","v":7.2747243252181724}]
[{"$f":"IF(calculations!C167<currentF,alpha*(3*COS(calculations!C167)-COS(3*calculations!C167)),alpha*(3*COS(currentF)-COS(3*currentF)))","v":-11.242656700433574},{"$f":"IF(calculations!C167<currentF,4*alpha*(SIN(calculations!C167))^3,4*alpha*(SIN(currentF)^3))","v":-4.5734252778338425},null,null,null,null,null,null,null,null,null,160,{"$f":"IF(calculations!C166<currentfa,calculations!F166,xcurrenta)","v":1.3787212520710816},{"$f":"IF(calculations!C166<currentfa,calculations!G166,ycurrenta)","v":7.2747243252181724}]
[{"$f":"IF(calculations!C168<currentF,alpha*(3*COS(calculations!C168)-COS(3*calculations!C168)),alpha*(3*COS(currentF)-COS(3*currentF)))","v":-11.242656700433574},{"$f":"IF(calculations!C168<currentF,4*alpha*(SIN(calculations!C168))^3,4*alpha*(SIN(currentF)^3))","v":-4.5734252778338425},null,null,null,null,null,null,null,null,null,161,{"$f":"IF(calculations!C167<currentfa,calculations!F167,xcurrenta)","v":1.3787212520710816},{"$f":"IF(calculations!C167<currentfa,calculations!G167,ycurrenta)","v":7.2747243252181724}]
[{"$f":"IF(calculations!C169<currentF,alpha*(3*COS(calculations!C169)-COS(3*calculations!C169)),alpha*(3*COS(currentF)-COS(3*currentF)))","v":-11.242656700433574},{"$f":"IF(calculations!C169<currentF,4*alpha*(SIN(calculations!C169))^3,4*alpha*(SIN(currentF)^3))","v":-4.5734252778338425},null,null,null,null,null,null,null,null,null,162,{"$f":"IF(calculations!C168<currentfa,calculations!F168,xcurrenta)","v":1.3787212520710816},{"$f":"IF(calculations!C168<currentfa,calculations!G168,ycurrenta)","v":7.2747243252181724}]
[{"$f":"IF(calculations!C170<currentF,alpha*(3*COS(calculations!C170)-COS(3*calculations!C170)),alpha*(3*COS(currentF)-COS(3*currentF)))","v":-11.242656700433574},{"$f":"IF(calculations!C170<currentF,4*alpha*(SIN(calculations!C170))^3,4*alpha*(SIN(currentF)^3))","v":-4.5734252778338425},null,null,null,null,null,null,null,null,null,163,{"$f":"IF(calculations!C169<currentfa,calculations!F169,xcurrenta)","v":1.3787212520710816},{"$f":"IF(calculations!C169<currentfa,calculations!G169,ycurrenta)","v":7.2747243252181724}]
[{"$f":"IF(calculations!C171<currentF,alpha*(3*COS(calculations!C171)-COS(3*calculations!C171)),alpha*(3*COS(currentF)-COS(3*currentF)))","v":-11.242656700433574},{"$f":"IF(calculations!C171<currentF,4*alpha*(SIN(calculations!C171))^3,4*alpha*(SIN(currentF)^3))","v":-4.5734252778338425},null,null,null,null,null,null,null,null,null,164,{"$f":"IF(calculations!C170<currentfa,calculations!F170,xcurrenta)","v":1.3787212520710816},{"$f":"IF(calculations!C170<currentfa,calculations!G170,ycurrenta)","v":7.2747243252181724}]
[{"$f":"IF(calculations!C172<currentF,alpha*(3*COS(calculations!C172)-COS(3*calculations!C172)),alpha*(3*COS(currentF)-COS(3*currentF)))","v":-11.242656700433574},{"$f":"IF(calculations!C172<currentF,4*alpha*(SIN(calculations!C172))^3,4*alpha*(SIN(currentF)^3))","v":-4.5734252778338425},null,null,null,null,null,null,null,null,null,165,{"$f":"IF(calculations!C171<currentfa,calculations!F171,xcurrenta)","v":1.3787212520710816},{"$f":"IF(calculations!C171<currentfa,calculations!G171,ycurrenta)","v":7.2747243252181724}]
[{"$f":"IF(calculations!C173<currentF,alpha*(3*COS(calculations!C173)-COS(3*calculations!C173)),alpha*(3*COS(currentF)-COS(3*currentF)))","v":-11.242656700433574},{"$f":"IF(calculations!C173<currentF,4*alpha*(SIN(calculations!C173))^3,4*alpha*(SIN(currentF)^3))","v":-4.5734252778338425},null,null,null,null,null,null,null,null,null,166,{"$f":"IF(calculations!C172<currentfa,calculations!F172,xcurrenta)","v":1.3787212520710816},{"$f":"IF(calculations!C172<currentfa,calculations!G172,ycurrenta)","v":7.2747243252181724}]
[{"$f":"IF(calculations!C174<currentF,alpha*(3*COS(calculations!C174)-COS(3*calculations!C174)),alpha*(3*COS(currentF)-COS(3*currentF)))","v":-11.242656700433574},{"$f":"IF(calculations!C174<currentF,4*alpha*(SIN(calculations!C174))^3,4*alpha*(SIN(currentF)^3))","v":-4.5734252778338425},null,null,null,null,null,null,null,null,null,167,{"$f":"IF(calculations!C173<currentfa,calculations!F173,xcurrenta)","v":1.3787212520710816},{"$f":"IF(calculations!C173<currentfa,calculations!G173,ycurrenta)","v":7.2747243252181724}]
[{"$f":"IF(calculations!C175<currentF,alpha*(3*COS(calculations!C175)-COS(3*calculations!C175)),alpha*(3*COS(currentF)-COS(3*currentF)))","v":-11.242656700433574},{"$f":"IF(calculations!C175<currentF,4*alpha*(SIN(calculations!C175))^3,4*alpha*(SIN(currentF)^3))","v":-4.5734252778338425},null,null,null,null,null,null,null,null,null,168,{"$f":"IF(calculations!C174<currentfa,calculations!F174,xcurrenta)","v":1.3787212520710816},{"$f":"IF(calculations!C174<currentfa,calculations!G174,ycurrenta)","v":7.2747243252181724}]
[{"$f":"IF(calculations!C176<currentF,alpha*(3*COS(calculations!C176)-COS(3*calculations!C176)),alpha*(3*COS(currentF)-COS(3*currentF)))","v":-11.242656700433574},{"$f":"IF(calculations!C176<currentF,4*alpha*(SIN(calculations!C176))^3,4*alpha*(SIN(currentF)^3))","v":-4.5734252778338425},null,null,null,null,null,null,null,null,null,169,{"$f":"IF(calculations!C175<currentfa,calculations!F175,xcurrenta)","v":1.3787212520710816},{"$f":"IF(calculations!C175<currentfa,calculations!G175,ycurrenta)","v":7.2747243252181724}]
[{"$f":"IF(calculations!C177<currentF,alpha*(3*COS(calculations!C177)-COS(3*calculations!C177)),alpha*(3*COS(currentF)-COS(3*currentF)))","v":-11.242656700433574},{"$f":"IF(calculations!C177<currentF,4*alpha*(SIN(calculations!C177))^3,4*alpha*(SIN(currentF)^3))","v":-4.5734252778338425},null,null,null,null,null,null,null,null,null,170,{"$f":"IF(calculations!C176<currentfa,calculations!F176,xcurrenta)","v":1.3787212520710816},{"$f":"IF(calculations!C176<currentfa,calculations!G176,ycurrenta)","v":7.2747243252181724}]
[{"$f":"IF(calculations!C178<currentF,alpha*(3*COS(calculations!C178)-COS(3*calculations!C178)),alpha*(3*COS(currentF)-COS(3*currentF)))","v":-11.242656700433574},{"$f":"IF(calculations!C178<currentF,4*alpha*(SIN(calculations!C178))^3,4*alpha*(SIN(currentF)^3))","v":-4.5734252778338425},null,null,null,null,null,null,null,null,null,171,{"$f":"IF(calculations!C177<currentfa,calculations!F177,xcurrenta)","v":1.3787212520710816},{"$f":"IF(calculations!C177<currentfa,calculations!G177,ycurrenta)","v":7.2747243252181724}]
[{"$f":"IF(calculations!C179<currentF,alpha*(3*COS(calculations!C179)-COS(3*calculations!C179)),alpha*(3*COS(currentF)-COS(3*currentF)))","v":-11.242656700433574},{"$f":"IF(calculations!C179<currentF,4*alpha*(SIN(calculations!C179))^3,4*alpha*(SIN(currentF)^3))","v":-4.5734252778338425},null,null,null,null,null,null,null,null,null,172,{"$f":"IF(calculations!C178<currentfa,calculations!F178,xcurrenta)","v":1.3787212520710816},{"$f":"IF(calculations!C178<currentfa,calculations!G178,ycurrenta)","v":7.2747243252181724}]
[{"$f":"IF(calculations!C180<currentF,alpha*(3*COS(calculations!C180)-COS(3*calculations!C180)),alpha*(3*COS(currentF)-COS(3*currentF)))","v":-11.242656700433574},{"$f":"IF(calculations!C180<currentF,4*alpha*(SIN(calculations!C180))^3,4*alpha*(SIN(currentF)^3))","v":-4.5734252778338425},null,null,null,null,null,null,null,null,null,173,{"$f":"IF(calculations!C179<currentfa,calculations!F179,xcurrenta)","v":1.3787212520710816},{"$f":"IF(calculations!C179<currentfa,calculations!G179,ycurrenta)","v":7.2747243252181724}]
[{"$f":"IF(calculations!C181<currentF,alpha*(3*COS(calculations!C181)-COS(3*calculations!C181)),alpha*(3*COS(currentF)-COS(3*currentF)))","v":-11.242656700433574},{"$f":"IF(calculations!C181<currentF,4*alpha*(SIN(calculations!C181))^3,4*alpha*(SIN(currentF)^3))","v":-4.5734252778338425},null,null,null,null,null,null,null,null,null,174,{"$f":"IF(calculations!C180<currentfa,calculations!F180,xcurrenta)","v":1.3787212520710816},{"$f":"IF(calculations!C180<currentfa,calculations!G180,ycurrenta)","v":7.2747243252181724}]
[{"$f":"IF(calculations!C182<currentF,alpha*(3*COS(calculations!C182)-COS(3*calculations!C182)),alpha*(3*COS(currentF)-COS(3*currentF)))","v":-11.242656700433574},{"$f":"IF(calculations!C182<currentF,4*alpha*(SIN(calculations!C182))^3,4*alpha*(SIN(currentF)^3))","v":-4.5734252778338425},null,null,null,null,null,null,null,null,null,175,{"$f":"IF(calculations!C181<currentfa,calculations!F181,xcurrenta)","v":1.3787212520710816},{"$f":"IF(calculations!C181<currentfa,calculations!G181,ycurrenta)","v":7.2747243252181724}]
[{"$f":"IF(calculations!C183<currentF,alpha*(3*COS(calculations!C183)-COS(3*calculations!C183)),alpha*(3*COS(currentF)-COS(3*currentF)))","v":-11.242656700433574},{"$f":"IF(calculations!C183<currentF,4*alpha*(SIN(calculations!C183))^3,4*alpha*(SIN(currentF)^3))","v":-4.5734252778338425},null,null,null,null,null,null,null,null,null,176,{"$f":"IF(calculations!C182<currentfa,calculations!F182,xcurrenta)","v":1.3787212520710816},{"$f":"IF(calculations!C182<currentfa,calculations!G182,ycurrenta)","v":7.2747243252181724}]
[{"$f":"IF(calculations!C184<currentF,alpha*(3*COS(calculations!C184)-COS(3*calculations!C184)),alpha*(3*COS(currentF)-COS(3*currentF)))","v":-11.242656700433574},{"$f":"IF(calculations!C184<currentF,4*alpha*(SIN(calculations!C184))^3,4*alpha*(SIN(currentF)^3))","v":-4.5734252778338425},null,null,null,null,null,null,null,null,null,177,{"$f":"IF(calculations!C183<currentfa,calculations!F183,xcurrenta)","v":1.3787212520710816},{"$f":"IF(calculations!C183<currentfa,calculations!G183,ycurrenta)","v":7.2747243252181724}]
[{"$f":"IF(calculations!C185<currentF,alpha*(3*COS(calculations!C185)-COS(3*calculations!C185)),alpha*(3*COS(currentF)-COS(3*currentF)))","v":-11.242656700433574},{"$f":"IF(calculations!C185<currentF,4*alpha*(SIN(calculations!C185))^3,4*alpha*(SIN(currentF)^3))","v":-4.5734252778338425},null,null,null,null,null,null,null,null,null,178,{"$f":"IF(calculations!C184<currentfa,calculations!F184,xcurrenta)","v":1.3787212520710816},{"$f":"IF(calculations!C184<currentfa,calculations!G184,ycurrenta)","v":7.2747243252181724}]
[{"$f":"IF(calculations!C186<currentF,alpha*(3*COS(calculations!C186)-COS(3*calculations!C186)),alpha*(3*COS(currentF)-COS(3*currentF)))","v":-11.242656700433574},{"$f":"IF(calculations!C186<currentF,4*alpha*(SIN(calculations!C186))^3,4*alpha*(SIN(currentF)^3))","v":-4.5734252778338425},null,null,null,null,null,null,null,null,null,179,{"$f":"IF(calculations!C185<currentfa,calculations!F185,xcurrenta)","v":1.3787212520710816},{"$f":"IF(calculations!C185<currentfa,calculations!G185,ycurrenta)","v":7.2747243252181724}]
[{"$f":"IF(calculations!C187<currentF,alpha*(3*COS(calculations!C187)-COS(3*calculations!C187)),alpha*(3*COS(currentF)-COS(3*currentF)))","v":-11.242656700433574},{"$f":"IF(calculations!C187<currentF,4*alpha*(SIN(calculations!C187))^3,4*alpha*(SIN(currentF)^3))","v":-4.5734252778338425},null,null,null,null,null,null,null,null,null,180,{"$f":"IF(calculations!C186<currentfa,calculations!F186,xcurrenta)","v":1.3787212520710816},{"$f":"IF(calculations!C186<currentfa,calculations!G186,ycurrenta)","v":7.2747243252181724}]
[{"$f":"IF(calculations!C188<currentF,alpha*(3*COS(calculations!C188)-COS(3*calculations!C188)),alpha*(3*COS(currentF)-COS(3*currentF)))","v":-11.242656700433574},{"$f":"IF(calculations!C188<currentF,4*alpha*(SIN(calculations!C188))^3,4*alpha*(SIN(currentF)^3))","v":-4.5734252778338425},null,null,null,null,null,null,null,null,null,181,{"$f":"IF(calculations!C187<currentfa,calculations!F187,xcurrenta)","v":1.3787212520710816},{"$f":"IF(calculations!C187<currentfa,calculations!G187,ycurrenta)","v":7.2747243252181724}]
[{"$f":"IF(calculations!C189<currentF,alpha*(3*COS(calculations!C189)-COS(3*calculations!C189)),alpha*(3*COS(currentF)-COS(3*currentF)))","v":-11.242656700433574},{"$f":"IF(calculations!C189<currentF,4*alpha*(SIN(calculations!C189))^3,4*alpha*(SIN(currentF)^3))","v":-4.5734252778338425},null,null,null,null,null,null,null,null,null,182,{"$f":"IF(calculations!C188<currentfa,calculations!F188,xcurrenta)","v":1.3787212520710816},{"$f":"IF(calculations!C188<currentfa,calculations!G188,ycurrenta)","v":7.2747243252181724}]
[{"$f":"IF(calculations!C190<currentF,alpha*(3*COS(calculations!C190)-COS(3*calculations!C190)),alpha*(3*COS(currentF)-COS(3*currentF)))","v":-11.242656700433574},{"$f":"IF(calculations!C190<currentF,4*alpha*(SIN(calculations!C190))^3,4*alpha*(SIN(currentF)^3))","v":-4.5734252778338425},null,null,null,null,null,null,null,null,null,183,{"$f":"IF(calculations!C189<currentfa,calculations!F189,xcurrenta)","v":1.3787212520710816},{"$f":"IF(calculations!C189<currentfa,calculations!G189,ycurrenta)","v":7.2747243252181724}]
[{"$f":"IF(calculations!C191<currentF,alpha*(3*COS(calculations!C191)-COS(3*calculations!C191)),alpha*(3*COS(currentF)-COS(3*currentF)))","v":-11.242656700433574},{"$f":"IF(calculations!C191<currentF,4*alpha*(SIN(calculations!C191))^3,4*alpha*(SIN(currentF)^3))","v":-4.5734252778338425},null,null,null,null,null,null,null,null,null,184,{"$f":"IF(calculations!C190<currentfa,calculations!F190,xcurrenta)","v":1.3787212520710816},{"$f":"IF(calculations!C190<currentfa,calculations!G190,ycurrenta)","v":7.2747243252181724}]
[{"$f":"IF(calculations!C192<currentF,alpha*(3*COS(calculations!C192)-COS(3*calculations!C192)),alpha*(3*COS(currentF)-COS(3*currentF)))","v":-11.242656700433574},{"$f":"IF(calculations!C192<currentF,4*alpha*(SIN(calculations!C192))^3,4*alpha*(SIN(currentF)^3))","v":-4.5734252778338425},null,null,null,null,null,null,null,null,null,185,{"$f":"IF(calculations!C191<currentfa,calculations!F191,xcurrenta)","v":1.3787212520710816},{"$f":"IF(calculations!C191<currentfa,calculations!G191,ycurrenta)","v":7.2747243252181724}]
[{"$f":"IF(calculations!C193<currentF,alpha*(3*COS(calculations!C193)-COS(3*calculations!C193)),alpha*(3*COS(currentF)-COS(3*currentF)))","v":-11.242656700433574},{"$f":"IF(calculations!C193<currentF,4*alpha*(SIN(calculations!C193))^3,4*alpha*(SIN(currentF)^3))","v":-4.5734252778338425},null,null,null,null,null,null,null,null,null,186,{"$f":"IF(calculations!C192<currentfa,calculations!F192,xcurrenta)","v":1.3787212520710816},{"$f":"IF(calculations!C192<currentfa,calculations!G192,ycurrenta)","v":7.2747243252181724}]
[{"$f":"IF(calculations!C194<currentF,alpha*(3*COS(calculations!C194)-COS(3*calculations!C194)),alpha*(3*COS(currentF)-COS(3*currentF)))","v":-11.242656700433574},{"$f":"IF(calculations!C194<currentF,4*alpha*(SIN(calculations!C194))^3,4*alpha*(SIN(currentF)^3))","v":-4.5734252778338425},null,null,null,null,null,null,null,null,null,187,{"$f":"IF(calculations!C193<currentfa,calculations!F193,xcurrenta)","v":1.3787212520710816},{"$f":"IF(calculations!C193<currentfa,calculations!G193,ycurrenta)","v":7.2747243252181724}]
[{"$f":"IF(calculations!C195<currentF,alpha*(3*COS(calculations!C195)-COS(3*calculations!C195)),alpha*(3*COS(currentF)-COS(3*currentF)))","v":-11.242656700433574},{"$f":"IF(calculations!C195<currentF,4*alpha*(SIN(calculations!C195))^3,4*alpha*(SIN(currentF)^3))","v":-4.5734252778338425},null,null,null,null,null,null,null,null,null,188,{"$f":"IF(calculations!C194<currentfa,calculations!F194,xcurrenta)","v":1.3787212520710816},{"$f":"IF(calculations!C194<currentfa,calculations!G194,ycurrenta)","v":7.2747243252181724}]
[{"$f":"IF(calculations!C196<currentF,alpha*(3*COS(calculations!C196)-COS(3*calculations!C196)),alpha*(3*COS(currentF)-COS(3*currentF)))","v":-11.242656700433574},{"$f":"IF(calculations!C196<currentF,4*alpha*(SIN(calculations!C196))^3,4*alpha*(SIN(currentF)^3))","v":-4.5734252778338425},null,null,null,null,null,null,null,null,null,189,{"$f":"IF(calculations!C195<currentfa,calculations!F195,xcurrenta)","v":1.3787212520710816},{"$f":"IF(calculations!C195<currentfa,calculations!G195,ycurrenta)","v":7.2747243252181724}]
[{"$f":"IF(calculations!C197<currentF,alpha*(3*COS(calculations!C197)-COS(3*calculations!C197)),alpha*(3*COS(currentF)-COS(3*currentF)))","v":-11.242656700433574},{"$f":"IF(calculations!C197<currentF,4*alpha*(SIN(calculations!C197))^3,4*alpha*(SIN(currentF)^3))","v":-4.5734252778338425},null,null,null,null,null,null,null,null,null,190,{"$f":"IF(calculations!C196<currentfa,calculations!F196,xcurrenta)","v":1.3787212520710816},{"$f":"IF(calculations!C196<currentfa,calculations!G196,ycurrenta)","v":7.2747243252181724}]
[{"$f":"IF(calculations!C198<currentF,alpha*(3*COS(calculations!C198)-COS(3*calculations!C198)),alpha*(3*COS(currentF)-COS(3*currentF)))","v":-11.242656700433574},{"$f":"IF(calculations!C198<currentF,4*alpha*(SIN(calculations!C198))^3,4*alpha*(SIN(currentF)^3))","v":-4.5734252778338425},null,null,null,null,null,null,null,null,null,191,{"$f":"IF(calculations!C197<currentfa,calculations!F197,xcurrenta)","v":1.3787212520710816},{"$f":"IF(calculations!C197<currentfa,calculations!G197,ycurrenta)","v":7.2747243252181724}]
[{"$f":"IF(calculations!C199<currentF,alpha*(3*COS(calculations!C199)-COS(3*calculations!C199)),alpha*(3*COS(currentF)-COS(3*currentF)))","v":-11.242656700433574},{"$f":"IF(calculations!C199<currentF,4*alpha*(SIN(calculations!C199))^3,4*alpha*(SIN(currentF)^3))","v":-4.5734252778338425},null,null,null,null,null,null,null,null,null,192,{"$f":"IF(calculations!C198<currentfa,calculations!F198,xcurrenta)","v":1.3787212520710816},{"$f":"IF(calculations!C198<currentfa,calculations!G198,ycurrenta)","v":7.2747243252181724}]
[{"$f":"IF(calculations!C200<currentF,alpha*(3*COS(calculations!C200)-COS(3*calculations!C200)),alpha*(3*COS(currentF)-COS(3*currentF)))","v":-11.242656700433574},{"$f":"IF(calculations!C200<currentF,4*alpha*(SIN(calculations!C200))^3,4*alpha*(SIN(currentF)^3))","v":-4.5734252778338425},null,null,null,null,null,null,null,null,null,193,{"$f":"IF(calculations!C199<currentfa,calculations!F199,xcurrenta)","v":1.3787212520710816},{"$f":"IF(calculations!C199<currentfa,calculations!G199,ycurrenta)","v":7.2747243252181724}]
[{"$f":"IF(calculations!C201<currentF,alpha*(3*COS(calculations!C201)-COS(3*calculations!C201)),alpha*(3*COS(currentF)-COS(3*currentF)))","v":-11.242656700433574},{"$f":"IF(calculations!C201<currentF,4*alpha*(SIN(calculations!C201))^3,4*alpha*(SIN(currentF)^3))","v":-4.5734252778338425},null,null,null,null,null,null,null,null,null,194,{"$f":"IF(calculations!C200<currentfa,calculations!F200,xcurrenta)","v":1.3787212520710816},{"$f":"IF(calculations!C200<currentfa,calculations!G200,ycurrenta)","v":7.2747243252181724}]
[{"$f":"IF(calculations!C202<currentF,alpha*(3*COS(calculations!C202)-COS(3*calculations!C202)),alpha*(3*COS(currentF)-COS(3*currentF)))","v":-11.242656700433574},{"$f":"IF(calculations!C202<currentF,4*alpha*(SIN(calculations!C202))^3,4*alpha*(SIN(currentF)^3))","v":-4.5734252778338425},null,null,null,null,null,null,null,null,null,{"$f":"L197+1","v":195},{"$f":"IF(calculations!C201<currentfa,calculations!F201,xcurrenta)","v":1.3787212520710816},{"$f":"IF(calculations!C201<currentfa,calculations!G201,ycurrenta)","v":7.2747243252181724}]
[{"$f":"IF(calculations!C203<currentF,alpha*(3*COS(calculations!C203)-COS(3*calculations!C203)),alpha*(3*COS(currentF)-COS(3*currentF)))","v":-11.242656700433574},{"$f":"IF(calculations!C203<currentF,4*alpha*(SIN(calculations!C203))^3,4*alpha*(SIN(currentF)^3))","v":-4.5734252778338425},null,null,null,null,null,null,null,null,null,196,{"$f":"IF(calculations!C202<currentfa,calculations!F202,xcurrenta)","v":1.3787212520710816},{"$f":"IF(calculations!C202<currentfa,calculations!G202,ycurrenta)","v":7.2747243252181724}]
[{"$f":"IF(calculations!C204<currentF,alpha*(3*COS(calculations!C204)-COS(3*calculations!C204)),alpha*(3*COS(currentF)-COS(3*currentF)))","v":-11.242656700433574},{"$f":"IF(calculations!C204<currentF,4*alpha*(SIN(calculations!C204))^3,4*alpha*(SIN(currentF)^3))","v":-4.5734252778338425},null,null,null,null,null,null,null,null,null,197,{"$f":"IF(calculations!C203<currentfa,calculations!F203,xcurrenta)","v":1.3787212520710816},{"$f":"IF(calculations!C203<currentfa,calculations!G203,ycurrenta)","v":7.2747243252181724}]
[{"$f":"IF(calculations!C205<currentF,alpha*(3*COS(calculations!C205)-COS(3*calculations!C205)),alpha*(3*COS(currentF)-COS(3*currentF)))","v":-11.242656700433574},{"$f":"IF(calculations!C205<currentF,4*alpha*(SIN(calculations!C205))^3,4*alpha*(SIN(currentF)^3))","v":-4.5734252778338425},null,null,null,null,null,null,null,null,null,198,{"$f":"IF(calculations!C204<currentfa,calculations!F204,xcurrenta)","v":1.3787212520710816},{"$f":"IF(calculations!C204<currentfa,calculations!G204,ycurrenta)","v":7.2747243252181724}]
[{"$f":"IF(calculations!C206<currentF,alpha*(3*COS(calculations!C206)-COS(3*calculations!C206)),alpha*(3*COS(currentF)-COS(3*currentF)))","v":-11.242656700433574},{"$f":"IF(calculations!C206<currentF,4*alpha*(SIN(calculations!C206))^3,4*alpha*(SIN(currentF)^3))","v":-4.5734252778338425},null,null,null,null,null,null,null,null,null,199,{"$f":"IF(calculations!C205<currentfa,calculations!F205,xcurrenta)","v":1.3787212520710816},{"$f":"IF(calculations!C205<currentfa,calculations!G205,ycurrenta)","v":7.2747243252181724}]
[{"$f":"IF(calculations!C207<currentF,alpha*(3*COS(calculations!C207)-COS(3*calculations!C207)),alpha*(3*COS(currentF)-COS(3*currentF)))","v":-11.242656700433574},{"$f":"IF(calculations!C207<currentF,4*alpha*(SIN(calculations!C207))^3,4*alpha*(SIN(currentF)^3))","v":-4.5734252778338425},null,null,null,null,null,null,null,null,null,200,{"$f":"IF(calculations!C206<currentfa,calculations!F206,xcurrenta)","v":1.3787212520710816},{"$f":"IF(calculations!C206<currentfa,calculations!G206,ycurrenta)","v":7.2747243252181724}]
[{"$f":"IF(calculations!C208<currentF,alpha*(3*COS(calculations!C208)-COS(3*calculations!C208)),alpha*(3*COS(currentF)-COS(3*currentF)))","v":-11.242656700433574},{"$f":"IF(calculations!C208<currentF,4*alpha*(SIN(calculations!C208))^3,4*alpha*(SIN(currentF)^3))","v":-4.5734252778338425},null,null,null,null,null,null,null,null,null,201,{"$f":"IF(calculations!C207<currentfa,calculations!F207,xcurrenta)","v":1.3787212520710816},{"$f":"IF(calculations!C207<currentfa,calculations!G207,ycurrenta)","v":7.2747243252181724}]
[{"$f":"IF(calculations!C209<currentF,alpha*(3*COS(calculations!C209)-COS(3*calculations!C209)),alpha*(3*COS(currentF)-COS(3*currentF)))","v":-11.242656700433574},{"$f":"IF(calculations!C209<currentF,4*alpha*(SIN(calculations!C209))^3,4*alpha*(SIN(currentF)^3))","v":-4.5734252778338425},null,null,null,null,null,null,null,null,null,202,{"$f":"IF(calculations!C208<currentfa,calculations!F208,xcurrenta)","v":1.3787212520710816},{"$f":"IF(calculations!C208<currentfa,calculations!G208,ycurrenta)","v":7.2747243252181724}]
[{"$f":"IF(calculations!C210<currentF,alpha*(3*COS(calculations!C210)-COS(3*calculations!C210)),alpha*(3*COS(currentF)-COS(3*currentF)))","v":-11.242656700433574},{"$f":"IF(calculations!C210<currentF,4*alpha*(SIN(calculations!C210))^3,4*alpha*(SIN(currentF)^3))","v":-4.5734252778338425},null,null,null,null,null,null,null,null,null,203,{"$f":"IF(calculations!C209<currentfa,calculations!F209,xcurrenta)","v":1.3787212520710816},{"$f":"IF(calculations!C209<currentfa,calculations!G209,ycurrenta)","v":7.2747243252181724}]
[{"$f":"IF(calculations!C211<currentF,alpha*(3*COS(calculations!C211)-COS(3*calculations!C211)),alpha*(3*COS(currentF)-COS(3*currentF)))","v":-11.242656700433574},{"$f":"IF(calculations!C211<currentF,4*alpha*(SIN(calculations!C211))^3,4*alpha*(SIN(currentF)^3))","v":-4.5734252778338425},null,null,null,null,null,null,null,null,null,204,{"$f":"IF(calculations!C210<currentfa,calculations!F210,xcurrenta)","v":1.3787212520710816},{"$f":"IF(calculations!C210<currentfa,calculations!G210,ycurrenta)","v":7.2747243252181724}]
[{"$f":"IF(calculations!C212<currentF,alpha*(3*COS(calculations!C212)-COS(3*calculations!C212)),alpha*(3*COS(currentF)-COS(3*currentF)))","v":-11.242656700433574},{"$f":"IF(calculations!C212<currentF,4*alpha*(SIN(calculations!C212))^3,4*alpha*(SIN(currentF)^3))","v":-4.5734252778338425},null,null,null,null,null,null,null,null,null,205,{"$f":"IF(calculations!C211<currentfa,calculations!F211,xcurrenta)","v":1.3787212520710816},{"$f":"IF(calculations!C211<currentfa,calculations!G211,ycurrenta)","v":7.2747243252181724}]
[{"$f":"IF(calculations!C213<currentF,alpha*(3*COS(calculations!C213)-COS(3*calculations!C213)),alpha*(3*COS(currentF)-COS(3*currentF)))","v":-11.242656700433574},{"$f":"IF(calculations!C213<currentF,4*alpha*(SIN(calculations!C213))^3,4*alpha*(SIN(currentF)^3))","v":-4.5734252778338425},null,null,null,null,null,null,null,null,null,206,{"$f":"IF(calculations!C212<currentfa,calculations!F212,xcurrenta)","v":1.3787212520710816},{"$f":"IF(calculations!C212<currentfa,calculations!G212,ycurrenta)","v":7.2747243252181724}]
[{"$f":"IF(calculations!C214<currentF,alpha*(3*COS(calculations!C214)-COS(3*calculations!C214)),alpha*(3*COS(currentF)-COS(3*currentF)))","v":-11.242656700433574},{"$f":"IF(calculations!C214<currentF,4*alpha*(SIN(calculations!C214))^3,4*alpha*(SIN(currentF)^3))","v":-4.5734252778338425},null,null,null,null,null,null,null,null,null,207,{"$f":"IF(calculations!C213<currentfa,calculations!F213,xcurrenta)","v":1.3787212520710816},{"$f":"IF(calculations!C213<currentfa,calculations!G213,ycurrenta)","v":7.2747243252181724}]
[{"$f":"IF(calculations!C215<currentF,alpha*(3*COS(calculations!C215)-COS(3*calculations!C215)),alpha*(3*COS(currentF)-COS(3*currentF)))","v":-11.242656700433574},{"$f":"IF(calculations!C215<currentF,4*alpha*(SIN(calculations!C215))^3,4*alpha*(SIN(currentF)^3))","v":-4.5734252778338425},null,null,null,null,null,null,null,null,null,208,{"$f":"IF(calculations!C214<currentfa,calculations!F214,xcurrenta)","v":1.3787212520710816},{"$f":"IF(calculations!C214<currentfa,calculations!G214,ycurrenta)","v":7.2747243252181724}]
[{"$f":"IF(calculations!C216<currentF,alpha*(3*COS(calculations!C216)-COS(3*calculations!C216)),alpha*(3*COS(currentF)-COS(3*currentF)))","v":-11.242656700433574},{"$f":"IF(calculations!C216<currentF,4*alpha*(SIN(calculations!C216))^3,4*alpha*(SIN(currentF)^3))","v":-4.5734252778338425},null,null,null,null,null,null,null,null,null,209,{"$f":"IF(calculations!C215<currentfa,calculations!F215,xcurrenta)","v":1.3787212520710816},{"$f":"IF(calculations!C215<currentfa,calculations!G215,ycurrenta)","v":7.2747243252181724}]
[{"$f":"IF(calculations!C217<currentF,alpha*(3*COS(calculations!C217)-COS(3*calculations!C217)),alpha*(3*COS(currentF)-COS(3*currentF)))","v":-11.242656700433574},{"$f":"IF(calculations!C217<currentF,4*alpha*(SIN(calculations!C217))^3,4*alpha*(SIN(currentF)^3))","v":-4.5734252778338425},null,null,null,null,null,null,null,null,null,210,{"$f":"IF(calculations!C216<currentfa,calculations!F216,xcurrenta)","v":1.3787212520710816},{"$f":"IF(calculations!C216<currentfa,calculations!G216,ycurrenta)","v":7.2747243252181724}]
[{"$f":"IF(calculations!C218<currentF,alpha*(3*COS(calculations!C218)-COS(3*calculations!C218)),alpha*(3*COS(currentF)-COS(3*currentF)))","v":-11.242656700433574},{"$f":"IF(calculations!C218<currentF,4*alpha*(SIN(calculations!C218))^3,4*alpha*(SIN(currentF)^3))","v":-4.5734252778338425},null,null,null,null,null,null,null,null,null,211,{"$f":"IF(calculations!C217<currentfa,calculations!F217,xcurrenta)","v":1.3787212520710816},{"$f":"IF(calculations!C217<currentfa,calculations!G217,ycurrenta)","v":7.2747243252181724}]
[{"$f":"IF(calculations!C219<currentF,alpha*(3*COS(calculations!C219)-COS(3*calculations!C219)),alpha*(3*COS(currentF)-COS(3*currentF)))","v":-11.242656700433574},{"$f":"IF(calculations!C219<currentF,4*alpha*(SIN(calculations!C219))^3,4*alpha*(SIN(currentF)^3))","v":-4.5734252778338425},null,null,null,null,null,null,null,null,null,212,{"$f":"IF(calculations!C218<currentfa,calculations!F218,xcurrenta)","v":1.3787212520710816},{"$f":"IF(calculations!C218<currentfa,calculations!G218,ycurrenta)","v":7.2747243252181724}]
[{"$f":"IF(calculations!C220<currentF,alpha*(3*COS(calculations!C220)-COS(3*calculations!C220)),alpha*(3*COS(currentF)-COS(3*currentF)))","v":-11.242656700433574},{"$f":"IF(calculations!C220<currentF,4*alpha*(SIN(calculations!C220))^3,4*alpha*(SIN(currentF)^3))","v":-4.5734252778338425},null,null,null,null,null,null,null,null,null,213,{"$f":"IF(calculations!C219<currentfa,calculations!F219,xcurrenta)","v":1.3787212520710816},{"$f":"IF(calculations!C219<currentfa,calculations!G219,ycurrenta)","v":7.2747243252181724}]
[{"$f":"IF(calculations!C221<currentF,alpha*(3*COS(calculations!C221)-COS(3*calculations!C221)),alpha*(3*COS(currentF)-COS(3*currentF)))","v":-11.242656700433574},{"$f":"IF(calculations!C221<currentF,4*alpha*(SIN(calculations!C221))^3,4*alpha*(SIN(currentF)^3))","v":-4.5734252778338425},null,null,null,null,null,null,null,null,null,214,{"$f":"IF(calculations!C220<currentfa,calculations!F220,xcurrenta)","v":1.3787212520710816},{"$f":"IF(calculations!C220<currentfa,calculations!G220,ycurrenta)","v":7.2747243252181724}]
[{"$f":"IF(calculations!C222<currentF,alpha*(3*COS(calculations!C222)-COS(3*calculations!C222)),alpha*(3*COS(currentF)-COS(3*currentF)))","v":-11.242656700433574},{"$f":"IF(calculations!C222<currentF,4*alpha*(SIN(calculations!C222))^3,4*alpha*(SIN(currentF)^3))","v":-4.5734252778338425},null,null,null,null,null,null,null,null,null,215,{"$f":"IF(calculations!C221<currentfa,calculations!F221,xcurrenta)","v":1.3787212520710816},{"$f":"IF(calculations!C221<currentfa,calculations!G221,ycurrenta)","v":7.2747243252181724}]
[{"$f":"IF(calculations!C223<currentF,alpha*(3*COS(calculations!C223)-COS(3*calculations!C223)),alpha*(3*COS(currentF)-COS(3*currentF)))","v":-11.242656700433574},{"$f":"IF(calculations!C223<currentF,4*alpha*(SIN(calculations!C223))^3,4*alpha*(SIN(currentF)^3))","v":-4.5734252778338425},null,null,null,null,null,null,null,null,null,216,{"$f":"IF(calculations!C222<currentfa,calculations!F222,xcurrenta)","v":1.3787212520710816},{"$f":"IF(calculations!C222<currentfa,calculations!G222,ycurrenta)","v":7.2747243252181724}]
[{"$f":"IF(calculations!C224<currentF,alpha*(3*COS(calculations!C224)-COS(3*calculations!C224)),alpha*(3*COS(currentF)-COS(3*currentF)))","v":-11.242656700433574},{"$f":"IF(calculations!C224<currentF,4*alpha*(SIN(calculations!C224))^3,4*alpha*(SIN(currentF)^3))","v":-4.5734252778338425},null,null,null,null,null,null,null,null,null,217,{"$f":"IF(calculations!C223<currentfa,calculations!F223,xcurrenta)","v":1.3787212520710816},{"$f":"IF(calculations!C223<currentfa,calculations!G223,ycurrenta)","v":7.2747243252181724}]
[{"$f":"IF(calculations!C225<currentF,alpha*(3*COS(calculations!C225)-COS(3*calculations!C225)),alpha*(3*COS(currentF)-COS(3*currentF)))","v":-11.242656700433574},{"$f":"IF(calculations!C225<currentF,4*alpha*(SIN(calculations!C225))^3,4*alpha*(SIN(currentF)^3))","v":-4.5734252778338425},null,null,null,null,null,null,null,null,null,218,{"$f":"IF(calculations!C224<currentfa,calculations!F224,xcurrenta)","v":1.3787212520710816},{"$f":"IF(calculations!C224<currentfa,calculations!G224,ycurrenta)","v":7.2747243252181724}]
[{"$f":"IF(calculations!C226<currentF,alpha*(3*COS(calculations!C226)-COS(3*calculations!C226)),alpha*(3*COS(currentF)-COS(3*currentF)))","v":-11.242656700433574},{"$f":"IF(calculations!C226<currentF,4*alpha*(SIN(calculations!C226))^3,4*alpha*(SIN(currentF)^3))","v":-4.5734252778338425},null,null,null,null,null,null,null,null,null,219,{"$f":"IF(calculations!C225<currentfa,calculations!F225,xcurrenta)","v":1.3787212520710816},{"$f":"IF(calculations!C225<currentfa,calculations!G225,ycurrenta)","v":7.2747243252181724}]
[{"$f":"IF(calculations!C227<currentF,alpha*(3*COS(calculations!C227)-COS(3*calculations!C227)),alpha*(3*COS(currentF)-COS(3*currentF)))","v":-11.242656700433574},{"$f":"IF(calculations!C227<currentF,4*alpha*(SIN(calculations!C227))^3,4*alpha*(SIN(currentF)^3))","v":-4.5734252778338425},null,null,null,null,null,null,null,null,null,220,{"$f":"IF(calculations!C226<currentfa,calculations!F226,xcurrenta)","v":1.3787212520710816},{"$f":"IF(calculations!C226<currentfa,calculations!G226,ycurrenta)","v":7.2747243252181724}]
[{"$f":"IF(calculations!C228<currentF,alpha*(3*COS(calculations!C228)-COS(3*calculations!C228)),alpha*(3*COS(currentF)-COS(3*currentF)))","v":-11.242656700433574},{"$f":"IF(calculations!C228<currentF,4*alpha*(SIN(calculations!C228))^3,4*alpha*(SIN(currentF)^3))","v":-4.5734252778338425},null,null,null,null,null,null,null,null,null,221,{"$f":"IF(calculations!C227<currentfa,calculations!F227,xcurrenta)","v":1.3787212520710816},{"$f":"IF(calculations!C227<currentfa,calculations!G227,ycurrenta)","v":7.2747243252181724}]
[{"$f":"IF(calculations!C229<currentF,alpha*(3*COS(calculations!C229)-COS(3*calculations!C229)),alpha*(3*COS(currentF)-COS(3*currentF)))","v":-11.242656700433574},{"$f":"IF(calculations!C229<currentF,4*alpha*(SIN(calculations!C229))^3,4*alpha*(SIN(currentF)^3))","v":-4.5734252778338425},null,null,null,null,null,null,null,null,null,222,{"$f":"IF(calculations!C228<currentfa,calculations!F228,xcurrenta)","v":1.3787212520710816},{"$f":"IF(calculations!C228<currentfa,calculations!G228,ycurrenta)","v":7.2747243252181724}]
[{"$f":"IF(calculations!C230<currentF,alpha*(3*COS(calculations!C230)-COS(3*calculations!C230)),alpha*(3*COS(currentF)-COS(3*currentF)))","v":-11.242656700433574},{"$f":"IF(calculations!C230<currentF,4*alpha*(SIN(calculations!C230))^3,4*alpha*(SIN(currentF)^3))","v":-4.5734252778338425},null,null,null,null,null,null,null,null,null,223,{"$f":"IF(calculations!C229<currentfa,calculations!F229,xcurrenta)","v":1.3787212520710816},{"$f":"IF(calculations!C229<currentfa,calculations!G229,ycurrenta)","v":7.2747243252181724}]
[{"$f":"IF(calculations!C231<currentF,alpha*(3*COS(calculations!C231)-COS(3*calculations!C231)),alpha*(3*COS(currentF)-COS(3*currentF)))","v":-11.242656700433574},{"$f":"IF(calculations!C231<currentF,4*alpha*(SIN(calculations!C231))^3,4*alpha*(SIN(currentF)^3))","v":-4.5734252778338425},null,null,null,null,null,null,null,null,null,224,{"$f":"IF(calculations!C230<currentfa,calculations!F230,xcurrenta)","v":1.3787212520710816},{"$f":"IF(calculations!C230<currentfa,calculations!G230,ycurrenta)","v":7.2747243252181724}]
[{"$f":"IF(calculations!C232<currentF,alpha*(3*COS(calculations!C232)-COS(3*calculations!C232)),alpha*(3*COS(currentF)-COS(3*currentF)))","v":-11.242656700433574},{"$f":"IF(calculations!C232<currentF,4*alpha*(SIN(calculations!C232))^3,4*alpha*(SIN(currentF)^3))","v":-4.5734252778338425},null,null,null,null,null,null,null,null,null,225,{"$f":"IF(calculations!C231<currentfa,calculations!F231,xcurrenta)","v":1.3787212520710816},{"$f":"IF(calculations!C231<currentfa,calculations!G231,ycurrenta)","v":7.2747243252181724}]
[null,null,null,null,null,null,null,null,null,null,null,226,{"$f":"IF(calculations!C232<currentfa,calculations!F232,xcurrenta)","v":1.3787212520710816},{"$f":"IF(calculations!C232<currentfa,calculations!G232,ycurrenta)","v":7.2747243252181724}]
[null,null,null,null,null,null,null,null,null,null,null,227,{"$f":"IF(calculations!C233<currentfa,calculations!F233,xcurrenta)","v":1.3787212520710816},{"$f":"IF(calculations!C233<currentfa,calculations!G233,ycurrenta)","v":7.2747243252181724}]
[null,null,null,null,null,null,null,null,null,null,null,228,{"$f":"IF(calculations!C234<currentfa,calculations!F234,xcurrenta)","v":1.3787212520710816},{"$f":"IF(calculations!C234<currentfa,calculations!G234,ycurrenta)","v":7.2747243252181724}]
[null,null,null,null,null,null,null,null,null,null,null,229,{"$f":"IF(calculations!C235<currentfa,calculations!F235,xcurrenta)","v":1.3787212520710816},{"$f":"IF(calculations!C235<currentfa,calculations!G235,ycurrenta)","v":7.2747243252181724}]
[null,null,null,null,null,null,null,null,null,null,null,230,{"$f":"IF(calculations!C236<currentfa,calculations!F236,xcurrenta)","v":1.3787212520710816},{"$f":"IF(calculations!C236<currentfa,calculations!G236,ycurrenta)","v":7.2747243252181724}]
[null,null,null,null,null,null,null,null,null,null,null,231,{"$f":"IF(calculations!C237<currentfa,calculations!F237,xcurrenta)","v":1.3787212520710816},{"$f":"IF(calculations!C237<currentfa,calculations!G237,ycurrenta)","v":7.2747243252181724}]
[null,null,null,null,null,null,null,null,null,null,null,232,{"$f":"IF(calculations!C238<currentfa,calculations!F238,xcurrenta)","v":1.3787212520710816},{"$f":"IF(calculations!C238<currentfa,calculations!G238,ycurrenta)","v":7.2747243252181724}]
[null,null,null,null,null,null,null,null,null,null,null,233,{"$f":"IF(calculations!C239<currentfa,calculations!F239,xcurrenta)","v":1.3787212520710816},{"$f":"IF(calculations!C239<currentfa,calculations!G239,ycurrenta)","v":7.2747243252181724}]

{"sheet":"time evolution","index":2,"n_rows":0,"n_cols":0,"rows_kept":0,"cut":false,"hidden":false,"merged":[]}